BEGIN:VCALENDAR
VERSION:2.0
PRODID:-//Patriot Guard Riders - ECPv5.3.2.1//NONSGML v1.0//EN
CALSCALE:GREGORIAN
METHOD:PUBLISH
X-WR-CALNAME:Patriot Guard Riders
X-ORIGINAL-URL:https://www.patriotguard.org
X-WR-CALDESC:Events for Patriot Guard Riders
BEGIN:VTIMEZONE
TZID:America/New_York
BEGIN:DAYLIGHT
TZOFFSETFROM:-0500
TZOFFSETTO:-0400
TZNAME:EDT
DTSTART:20170312T070000
END:DAYLIGHT
BEGIN:STANDARD
TZOFFSETFROM:-0400
TZOFFSETTO:-0500
TZNAME:EST
DTSTART:20171105T060000
END:STANDARD
END:VTIMEZONE
BEGIN:VEVENT
DTSTART;TZID=America/New_York:20170525T083000
DTEND;TZID=America/New_York:20170525T103000
DTSTAMP:20210402T040650
CREATED:20170525T123000Z
LAST-MODIFIED:20191201T042942Z
UID:366061-1495701000-1495708200@www.patriotguard.org
SUMMARY:State Mission Request for 25 May 2017 from West Virginia - Richard O. Regester
DESCRIPTION:Submitted by:\nMember Name:   Joe Cumblidge\nPosition:   State Captain\nCity\, State:   Parkersburg\, West Virginia\nUser Name:   ultraclassic\nEmail:   wvugo2001@suddenlink.net\n \nEmail Subject Line Setup\n\nPrefix to Use – Honor\nSubject Line – SHORT NOTICE –  Richard O. Regester \, Veteran\, USA – WWII\,  Clarksburg\, West Virginia  – 25 May 2017\n\n\nSHORT NOTICE!\n\n\n\n\n\n \n\nMod Instructions:\nPlease post in WV and PA forums.\n\n++++++++ Copy the Information above this line++++++++++\n\n \nHonor Mission\n\n*** DO NOT REPLY *** \nThis is an automated message sent to you because you have subscribed to this State’s Mission thread. For current details on this mission\, please follow the link below. \nRichard O. Regester\, Veteran \nUSA  – WWII\nClarksburg\, West Virginia – 25 May 2017\n \n\n\nABOUT THE MISSION:\nThe Patriot Guard Riders have been invited to stand in silent Honor and Respect for T/5 Richard O. Regester\, U.S. Army\, WWII Veteran\, for his final services and interment on Thursday\, 25 May 15.  Richard went to be in the Lord’s Army at 1100 this morning.\n\nPRIMARY STAGING DETAILS:  25 May 2017\n\nPrimary Staging Time:  0930 A.M.\nAmos-Carveli Funeral Home\n201 Edison St.\nClarksburg\, WV\nClarksburg\, West Virginia – 26301\nhttp://tinyurl.com/kx2calu  \n\nRide Captain:\nWV RC Buddy Myers (myersbuddy@hotmail.com) is the designated RCIC of this most Honorable mission.\n\nSpecial Instructions:\nMission brief: 0945. \nFlag line in place NLT 1000 and maintained until start of services. \nAt the conclusion of services\, flag line will be set for Richard’s dignified transfer to the hearse. \nEscort will be provided to the cemetery\, located about 6 miles from the funeral home. \nUpon arrival at the cemetery\, flag line will be set and maintained until the conclusion of graveside services. \nEarly weather forecast is for temperatures near 70 with a 100% chance of showers.  Please dress and travel accordingly. \nUnderstanding this is a work day for many\, won’t you try to join us as we say “Thank You” and “God Speed” to another of America’s Greatest Generation.\n\nFlags & Water:\nFlags Will NOT Be Provided\, Please Bring Your Own.\nLarge Bike Flags will NOT be needed.\nWater WILL NOT be provided\, please bring your own. \nSubmitted By:  Joe Cumblidge\nPosition:  State Captain \n\nNote:\nYou do not have to own/ride a motorcycle or be a Veteran to join and membership is Free. The only requirement is RESPECT! To join\, simply go to www.PatriotGuard.org and click on Register. Membership is Free. \nTo subscribe to receive mission notices\, log into the National Site and click on the Mission Tab at the top. Select Upcoming Missions by State. Scroll to the state(s) you would like to receive notices for and click on the green check mark. Detailed instructions are also located in the FAQs on the site by clicking on the Quick Links Tab and selecting FAQs.
URL:https://www.patriotguard.org/mission/state-mission-request-for-25-may-2017-from-west-virginia-richard-o-regester/
CATEGORIES:Archive
END:VEVENT
END:VCALENDAR