BEGIN:VCALENDAR
VERSION:2.0
PRODID:-//Patriot Guard Riders - ECPv5.3.2.1//NONSGML v1.0//EN
CALSCALE:GREGORIAN
METHOD:PUBLISH
X-WR-CALNAME:Patriot Guard Riders
X-ORIGINAL-URL:https://www.patriotguard.org
X-WR-CALDESC:Events for Patriot Guard Riders
BEGIN:VTIMEZONE
TZID:America/New_York
BEGIN:DAYLIGHT
TZOFFSETFROM:-0500
TZOFFSETTO:-0400
TZNAME:EDT
DTSTART:20170312T070000
END:DAYLIGHT
BEGIN:STANDARD
TZOFFSETFROM:-0400
TZOFFSETTO:-0500
TZNAME:EST
DTSTART:20171105T060000
END:STANDARD
END:VTIMEZONE
BEGIN:VEVENT
DTSTART;TZID=America/New_York:20170525T164500
DTEND;TZID=America/New_York:20170525T184500
DTSTAMP:20210405T184217
CREATED:20170525T204500Z
LAST-MODIFIED:20191201T042928Z
UID:365957-1495730700-1495737900@www.patriotguard.org
SUMMARY:State Mission Request for 25 May 2017 from Alabama - SGT Lindsay A. Rogers
DESCRIPTION:Submitted by:\nMember Name:   Thomas Beeson\nPosition:   Ride Captain\nCity\, State:   Wetumpka\, Alabama\nUser Name:   christianrider\nEmail:   PGR@fcr-mm.org\n \nEmail Subject Line Setup\n\nPrefix to Use – Honor\nSubject Line – SHORT NOTICE –  SGT Lindsay A. Rogers \, Active Duty\, Veteran\, USA \, USAR – WoT\,  MULTI-CITY\, MULTI-STATE  – 25 May 2017\n\n\nSHORT NOTICE!\n\nMULTI-CITY! See Mod Instructions for Details\nMULTI-STATE! See Mod Instructions for Details\n\n\n \n\nMod Instructions:\nThis is the continuation of the mission that starts in California.  (https://www.patriotguard.org/showthread.php?p=5171908)\n\n++++++++ Copy the Information above this line++++++++++\n\n \nHonor Mission\n\n*** DO NOT REPLY *** \nThis is an automated message sent to you because you have subscribed to this State’s Mission thread. For current details on this mission\, please follow the link below. \nSGT Lindsay A. Rogers\, Active Duty\, Veteran \nUSA USAR  – WoT\nMULTI-CITY\, MULTI-STATE – 25 May 2017\n \n\n\nABOUT THE MISSION:\nThe family of SGT Lindsay A. Rogers has requested Patriot Guard Riders to escort and honor their hero’s service. \nSGT Lindsay Rogers has served in the US Army for many years\, transferred to US Army Reserves and was then called back to Active Duty. SGT Rogers served 2 tours in Afghanistan in combat areas fighting the Global War on Terror. \nSGT Rogers was currently residing in California when she was tragically killed by a drunk driver while walking with her fiancée.  SGT Rogers is from the state of Alabama and is returning home for her final roll call. \nPGR will meet and escort SGT Rogers and her family from the airport in Birmingham to the White Chapel Funeral Home in Montgomery.  Airport staging in the cell phone parking lot at 1815 (6:15 p.m.)\n\nPRIMARY STAGING DETAILS:  25 May 2017\n\nPrimary Staging Time:  4:45 P.M.\nEntec Station\n1167 Hwy 14\,\n(I-65 exit #181\nMillbrook\, Alabama – 36054\nhttps://binged.it/2qXnxqp  \n\nRide Captain:\nTommy ‘T-Bird’ Beeson\n334-207-7099\n\nSpecial Instructions:\nMontgomery area riders stage at the Entec in time to be KSU by 4:45\, to ride up to B-ham to meet this hero’s flight home.\n\nFlags & Water:\nFlags Will Not Be Needed\nLarge Bike Flags will NOT be needed.\nWater WILL NOT be provided\, please bring your own. \n\nSTAGING #2 DETAILS:  26 May\, 2017\n\n Staging #2 Time:  10:45 A.M.\nWhite Chapel Funeral Home\n909 Lincoln Rd\nMontgomery\, Alabama – 36109\nhttps://binged.it/2qX2XGP  \n\nRide Captain:\nTommy ‘T-Bird’ Beeson\n334-207-7099\n\nSpecial Instructions:\nWe will stand a flag line for visitation from 11:00 – 12:00 and render graveside honors at the graveside service in Greenwood Cemetery.\n\nFlags & Water:\nFlags Will Be Provided\nLarge Bike Flags will be needed\nWater WILL NOT be provided\, please bring your own. \nSubmitted By:  Thomas Beeson\nPosition:  Ride Captain \n\nNote:\nYou do not have to own/ride a motorcycle or be a Veteran to join and membership is Free. The only requirement is RESPECT! To join\, simply go to www.PatriotGuard.org and click on Register. Membership is Free. \nTo subscribe to receive mission notices\, log into the National Site and click on the Mission Tab at the top. Select Upcoming Missions by State. Scroll to the state(s) you would like to receive notices for and click on the green check mark. Detailed instructions are also located in the FAQs on the site by clicking on the Quick Links Tab and selecting FAQs.
URL:https://www.patriotguard.org/mission/state-mission-request-for-25-may-2017-from-alabama-sgt-lindsay-a-rogers/
CATEGORIES:Archive
END:VEVENT
END:VCALENDAR