BEGIN:VCALENDAR
VERSION:2.0
PRODID:-//Patriot Guard Riders - ECPv5.3.2.1//NONSGML v1.0//EN
CALSCALE:GREGORIAN
METHOD:PUBLISH
X-WR-CALNAME:Patriot Guard Riders
X-ORIGINAL-URL:https://www.patriotguard.org
X-WR-CALDESC:Events for Patriot Guard Riders
BEGIN:VTIMEZONE
TZID:America/New_York
BEGIN:DAYLIGHT
TZOFFSETFROM:-0500
TZOFFSETTO:-0400
TZNAME:EDT
DTSTART:20170312T070000
END:DAYLIGHT
BEGIN:STANDARD
TZOFFSETFROM:-0400
TZOFFSETTO:-0500
TZNAME:EST
DTSTART:20171105T060000
END:STANDARD
END:VTIMEZONE
BEGIN:VEVENT
DTSTART;TZID=America/New_York:20170325T092000
DTEND;TZID=America/New_York:20170325T112000
DTSTAMP:20210404T163226
CREATED:20170325T132000Z
LAST-MODIFIED:20191201T043816Z
UID:370245-1490433600-1490440800@www.patriotguard.org
SUMMARY:State Mission Request for 25 Mar 2017 from Missouri - Charles E.  Moore
DESCRIPTION:Submitted by:\nMember Name:   Mary O’Brien\nPosition:   Ride Captain\nCity\, State:   Saint Charles\, Missouri\nUser Name:   Thefinnagain\nEmail:   Thefinnagain@gmail.com\n \nEmail Subject Line Setup\n\nPrefix to Use – Honor\nSubject Line –   Charles E.  Moore \, Veteran\, USN \, USNR  –  Wentzville\, Missouri  – 25 Mar 2017\n\n\n\nSTATEWIDE REQUIRED!\n\n\n\n\n \n\nMod Instructions:\n\n\n++++++++ Copy the Information above this line++++++++++\n\n \nHonor Mission\n\n*** DO NOT REPLY *** \nThis is an automated message sent to you because you have subscribed to this State’s Mission thread. For current details on this mission\, please follow the link below. \nCharles E.  Moore\, Veteran \nUSN USNR \nWentzville\, Missouri – 25 Mar 2017\n \n\n\nABOUT THE MISSION:\nThe family of Charles Edwin Moore requests the Patriot Guard to stand a tall and silent flag line honoring their Hero and Loved One.  Mr. Moore proudly served in the United States Navy 1955 – 1959 and in the Reserve until 1963.  He was with the Aircraft Early Warning Squadron serving as an Aircraft Engine Mechanic (line).  He received the Good Conduct Medal.\n\nPRIMARY STAGING DETAILS:  25 Mar 2017\n\nPrimary Staging Time:  9:20 A.M.\nPitman Funeral Home\n1545 Wentzville Parkwary\nWentzville\, MO \nThis is a Flag Line only.  No escort. \nForecast:  Rainy.\nCages welcome.\nWentzville\, Missouri –\n  \n\nRide Captain:\nFlags & Support:  Wolfman Reinbold\nR.C.: Mary “Sister Mary” O’Brien. 636.922.4818 the finnagain@aol.com\n\nSpecial Instructions:\n\n\nFlags & Water:\nFlags Will Be Provided\nIf you have large bike flags\, please bring them.\nWater will be provided. \nSubmitted By:  Mary O’Brien\nPosition:  Ride Captain \n\nNote:\nYou do not have to own/ride a motorcycle or be a Veteran to join and membership is Free. The only requirement is RESPECT! To join\, simply go to Patriot Guard website and click on Register. Membership is Free. \nTo subscribe to receive mission notices\, log into the National Site and click on the Mission Tab at the top. Select Upcoming Missions by State. Scroll to the state(s) you would like to receive notices for and click on the green check mark. Detailed instructions are also located in the FAQs on the site by clicking on the Quick Links Tab and selecting FAQs.
URL:https://www.patriotguard.org/mission/state-mission-request-for-25-mar-2017-from-missouri-charles-e-moore/
CATEGORIES:Archive
END:VEVENT
END:VCALENDAR