BEGIN:VCALENDAR
VERSION:2.0
PRODID:-//Patriot Guard Riders - ECPv5.3.2.1//NONSGML v1.0//EN
CALSCALE:GREGORIAN
METHOD:PUBLISH
X-WR-CALNAME:Patriot Guard Riders
X-ORIGINAL-URL:https://www.patriotguard.org
X-WR-CALDESC:Events for Patriot Guard Riders
BEGIN:VTIMEZONE
TZID:America/New_York
BEGIN:DAYLIGHT
TZOFFSETFROM:-0500
TZOFFSETTO:-0400
TZNAME:EDT
DTSTART:20170312T070000
END:DAYLIGHT
BEGIN:STANDARD
TZOFFSETFROM:-0400
TZOFFSETTO:-0500
TZNAME:EST
DTSTART:20171105T060000
END:STANDARD
END:VTIMEZONE
BEGIN:VEVENT
DTSTART;TZID=America/New_York:20170425T113000
DTEND;TZID=America/New_York:20170425T133000
DTSTAMP:20210402T001106
CREATED:20170425T153000Z
LAST-MODIFIED:20191201T043500Z
UID:368643-1493119800-1493127000@www.patriotguard.org
SUMMARY:State Mission Request for 25 Apr 2017 from New York - Eugene A. Brunelle
DESCRIPTION:Submitted by:\nMember Name:   Ray Sestak\nPosition:   Assistant State Captain\nCity\, State:   Glenmont\, New York\nUser Name:   raysestak\nEmail:   rayspgrny@gmail.com\n \nEmail Subject Line Setup\n\nPrefix to Use – Honor\nSubject Line –   Eugene A. Brunelle  –  Rotterdam\, New York  – 25 Apr 2017\n\n\n\n\n\n\n\n\n \n\nMod Instructions:\nMods: \nThis is an update to include Part II\, interment services for previous posting: \nhttps://www.patriotguard.org/showthread.php?430418\n\n++++++++ Copy the Information above this line++++++++++\n\n \nHonor Mission\n\n*** DO NOT REPLY *** \nThis is an automated message sent to you because you have subscribed to this State’s Mission thread. For current details on this mission\, please follow the link below. \nEugene A. Brunelle \n\nRotterdam\, New York – 25 Apr 2017\n \n\n\nABOUT THE MISSION:\nPart Two of this mission will consist of motorized escort\, led by PGR riders from the funeral home to the cemetery\, flag line at the cemetery during interment with full military honors.\n\nPRIMARY STAGING DETAILS:  25 Apr 2017\n\nPrimary Staging Time:  11:30 A.M.\nDeMarco Stone Funeral Home\n1605 Helderberg Ave.\nRotterdam\, New York – 12306\n  \n\nRide Captain:\nLRC:\nRay Sestak\nraysestak@gmail.com \nARC:\nKevin Bradt\na1trucker1@yahoo.com\n\nSpecial Instructions:\nKSU at 12:00 Noon.\n\nFlags & Water:\nFlags Will NOT Be Provided\, Please Bring Your Own.\nIf you have large bike flags\, please bring them.\nWater WILL NOT be provided\, please bring your own. \n\nSTAGING #2 DETAILS:  25 Apr\, 2017\n\n Staging #2 Time:  12:30 P.M.\nWoestina Cemetery\nRiver Road\n(Route 5S)\nRotterdam Junction\, New York – 12150\nhttps://goo.gl/maps/G8xrCTRghGD2  \n\nRide Captain:\nLRC:\nRay Sestak\nraysestak@gmail.com \nARC:\nKevin Bradt\na1trucker1@yahoo.com\n\nSpecial Instructions:\nFor those staging directly at cemetery\, please form flag line graveside for arrival of procession and 1:00 PM interment services with full military honors.\n\nFlags & Water:\nFlags Will NOT Be Provided\, Please Bring Your Own.\nLarge Bike Flags will NOT be needed\nWater WILL NOT be provided\, please bring your own. \nSubmitted By:  Ray Sestak\nPosition:  Assistant State Captain \n\nNote:\nYou do not have to own/ride a motorcycle or be a Veteran to join and membership is Free. The only requirement is RESPECT! To join\, simply go to www.PatriotGuard.org and click on Register. Membership is Free. \nTo subscribe to receive mission notices\, log into the National Site and click on the Mission Tab at the top. Select Upcoming Missions by State. Scroll to the state(s) you would like to receive notices for and click on the green check mark. Detailed instructions are also located in the FAQs on the site by clicking on the Quick Links Tab and selecting FAQs.
URL:https://www.patriotguard.org/mission/state-mission-request-for-25-apr-2017-from-new-york-eugene-a-brunelle/
CATEGORIES:Archive
END:VEVENT
END:VCALENDAR