BEGIN:VCALENDAR
VERSION:2.0
PRODID:-//Patriot Guard Riders - ECPv5.3.2.1//NONSGML v1.0//EN
CALSCALE:GREGORIAN
METHOD:PUBLISH
X-WR-CALNAME:Patriot Guard Riders
X-ORIGINAL-URL:https://www.patriotguard.org
X-WR-CALDESC:Events for Patriot Guard Riders
BEGIN:VTIMEZONE
TZID:America/New_York
BEGIN:DAYLIGHT
TZOFFSETFROM:-0500
TZOFFSETTO:-0400
TZNAME:EDT
DTSTART:20170312T070000
END:DAYLIGHT
BEGIN:STANDARD
TZOFFSETFROM:-0400
TZOFFSETTO:-0500
TZNAME:EST
DTSTART:20171105T060000
END:STANDARD
END:VTIMEZONE
BEGIN:VEVENT
DTSTART;TZID=America/New_York:20170924T104500
DTEND;TZID=America/New_York:20170924T124500
DTSTAMP:20210404T093223
CREATED:20170924T144500Z
LAST-MODIFIED:20191201T041425Z
UID:358315-1506249900-1506257100@www.patriotguard.org
SUMMARY:State Mission Request for 24 Sep 2017 from Nevada - Honor Flight Nevada
DESCRIPTION:Submitted by: \n\nMember Name: Joe Mastroianni\nPosition: State Captain\nCity\, State: Reno\, Nevada\nUser Name: Joemast\nEmail: joemast11@gmail.com\n\nEmail Subject Line Setup\n[HR][/HR]Prefix to Use – Welcome Home\nSubject Line – SHORT NOTICE –  Honor Flight Nevada \, Veteran –  Reno\, Nevada  – 24 Sep 2017\n[HR][/HR] \n\nSHORT NOTICE!\n\nMod Instructions: \n\n\n++++++++ Copy the Information above this line++++++++++ \n\nWelcome Home Mission\n*** DO NOT REPLY ***  \nHonor Flight Nevada\, Veteran\n\nReno\, Nevada – 24 Sep 2017\n\n\n[HR][/HR]\nABOUT THE MISSION: \n\nWe will have an Airport greeting for Honor Flight that will be returning on Sunday\, September 24th at 1135 hrs. We will meet at the Skier Statue\, form our flag line and prepare to welcome home these returning heroes from their trip of a lifetime to Washington D.C. Be there with flags in hand by 1045 hrs. in case the plane is a bit early.\n\n\nPRIMARY STAGING DETAILS:  24 Sep 2017\nPrimary Staging Time: 10:45 A.M. \n\nReno/Tahoe International Airport by the Skier Statue.\nReno\, Nevada –\n\n\nRide Captain: \n\nAssistant State Captain Bill Drummond\nwilldrum50@gmail.com\n\n\nSpecial Instructions: \n\n\n\nFlags & Water: \n\nFlags Will NOT Be Provided\, Please Bring Your Own.\nLarge Bike Flags will NOT be needed.\nWater WILL NOT be provided\, please bring your own.\n\nSubmitted By: Joe Mastroianni\nPosition: State Captain\n[HR][/HR]Note:\nYou do not have to own/ride a motorcycle or be a Veteran to join and membership is Free. The only requirement is RESPECT! To join\, simply go to www.PatriotGuard.org and click on Register. Membership is Free. \nTo subscribe to receive mission notices\, log into the National Site and click on the Mission Tab at the top. Select the Subscribe to Missions option.
URL:https://www.patriotguard.org/mission/state-mission-request-for-24-sep-2017-from-nevada-honor-flight-nevada/
LOCATION:Steven Earl Price
CATEGORIES:Archive
END:VEVENT
END:VCALENDAR