BEGIN:VCALENDAR
VERSION:2.0
PRODID:-//Patriot Guard Riders - ECPv5.3.2.1//NONSGML v1.0//EN
CALSCALE:GREGORIAN
METHOD:PUBLISH
X-WR-CALNAME:Patriot Guard Riders
X-ORIGINAL-URL:https://www.patriotguard.org
X-WR-CALDESC:Events for Patriot Guard Riders
BEGIN:VTIMEZONE
TZID:America/New_York
BEGIN:DAYLIGHT
TZOFFSETFROM:-0500
TZOFFSETTO:-0400
TZNAME:EDT
DTSTART:20170312T070000
END:DAYLIGHT
BEGIN:STANDARD
TZOFFSETFROM:-0400
TZOFFSETTO:-0500
TZNAME:EST
DTSTART:20171105T060000
END:STANDARD
END:VTIMEZONE
BEGIN:VEVENT
DTSTART;TZID=America/New_York:20171024T220000
DTEND;TZID=America/New_York:20171025T000000
DTSTAMP:20210405T205327
CREATED:20171025T020000Z
LAST-MODIFIED:20191201T041242Z
UID:357465-1508882400-1508889600@www.patriotguard.org
SUMMARY:State Mission Request for 24 Oct 2017 from Florida - Honor Flight  Welcome home celebration
DESCRIPTION:Submitted by: \n\nMember Name: Henry Hyde\nPosition: Assistant State Captain\nCity\, State: Ft.Myers\, Florida\nUser Name: Henry Hyde\nEmail: hhydetkd@yahoo.com\n\nEmail Subject Line Setup\n[HR][/HR]Prefix to Use – HOTH\nSubject Line –  Honor Flight  Welcome home celebration \, Veteran\, USA\, USN\, USMC\, USCG\, USAF \, WAAC\, WAC\, WAVES – WWII\, Korea\, Vietnam\,  St. Petrsburg\, Florida  – 24 Oct 2017\n[HR][/HR] \n\n\nMod Instructions: \n\nThanks for all you do\n\n++++++++ Copy the Information above this line++++++++++ \n\nHOTH Mission\n*** DO NOT REPLY ***  \nHonor Flight  Welcome home celebration\, Veteran\nUSA\, USN\, USMC\, USCG\, USAF WAAC\, WAC\, WAVES  – WWII\, Korea\, Vietnam\nSt. Petrsburg\, Florida – 24 Oct 2017\n\n\n[HR][/HR]\nABOUT THE MISSION: \n\nMission 32 Honor Flight of West Central Florida\, The Patriot Guard Riders have  been invited to Stand a Flag Line\, to welcome home Veterans of the Greatest Generation. These Veterans will be going to Washington DC to visit their memorials. We will be standing a Flag Line to welcome these Hero’s back home. Please bring your 3×5 American Flags\, and help to welcome these Great  Americans Home.\n\n\nPRIMARY STAGING DETAILS:  24 Oct 2017\nPrimary Staging Time: 1900 P.M. \n\nSt.Pete- Clearwater Airport\n14700 Terminal Pkwy\nClearwater Fl. 33762\nSt. Petrsburg\, Florida – 33762\n\n\nRide Captain: \n\nThomas (T-Man) Brown\nthomasbrowncpi@gmail.com\n727-667-6029\n\n\nSpecial Instructions: \n\nStage: 1900\nBrief: 1915\nFlag Line : 1930\nWe will stage at Baggage Claim Area\n\n\nFlags & Water: \n\nFlags Will NOT Be Provided\, Please Bring Your Own.\nIf you have large bike flags\, please bring them.\nWater WILL NOT be provided\, please bring your own.\n\nSubmitted By: Henry Hyde\nPosition: Assistant State Captain\n[HR][/HR]Note:\nYou do not have to own/ride a motorcycle or be a Veteran to join and membership is Free. The only requirement is RESPECT! To join\, simply go to www.PatriotGuard.org and click on Register. Membership is Free. \nTo subscribe to receive mission notices\, log into the National Site and click on the Mission Tab at the top. Select the Subscribe to Missions option.
URL:https://www.patriotguard.org/mission/state-mission-request-for-24-oct-2017-from-florida-honor-flight-welcome-home-celebration/
CATEGORIES:Archive
END:VEVENT
END:VCALENDAR