BEGIN:VCALENDAR
VERSION:2.0
PRODID:-//Patriot Guard Riders - ECPv5.3.2.1//NONSGML v1.0//EN
CALSCALE:GREGORIAN
METHOD:PUBLISH
X-WR-CALNAME:Patriot Guard Riders
X-ORIGINAL-URL:https://www.patriotguard.org
X-WR-CALDESC:Events for Patriot Guard Riders
BEGIN:VTIMEZONE
TZID:America/New_York
BEGIN:DAYLIGHT
TZOFFSETFROM:-0500
TZOFFSETTO:-0400
TZNAME:EDT
DTSTART:20170312T070000
END:DAYLIGHT
BEGIN:STANDARD
TZOFFSETFROM:-0400
TZOFFSETTO:-0500
TZNAME:EST
DTSTART:20171105T060000
END:STANDARD
END:VTIMEZONE
BEGIN:VEVENT
DTSTART;TZID=America/New_York:20170524T090000
DTEND;TZID=America/New_York:20170524T110000
DTSTAMP:20210401T221343
CREATED:20170524T130000Z
LAST-MODIFIED:20191201T043012Z
UID:366339-1495616400-1495623600@www.patriotguard.org
SUMMARY:State Mission Request for 24 May 2017 from New Mexico - Edward A. McGough\, III – Major General
DESCRIPTION:Submitted by:\nMember Name:   Daniel Rambow\nPosition:   Ride Captain\nCity\, State:   Rio Rancho\, New Mexico\nUser Name:   dan87124\nEmail:   dan48041@yahoo.com\n \nEmail Subject Line Setup\n\nPrefix to Use – Honor\nSubject Line –   Edward A. McGough\, III – Major General \, Retired\, USA\, USN\, USAF – WWII\, Korea\, Vietnam\,  Albuquerque\, New Mexico  – 24 May 2017\n\n\n\n\n\n\n\n\n \n\nMod Instructions:\n\n\n++++++++ Copy the Information above this line++++++++++\n\n \nHonor Mission\n\n*** DO NOT REPLY *** \nThis is an automated message sent to you because you have subscribed to this State’s Mission thread. For current details on this mission\, please follow the link below. \nEdward A. McGough\, III – Major General\, Retired \nUSA\, USN\, USAF  – WWII\, Korea\, Vietnam\nAlbuquerque\, New Mexico – 24 May 2017\n \n\n\nABOUT THE MISSION:\nThe Patriot Guard Riders of New Mexico have been invited to honor our fallen brother\, Edward McGough. Edward served in the USAF for 33 years\, including the Army Air Corp\, and the USN for 3 years. He was awarded the Distinguished Service Medal with oak leaf cluster; Distinguished Flying Cross with oak leaf cluster; Air Medal with 11 oak leaf clusters; Air Force Commendation Medal; Army Commendation Medal; Distinguished Unit Citation Emblem; the Republic of Vietnam Distinguished Service Order\, 2d Class\, and the Armed Forces Honor Medal\, 1st Class; and the Grand Cross of the Order of Aeronautical Merit (Spain). \nMore at: http://www.frenchfunerals.com/notices/USAFMajorGeneralEdward-McGoughIII\n\nPRIMARY STAGING DETAILS:  24 May 2017\n\nPrimary Staging Time:  09:00 A.M.\nFrench Funerals\n7121 Wyoming Blvd\, NE\nAlbuquerque\, New Mexico –\n  \n\nRide Captain:\nDan Rambow – RC-  dan48041@yahoo.com -505-235-8589 \nLarry “Iron Man” Wiles lwiles@wildblue.net – 505-385-6787\n\nSpecial Instructions:\nBriefing:\n09:15 \nFlagline:  09:30 for 10:00 – Service \nKick Stands Up:\n12:00 +/-  for escort to \nTravel to:\nSanta Fe National Cemetery\n501 N. Guadalupe St.\nSanta Fe\, NM \nFlagline for 1:30 – Honor Services \nFlag and Cage Support: Larry Wiles \nWeather:  Clear 67-70 in Albuquerque\, Clear 63 in  Santa Fe\,  at time of services\n\nFlags & Water:\nFlags Will Be Provided\nLarge Bike Flags will NOT be needed.\nWater will be provided. \nSubmitted By:  Daniel Rambow\nPosition:  Ride Captain \n\nNote:\nYou do not have to own/ride a motorcycle or be a Veteran to join and membership is Free. The only requirement is RESPECT! To join\, simply go to www.PatriotGuard.org and click on Register. Membership is Free. \nTo subscribe to receive mission notices\, log into the National Site and click on the Mission Tab at the top. Select Upcoming Missions by State. Scroll to the state(s) you would like to receive notices for and click on the green check mark. Detailed instructions are also located in the FAQs on the site by clicking on the Quick Links Tab and selecting FAQs.
URL:https://www.patriotguard.org/mission/state-mission-request-for-24-may-2017-from-new-mexico-edward-a-mcgough-iii-major-general/
CATEGORIES:Archive
END:VEVENT
END:VCALENDAR