BEGIN:VCALENDAR
VERSION:2.0
PRODID:-//Patriot Guard Riders - ECPv5.3.2.1//NONSGML v1.0//EN
CALSCALE:GREGORIAN
METHOD:PUBLISH
X-WR-CALNAME:Patriot Guard Riders
X-ORIGINAL-URL:https://www.patriotguard.org
X-WR-CALDESC:Events for Patriot Guard Riders
BEGIN:VTIMEZONE
TZID:America/New_York
BEGIN:DAYLIGHT
TZOFFSETFROM:-0500
TZOFFSETTO:-0400
TZNAME:EDT
DTSTART:20170312T070000
END:DAYLIGHT
BEGIN:STANDARD
TZOFFSETFROM:-0400
TZOFFSETTO:-0500
TZNAME:EST
DTSTART:20171105T060000
END:STANDARD
END:VTIMEZONE
BEGIN:VEVENT
DTSTART;TZID=America/New_York:20170524T123000
DTEND;TZID=America/New_York:20170524T143000
DTSTAMP:20210405T214535
CREATED:20170524T163000Z
LAST-MODIFIED:20191201T043436Z
UID:368474-1495629000-1495636200@www.patriotguard.org
SUMMARY:State Mission Request for 24 May 2017 from California - Lance Cpl Alvin Clark Bryant
DESCRIPTION:Submitted by:\nMember Name:   Jack Morris\nPosition:   Ride Captain\nCity\, State:   Cottonwood\, California\nUser Name:   Jack Morris\nEmail:   jackmo1@earthlink.net\n \nEmail Subject Line Setup\n\nPrefix to Use – Memorial\nSubject Line –   Lance Cpl Alvin Clark Bryant \, Veteran\, USMC  –  Redding\, California  – 24 May 2017\n\n\n\nSTATEWIDE REQUIRED!\n\n\n\n\n \n\nMod Instructions:\n\n\n++++++++ Copy the Information above this line++++++++++\n\n \nMemorial Mission\n\n*** DO NOT REPLY *** \nThis is an automated message sent to you because you have subscribed to this State’s Mission thread. For current details on this mission\, please follow the link below. \nLance Cpl Alvin Clark Bryant\, Veteran \nUSMC \nRedding\, California – 24 May 2017\n \n\n\nABOUT THE MISSION:\nServed from 1962 in Washington State. was awarded  the Good Conduct\nMedal\, National Defense Medal and AFEXP Medal.\n\nPRIMARY STAGING DETAILS:  24 May 2017\n\nPrimary Staging Time:  12:30 P.M.\nBlair’s\n5530 Mountain View Dr.\nRedding\, California – 96003\n  \n\nRide Captain:\nRobert V. Prosser\n10835 Hufford Ranch Road\nWhitmore\, CA 96096\n530-472-3350\nbvprosser@yahoo.com\n\nSpecial Instructions:\n\n\nFlags & Water:\nFlags Will NOT Be Provided\, Please Bring Your Own.\nIf you have large bike flags\, please bring them.\nWater WILL NOT be provided\, please bring your own. \nSubmitted By:  Jack Morris\nPosition:  Ride Captain \n\nNote:\nYou do not have to own/ride a motorcycle or be a Veteran to join and membership is Free. The only requirement is RESPECT! To join\, simply go to www.PatriotGuard.org and click on Register. Membership is Free. \nTo subscribe to receive mission notices\, log into the National Site and click on the Mission Tab at the top. Select Upcoming Missions by State. Scroll to the state(s) you would like to receive notices for and click on the green check mark. Detailed instructions are also located in the FAQs on the site by clicking on the Quick Links Tab and selecting FAQs.
URL:https://www.patriotguard.org/mission/state-mission-request-for-24-may-2017-from-california-lance-cpl-alvin-clark-bryant/
CATEGORIES:Archive
END:VEVENT
END:VCALENDAR