BEGIN:VCALENDAR
VERSION:2.0
PRODID:-//Patriot Guard Riders - ECPv5.3.2.1//NONSGML v1.0//EN
CALSCALE:GREGORIAN
METHOD:PUBLISH
X-WR-CALNAME:Patriot Guard Riders
X-ORIGINAL-URL:https://www.patriotguard.org
X-WR-CALDESC:Events for Patriot Guard Riders
BEGIN:VTIMEZONE
TZID:America/New_York
BEGIN:DAYLIGHT
TZOFFSETFROM:-0500
TZOFFSETTO:-0400
TZNAME:EDT
DTSTART:20170312T070000
END:DAYLIGHT
BEGIN:STANDARD
TZOFFSETFROM:-0400
TZOFFSETTO:-0500
TZNAME:EST
DTSTART:20171105T060000
END:STANDARD
END:VTIMEZONE
BEGIN:VEVENT
DTSTART;TZID=America/New_York:20170324T111500
DTEND;TZID=America/New_York:20170324T131500
DTSTAMP:20210404T171147
CREATED:20170324T151500Z
LAST-MODIFIED:20191201T043822Z
UID:370304-1490354100-1490361300@www.patriotguard.org
SUMMARY:State Mission Request for 24 Mar 2017 from Michigan - Pvt. Danny A. Matzke\, 68
DESCRIPTION:Submitted by:\nMember Name:   Terrence Laurencelle\nPosition:   Ride Captain\nCity\, State:   Sterling Heights\, Michigan\nUser Name:   Vito4343\nEmail:   shpd146@comcast.net\n \nEmail Subject Line Setup\n\nPrefix to Use – Honor\nSubject Line –   Pvt. Danny A. Matzke\, 68 \, Veteran\, USA – Vietnam\,  Holly\, Michigan  – 24 Mar 2017\n\n\n\nSTATEWIDE REQUIRED!\n\n\n\n\n \n\nMod Instructions:\n\n\n++++++++ Copy the Information above this line++++++++++\n\n \nHonor Mission\n\n*** DO NOT REPLY *** \nThis is an automated message sent to you because you have subscribed to this State’s Mission thread. For current details on this mission\, please follow the link below. \nPvt. Danny A. Matzke\, 68\, Veteran \nUSA  – Vietnam\nHolly\, Michigan – 24 Mar 2017\n \n\n\nABOUT THE MISSION:\nThe Family of Danny A. Matzke has invited  the Patriot Guard Riders to stand in honor of his Service to our Country. Danny is predeceased by his father and a brother\, survived by his mother\, 3 daughters\, 2 brothers\, and extended family. Danny was born in Saginaw\, MI on 04 Oct. 1948\, and passed away on 17 March 2017. He served in the United States Army from  26 Sept.1967 to 28 May 1970\, in the 1st Air Cavalry Division\, 8th Engineer Battalion\, Bravo Company\, during the Vietnam War and received the National Defense Service Medal\, Army Commendation Medal\, Vietnam Service Medal  w/ 3 Bronze Service Stars\, Vietnam Campaign Medal\, Air Medal. His MOS was 12B20 Combat Engineer. Burial at Great Lakes National Cemetery on Friday 24 March 2017. \nOBIT: http://www.sharpfuneralhomes.com/obituaries/Danny-A-MATZKE?obId=1491740#/obituaryInfo\n\nPRIMARY STAGING DETAILS:  24 Mar 2017\n\nPrimary Staging Time:  11:15 A.M.\nMcDonald’s\n15187 N. Holly Rd.\nHolly\, Michigan – 48442\nhttps://goo.gl/maps/Xirxr3VBxhG2  \n\nRide Captain:\nBOZ\n586-899-0518\nbjimbugme@att.net\n\nSpecial Instructions:\nStage:       11:15 AM\nBriefing:    11:45 AM\nKSU:         Noon\n\nFlags & Water:\nFlags Will NOT Be Provided\, Please Bring Your Own.\nLarge Bike Flags will NOT be needed.\nWater WILL NOT be provided\, please bring your own. \nSubmitted By:  Terrence Laurencelle\nPosition:  Ride Captain \n\nNote:\nYou do not have to own/ride a motorcycle or be a Veteran to join and membership is Free. The only requirement is RESPECT! To join\, simply go to Patriot Guard website and click on Register. Membership is Free. \nTo subscribe to receive mission notices\, log into the National Site and click on the Mission Tab at the top. Select Upcoming Missions by State. Scroll to the state(s) you would like to receive notices for and click on the green check mark. Detailed instructions are also located in the FAQs on the site by clicking on the Quick Links Tab and selecting FAQs.
URL:https://www.patriotguard.org/mission/state-mission-request-for-24-mar-2017-from-michigan-pvt-danny-a-matzke-68/
CATEGORIES:Archive
END:VEVENT
END:VCALENDAR