BEGIN:VCALENDAR
VERSION:2.0
PRODID:-//Patriot Guard Riders - ECPv5.3.2.1//NONSGML v1.0//EN
CALSCALE:GREGORIAN
METHOD:PUBLISH
X-WR-CALNAME:Patriot Guard Riders
X-ORIGINAL-URL:https://www.patriotguard.org
X-WR-CALDESC:Events for Patriot Guard Riders
BEGIN:VTIMEZONE
TZID:America/New_York
BEGIN:DAYLIGHT
TZOFFSETFROM:-0500
TZOFFSETTO:-0400
TZNAME:EDT
DTSTART:20170312T070000
END:DAYLIGHT
BEGIN:STANDARD
TZOFFSETFROM:-0400
TZOFFSETTO:-0500
TZNAME:EST
DTSTART:20171105T060000
END:STANDARD
END:VTIMEZONE
BEGIN:VEVENT
DTSTART;TZID=America/New_York:20170124T143000
DTEND;TZID=America/New_York:20170124T163000
DTSTAMP:20210404T131838
CREATED:20170124T193000Z
LAST-MODIFIED:20191201T044516Z
UID:373748-1485268200-1485275400@www.patriotguard.org
SUMMARY:State Mission Request for 24 Jan 2017 from Iowa - Danny Floyd Leaver
DESCRIPTION:Submitted by: \n\nMember Name:   Mike Luken\nPosition:   Ride Captain\nCity\, State:   Cherokee\, Iowa\nUser Name:   Moonshot_1\nEmail:   mjluken@ncn.net\n\n\nEmail Subject Line Setup\n===========================\nPrefix to Use – Honor\nSubject Line –   Danny Floyd Leaver \, Veteran\, USAF  –  Sioux City\, Iowa  – 24 Jan 2017 \n=========================== \n\n\nSTATEWIDE REQUIRED! \n\n\nMod Instructions: \n\n\n\n++++++++ Copy the Information below this line++++++++++ \n\n*** DO NOT REPLY *** \nThis is an automated message sent to you because you have subscribed to this State’s Mission thread. For current details on this mission\, please follow the link below.\nPLACE MISSION LINK HERE\n Honor – Danny Floyd Leaver\, Veteran\n    USAF\nSioux City\, Iowa\n24 Jan 2017\n=============================================\n\n\n\nAbout the Mission:\nThe family of Danny Floyd Leaver\, US Air Force has invited the Patriot Guard Riders to Honor Danny’s Life and Service to Our Country. \nA visitation is planned with a Military Rites Ceremony \nDanny’s Celebration of Life is from 3 pm to 7 pm\, Tuesday\, Jan. 24th at Waterbury Funeral Home\, 4125 Orleans Avenue\, Sioux City\, Iowa. \nMilitary Rites Ceremony will be at 4 pm. \nThe PGR will stand a Flag Line from approx. 3 pm till the conclusion of the Military Rites Ceremony. \nThere is no escort as burial will be at a later date. \nPrimary Staging Details:  24 Jan 2017\n \n\nPrimary Staging Time:  2:30 P.M.\nWaterbury Funeral Home\, 4125 Orleans Avenue\, Sioux City\, Iowa.\nSioux City\, Iowa – \n\n\nRide Captain: \n\nLarry “Doc” Foster\nlfosterhd@yahoo.com\n712-251-2701\n\n\nSpecial Instructions: \n\n\n\nFlags: \n\nFlags Will Be Provided\n\n\nLarge Bike Flags will NOT be needed.\n\n\nWater WILL NOT be provided\, please bring your own.\n\n===========================\nNote:\nYou do not have to own/ride a motorcycle or be a Veteran to join and membership is Free. The only requirement is RESPECT! To join\, simply go to www.PatriotGuard.org and click on Register. Membership is Free. \nTo subscribe to receive mission notices\, log into the National Site and click on the Mission Tab at the top. Select Upcoming Missions by State. Scroll to the state(s) you would like to receive notices for and click on the green check mark. Detailed instructions are also located in the FAQs on the site by clicking on the Quick Links Tab and selecting FAQs.
URL:https://www.patriotguard.org/mission/state-mission-request-for-24-jan-2017-from-iowa-danny-floyd-leaver/
CATEGORIES:Archive
END:VEVENT
END:VCALENDAR