BEGIN:VCALENDAR
VERSION:2.0
PRODID:-//Patriot Guard Riders - ECPv5.3.2.1//NONSGML v1.0//EN
CALSCALE:GREGORIAN
METHOD:PUBLISH
X-WR-CALNAME:Patriot Guard Riders
X-ORIGINAL-URL:https://www.patriotguard.org
X-WR-CALDESC:Events for Patriot Guard Riders
BEGIN:VTIMEZONE
TZID:America/New_York
BEGIN:DAYLIGHT
TZOFFSETFROM:-0500
TZOFFSETTO:-0400
TZNAME:EDT
DTSTART:20170312T070000
END:DAYLIGHT
BEGIN:STANDARD
TZOFFSETFROM:-0400
TZOFFSETTO:-0500
TZNAME:EST
DTSTART:20171105T060000
END:STANDARD
END:VTIMEZONE
BEGIN:VEVENT
DTSTART;TZID=America/New_York:20171023T101500
DTEND;TZID=America/New_York:20171023T121500
DTSTAMP:20210404T115640
CREATED:20171023T141500Z
LAST-MODIFIED:20191201T041434Z
UID:358403-1508753700-1508760900@www.patriotguard.org
SUMMARY:State Mission Request for 23 Oct 2017 from California - Donald Alan Nielsen
DESCRIPTION:Submitted by: \n\nMember Name: robert prosser\nPosition: Assistant State Captain\nCity\, State: whitmore\, California\nUser Name: bvprosser\nEmail: bvprosser@yahoo.com\n\nEmail Subject Line Setup\n[HR][/HR]Prefix to Use – Honor\nSubject Line –  Donald Alan Nielsen \, Veteran\, USA  –  Redding\, California  – 23 Oct 2017\n[HR][/HR] \n\n\nMod Instructions: \n\n\n++++++++ Copy the Information above this line++++++++++ \n\nHonor Mission\n*** DO NOT REPLY ***  \nDonald Alan Nielsen\, Veteran\nUSA\nRedding\, California – 23 Oct 2017\n\n\n[HR][/HR]\nABOUT THE MISSION: \n\nPvt Nielsen served as a radio operator.  He served from 1979 to 1982 at Ft. Stewart Georgia.\n\n\nPRIMARY STAGING DETAILS:  23 Oct 2017\nPrimary Staging Time: 1115 A.M. \n\nBonnyview boat ramp east Bonnyview rd west of I-5 on south side of road.\nRedding\, California – 96001\n\n\nRide Captain: \n\nRobert V. Prosser\n10835 Hufford Ranch Road\nWhitmore\, CA  96096\n530 472-3350\nbvprosser@yahoo.com\n\n\nSpecial Instructions: \n\n\n\nFlags & Water: \n\nFlags Will NOT Be Provided\, Please Bring Your Own.\nIf you have large bike flags\, please bring them.\nWater WILL NOT be provided\, please bring your own.\n\nSubmitted By: robert prosser\nPosition: Assistant State Captain\n[HR][/HR]Note:\nYou do not have to own/ride a motorcycle or be a Veteran to join and membership is Free. The only requirement is RESPECT! To join\, simply go to www.PatriotGuard.org and click on Register. Membership is Free. \nTo subscribe to receive mission notices\, log into the National Site and click on the Mission Tab at the top. Select the Subscribe to Missions option.
URL:https://www.patriotguard.org/mission/state-mission-request-for-23-oct-2017-from-california-donald-alan-nielsen/
CATEGORIES:Archive
END:VEVENT
END:VCALENDAR