BEGIN:VCALENDAR
VERSION:2.0
PRODID:-//Patriot Guard Riders - ECPv5.3.2.1//NONSGML v1.0//EN
CALSCALE:GREGORIAN
METHOD:PUBLISH
X-WR-CALNAME:Patriot Guard Riders
X-ORIGINAL-URL:https://www.patriotguard.org
X-WR-CALDESC:Events for Patriot Guard Riders
BEGIN:VTIMEZONE
TZID:America/New_York
BEGIN:DAYLIGHT
TZOFFSETFROM:-0500
TZOFFSETTO:-0400
TZNAME:EDT
DTSTART:20170312T070000
END:DAYLIGHT
BEGIN:STANDARD
TZOFFSETFROM:-0400
TZOFFSETTO:-0500
TZNAME:EST
DTSTART:20171105T060000
END:STANDARD
END:VTIMEZONE
BEGIN:VEVENT
DTSTART;TZID=America/New_York:20170123T121500
DTEND;TZID=America/New_York:20170123T141500
DTSTAMP:20210404T170217
CREATED:20170123T171500Z
LAST-MODIFIED:20191201T044517Z
UID:373760-1485173700-1485180900@www.patriotguard.org
SUMMARY:State Mission Request for 23 Jan 2017 from California - SGT John P. Rodriguez
DESCRIPTION:Submitted by: \n\nMember Name:   Beth Allen\nPosition:   Ride Captain\nCity\, State:   Hemet\, California\nUser Name:   BethieA\nEmail:   bethiewethie909@aol.com\n\n\nEmail Subject Line Setup\n===========================\nPrefix to Use – Honor\nSubject Line –   SGT John P. Rodriguez \, Active Duty\, USA – WoT\,  MULTI-CITY\, California  – 23 Jan 2017 \n=========================== \n\n\nSTATEWIDE REQUIRED!\nMULTI-CITY! See Mod Instructions for Details \n \n\n\nMod Instructions: \n\n1 Staging area\, 2 cities\, originating city Ontario\,CA  to San Jacinto\, CA\n\n\n++++++++ Copy the Information below this line++++++++++ \n\n*** DO NOT REPLY *** \nThis is an automated message sent to you because you have subscribed to this State’s Mission thread. For current details on this mission\, please follow the link below.\nPLACE MISSION LINK HERE\n Honor – SGT John P. Rodriguez\, Active Duty\n    USA  – WoT\nMULTI-CITY\, California\n23 Jan 2017\n=============================================\n\n\n\nAbout the Mission:\nThis will be a 2 part mission \nThe family of SGT John P. Rodriguez\, 23\, and the US Army have invited the Patriot Guard Riders to meet the Hero’s arrival returning home\, and his services.  We will be honored to do so. \nSGT John P. Rodriguez died Jan 12 in Kuwait in a non-combat related incident.  He was assigned to 2nd Engineer Battalion\, 3rd Armored Brigade Combat Team\, 1st Armored Division out of Fort Bliss\, Texas. His unit had been deployed to Kuwait in support of the Global War On Terror. \n“A son\, a husband and a friend to everyone around him\, ‘Rod’ was an amazing person that we all loved\, the post said. Our most heartfelt condolences go out to his family back home.” \n“Our Army family will keep all of them in their prayers and never forget this outstanding patriot. Rod touched the lives of so many of our Soldiers and Veterans over the last couple of years in the unit.” \nRod\, as he was known by family and friends grew up in Hemet\, California. He is survived by his wife\, parents\, siblings and many other family members and friends. \nNOTE: This mission posting is to facilitate your voluntary participation in honoring this American Hero. For those interested\, and all are welcome\, we will be accompanying the hero and his family from the airport to the mortuary (approx 47 miles). Please see the time table if you would like to participate. \nPart 2 on Wednesday\, 25 JAN 17 details TBA \nPrimary Staging Details:  23 Jan 2017\n \n\nPrimary Staging Time:  12:15 P.M.\nGuardian Air Jet Center\,\n1150 S. Vineyard Ave\nOntario\, California – 91761\nhttps://goo.gl/maps/zqaFBSyHhZ92\n\n\nRide Captain: \n\nR/C Craig H Donor\nAKA Gunny\nGySgt USMC (ret)\nCell 909 208 7703\npgrgunny-001@yahoo.com\nPGR SoCal State Captain\n\n\nSpecial Instructions: \n\n1215 – Stage Guardian Air Jet Center\, 1150 S. Vineyard Ave.\, Ontario\, CA 91761 (IMPORTANT: Stage in parking lot just EAST of Guardian Air)   https://goo.gl/maps/zqaFBSyHhZ92 \n1230 – Mission brief \n1245 – Prepare for Flag Line as family arrives \n1300 – Flag Line for family \n1400 – Est Flag Line for dignified transfer of Hero to coach \n1415 – KSU to Miller-Jones Mortuary\, 165 W 7th St.\, San Jacinto\, CA 92583  https://goo.gl/maps/bQ6EH5QWvKA2 \n1530 – Est Arrival at Mortuary and Flag Line for dignified transfer of Hero\n \n\nFlags: \n\nFlags Will NOT Be Provided\, Please Bring Your Own.\n\n\nIf you have large bike flags\, please bring them.\n\n\nWater will be provided.\n\n===========================\nNote:\nYou do not have to own/ride a motorcycle or be a Veteran to join and membership is Free. The only requirement is RESPECT! To join\, simply go to www.PatriotGuard.org and click on Register. Membership is Free. \nTo subscribe to receive mission notices\, log into the National Site and click on the Mission Tab at the top. Select Upcoming Missions by State. Scroll to the state(s) you would like to receive notices for and click on the green check mark. Detailed instructions are also located in the FAQs on the site by clicking on the Quick Links Tab and selecting FAQs.
URL:https://www.patriotguard.org/mission/state-mission-request-for-23-jan-2017-from-california-sgt-john-p-rodriguez/
CATEGORIES:Archive
END:VEVENT
END:VCALENDAR