BEGIN:VCALENDAR
VERSION:2.0
PRODID:-//Patriot Guard Riders - ECPv5.3.2.1//NONSGML v1.0//EN
CALSCALE:GREGORIAN
METHOD:PUBLISH
X-WR-CALNAME:Patriot Guard Riders
X-ORIGINAL-URL:https://www.patriotguard.org
X-WR-CALDESC:Events for Patriot Guard Riders
BEGIN:VTIMEZONE
TZID:America/New_York
BEGIN:DAYLIGHT
TZOFFSETFROM:-0500
TZOFFSETTO:-0400
TZNAME:EDT
DTSTART:20170312T070000
END:DAYLIGHT
BEGIN:STANDARD
TZOFFSETFROM:-0400
TZOFFSETTO:-0500
TZNAME:EST
DTSTART:20171105T060000
END:STANDARD
END:VTIMEZONE
BEGIN:VEVENT
DTSTART;TZID=America/New_York:20170223T091000
DTEND;TZID=America/New_York:20170223T111000
DTSTAMP:20210404T133330
CREATED:20170223T141000Z
LAST-MODIFIED:20191201T044229Z
UID:372446-1487841000-1487848200@www.patriotguard.org
SUMMARY:State Mission Request for 23 Feb 2017 from Arizona - Captain Richard A. Link
DESCRIPTION:Submitted by:\nMember Name:   Mike Sullivan\nPosition:   Assistant State Captain\nCity\, State:   Mesa\, Arizona\nUser Name:   sullyazpgr\nEmail:   sullyazpgr@cox.net\n \nEmail Subject Line Setup\n\nPrefix to Use – Honor\nSubject Line –   Captain Richard A. Link \, Veteran\, USAF \, USAFR – Vietnam\,  Phoenix\, Arizona  – 23 Feb 2017\n\n\n\nSTATEWIDE REQUIRED!\n\n\n\n\n \n\nMod Instructions:\n\n\n++++++++ Copy the Information above this line++++++++++\n\n \nHonor Mission\n\n*** DO NOT REPLY *** \nThis is an automated message sent to you because you have subscribed to this State’s Mission thread. For current details on this mission\, please follow the link below. \nCaptain Richard A. Link\, Veteran \nUSAF USAFR  – Vietnam\nPhoenix\, Arizona – 23 Feb 2017\n \n\n\nABOUT THE MISSION:\nThe family of Captain Richard Link has requested the presence of the Arizona Patriot Guard Riders to stand a flag line for military honors. It will be our honor to participate. \nRichard Link served in the United States Air Force from 1971 to 1977. He served with the 495th Tactical Fighter Squadron as a Weapons System Officer in Vietnam. He was released from active duty in 1975 and was honorably discharged in 1977. \nWhile in the service of his country Captain Link earned the Air Medal with 3 Oak Leaf Clusters\, National Defense Service Medal\, Vietnam Service Medal\, Republic of Vietnam Campaign Medal\, Small Arms Expert Marksmanship Ribbon\, Air Force Service Longevity Award and the Air Force Medal.\n\nPRIMARY STAGING DETAILS:  23 Feb 2017\n\nPrimary Staging Time:  9:10 A.M.\nNational Memorial Cemetery of Arizona (Visitor’s Center)\n23029 N Cave Creek Road\nPhoenix\, Arizona – 85024\n  \n\nRide Captain:\nMike “Sully” Sullivan\, 602-751-1694\, sullyazpgr@cox.net \nFlag Support Vehicle: Karen Swanson\n\nSpecial Instructions:\nBriefing: 9:30 A.M. \nFlag line immediately following briefing at designated shelter. Honor bikes will escort the family car from the visitor’s center to the shelter and we will stand the flag line until completion of Military Honors. Flag line only. \nMilitary Honors: 10:00 A.M.\, National Memorial Cemetery of Arizona\, 23029 N Cave Creek Road\, Phoenix\, AZ 85024\n\nFlags & Water:\nFlags Will Be Provided\nIf you have large bike flags\, please bring them.\nWater will be provided. \nSubmitted By:  Mike Sullivan\nPosition:  Assistant State Captain \n\nNote:\nYou do not have to own/ride a motorcycle or be a Veteran to join and membership is Free. The only requirement is RESPECT! To join\, simply go to Patriot Guard website and click on Register. Membership is Free. \nTo subscribe to receive mission notices\, log into the National Site and click on the Mission Tab at the top. Select Upcoming Missions by State. Scroll to the state(s) you would like to receive notices for and click on the green check mark. Detailed instructions are also located in the FAQs on the site by clicking on the Quick Links Tab and selecting FAQs.
URL:https://www.patriotguard.org/mission/state-mission-request-for-23-feb-2017-from-arizona-captain-richard-a-link/
CATEGORIES:Archive
END:VEVENT
END:VCALENDAR