BEGIN:VCALENDAR
VERSION:2.0
PRODID:-//Patriot Guard Riders - ECPv5.3.2.1//NONSGML v1.0//EN
CALSCALE:GREGORIAN
METHOD:PUBLISH
X-WR-CALNAME:Patriot Guard Riders
X-ORIGINAL-URL:https://www.patriotguard.org
X-WR-CALDESC:Events for Patriot Guard Riders
BEGIN:VTIMEZONE
TZID:America/New_York
BEGIN:DAYLIGHT
TZOFFSETFROM:-0500
TZOFFSETTO:-0400
TZNAME:EDT
DTSTART:20170312T070000
END:DAYLIGHT
BEGIN:STANDARD
TZOFFSETFROM:-0400
TZOFFSETTO:-0500
TZNAME:EST
DTSTART:20171105T060000
END:STANDARD
END:VTIMEZONE
BEGIN:VEVENT
DTSTART;TZID=America/New_York:20170823T054500
DTEND;TZID=America/New_York:20170823T074500
DTSTAMP:20210403T080051
CREATED:20170823T094500Z
LAST-MODIFIED:20191201T041848Z
UID:360655-1503467100-1503474300@www.patriotguard.org
SUMMARY:State Mission Request for 23 Aug 2017 from Washington - Ron Lamoreaux
DESCRIPTION:Submitted by: \n\nMember Name: John Harpe\nPosition: Ride Captain\nCity\, State: Yakima\, Washington\nUser Name: BlackOut\nEmail: h32guy@yahoo.com\n\nEmail Subject Line Setup\n[HR][/HR]Prefix to Use – Memorial\nSubject Line –  Ron Lamoreaux \, Veteran\, USA – Vietnam\,  MULTI-CITY\, MULTI-STATE  – 23 Aug 2017\n[HR][/HR] \n\nMULTI-CITY! See Mod Instructions for Details\nMULTI-STATE! See Mod Instructions for Details\n\nMod Instructions: \n\n\n++++++++ Copy the Information above this line++++++++++ \n\nMemorial Mission\n*** DO NOT REPLY ***  \nRon Lamoreaux\, Veteran\nUSA  – Vietnam\nMULTI-CITY\, MULTI-STATE – 23 Aug 2017\n\n\n[HR][/HR]\nABOUT THE MISSION: \n\nLadies and Gentlemen of the Patriot Guard\, \nWe have been invited by family to honor the life of Ron Lamoreaux SP-5 US Army Vietnam. As an Army Medic from1968-70\, SP-5 Lamoreaux was awarded two Bronze Stars with devices for Bravery and Heroism\, a Purple Heart\, 4 Commendations for Valor\, Vietnam Service Medal\, and Combat Medic Badge. Military Honors will be rendered. This Mission is in coordination with NE Oregon PGR.\n \n\nPRIMARY STAGING DETAILS:  23 Aug 2017\nPrimary Staging Time: 0645 A.M. \n\nPorters Gas 4212 W. 27th Ave\nKennewick\, Washington –\n\n\nRide Captain: \n\nRC John “BlackOut” Harpe\nPGR of Wa SE Dist Capt\n360-643-1720\nh32guy@yahoo.com\n\n\nSpecial Instructions: \n\nStage 0645 \nRide Brief 0715 \nKSU 0730 \nArrive 0830 \nFuneral Flag Line 0915-1000 \nCemetery Flag Line 1040 \nDismissal 1130 aprox\n \n\nFlags & Water: \n\nFlags Will NOT Be Provided\, Please Bring Your Own.\nIf you have large bike flags\, please bring them.\nWater WILL NOT be provided\, please bring your own.\n\nSubmitted By: John Harpe\nPosition: Ride Captain\n[HR][/HR]Note:\nYou do not have to own/ride a motorcycle or be a Veteran to join and membership is Free. The only requirement is RESPECT! To join\, simply go to www.PatriotGuard.org and click on Register. Membership is Free. \nTo subscribe to receive mission notices\, log into the National Site and click on the Mission Tab at the top. Select the Subscribe to Missions option.
URL:https://www.patriotguard.org/mission/state-mission-request-for-23-aug-2017-from-washington-ron-lamoreaux/
CATEGORIES:Archive
END:VEVENT
END:VCALENDAR