BEGIN:VCALENDAR
VERSION:2.0
PRODID:-//Patriot Guard Riders - ECPv5.3.2.1//NONSGML v1.0//EN
CALSCALE:GREGORIAN
METHOD:PUBLISH
X-WR-CALNAME:Patriot Guard Riders
X-ORIGINAL-URL:https://www.patriotguard.org
X-WR-CALDESC:Events for Patriot Guard Riders
BEGIN:VTIMEZONE
TZID:America/New_York
BEGIN:DAYLIGHT
TZOFFSETFROM:-0500
TZOFFSETTO:-0400
TZNAME:EDT
DTSTART:20170312T070000
END:DAYLIGHT
BEGIN:STANDARD
TZOFFSETFROM:-0400
TZOFFSETTO:-0500
TZNAME:EST
DTSTART:20171105T060000
END:STANDARD
END:VTIMEZONE
BEGIN:VEVENT
DTSTART;TZID=America/New_York:20170922T130000
DTEND;TZID=America/New_York:20170922T150000
DTSTAMP:20210405T203121
CREATED:20170922T170000Z
LAST-MODIFIED:20191201T041505Z
UID:358676-1506085200-1506092400@www.patriotguard.org
SUMMARY:State Mission Request for 22 Sep 2017 from Illinois - FR  Thomas P. “Tommy” Riggle
DESCRIPTION:Submitted by: \n\nMember Name: David Gier\nPosition: Ride Captain\nCity\, State: Crestwood\, Illinois\nUser Name: Bike Dave\nEmail: davidbgier@sbcglobal.net\n\nEmail Subject Line Setup\n[HR][/HR]Prefix to Use – Honor\nSubject Line –  FR  Thomas P. “Tommy” Riggle \, Veteran\, USN – Vietnam\,  Elwood\, Illinois  – 22 Sep 2017\n[HR][/HR] \n\n\nMod Instructions: \n\n\n++++++++ Copy the Information above this line++++++++++ \n\nHonor Mission\n*** DO NOT REPLY ***  \nFR  Thomas P. “Tommy” Riggle\, Veteran\nUSN  – Vietnam\nElwood\, Illinois – 22 Sep 2017\n\n\n[HR][/HR]\nABOUT THE MISSION: \n\nFireman Recruit Riggle honorably\, proudly served our country in The Vietnam Conflict. He was also an avid Motorcycle rider.\nTommy’s family has asked the presence of The Patriot Guard to honor him during his burial service.\n\n\nPRIMARY STAGING DETAILS:  22 Sep 2017\nPrimary Staging Time: 1:00 P.M. \n\nALNC\n20953 Hoff Rd\n\,\nElwood\, Illinois –\n\n\nRide Captain: \n\nSRC: bigDave 312 405-2692\n\n\nSpecial Instructions: \n\n\n\nFlags & Water: \n\nFlags Will Be Provided\nIf you have large bike flags\, please bring them.\nWater WILL NOT be provided\, please bring your own.\n\nSubmitted By: David Gier\nPosition: Ride Captain\n[HR][/HR]Note:\nYou do not have to own/ride a motorcycle or be a Veteran to join and membership is Free. The only requirement is RESPECT! To join\, simply go to www.PatriotGuard.org and click on Register. Membership is Free. \nTo subscribe to receive mission notices\, log into the National Site and click on the Mission Tab at the top. Select the Subscribe to Missions option.
URL:https://www.patriotguard.org/mission/state-mission-request-for-22-sep-2017-from-illinois-fr-thomas-p-tommy-riggle/
CATEGORIES:Archive
END:VEVENT
END:VCALENDAR