BEGIN:VCALENDAR
VERSION:2.0
PRODID:-//Patriot Guard Riders - ECPv5.3.2.1//NONSGML v1.0//EN
CALSCALE:GREGORIAN
METHOD:PUBLISH
X-WR-CALNAME:Patriot Guard Riders
X-ORIGINAL-URL:https://www.patriotguard.org
X-WR-CALDESC:Events for Patriot Guard Riders
BEGIN:VTIMEZONE
TZID:America/New_York
BEGIN:DAYLIGHT
TZOFFSETFROM:-0500
TZOFFSETTO:-0400
TZNAME:EDT
DTSTART:20170312T070000
END:DAYLIGHT
BEGIN:STANDARD
TZOFFSETFROM:-0400
TZOFFSETTO:-0500
TZNAME:EST
DTSTART:20171105T060000
END:STANDARD
END:VTIMEZONE
BEGIN:VEVENT
DTSTART;TZID=America/New_York:20170922T111500
DTEND;TZID=America/New_York:20170922T131500
DTSTAMP:20210405T181916
CREATED:20170922T151500Z
LAST-MODIFIED:20191201T041437Z
UID:358427-1506078900-1506086100@www.patriotguard.org
SUMMARY:State Mission Request for 22 Sep 2017 from Georgia - Matthew David Gayler
DESCRIPTION:Submitted by: \n\nMember Name: Darryl Gunter\nPosition: Assistant State Captain\nCity\, State: Acworth\, Georgia\nUser Name: darrylgunter\nEmail: darryl@atlantaboiler.com\n\nEmail Subject Line Setup\n[HR][/HR]Prefix to Use – Memorial\nSubject Line – SHORT NOTICE –  Matthew David Gayler \, Active Duty\, USMC  –  MULTI-CITY\, Georgia  – 22 Sep 2017\n[HR][/HR] \n\nSHORT NOTICE!\nMULTI-CITY! See Mod Instructions for Details\nGRAPHIC ATTACHED! Validate Source Provided.\n\nMod Instructions: \n\n\n++++++++ Copy the Information above this line++++++++++ \n\nMemorial Mission\n*** DO NOT REPLY ***  \nMatthew David Gayler\, Active Duty\nUSMC\nMULTI-CITY\, Georgia – 22 Sep 2017\n\n\n[HR][/HR]\nABOUT THE MISSION: \n\nMajor Matthew David Gayler USMC tragically passed away at the age of 40 on September 8\, 2017. Major Gayler from Kennesaw\, GA was stationed at the Pentagon in Washington\, DC. Major Gayler leaves behind has wife and 3 small children.\n\n\nPRIMARY STAGING DETAILS:  22 Sep 2017\nPrimary Staging Time: 11:15 A.M. \n\nDelta Air Cargo\n1600 MH Jackson Service Rd\nAtlanta\, Georgia – 30054\nhttps://www.bing.com/maps?&ty=18&q=Delta%20Air%20Lines%20Air%20Cargo&ss=ypid.YN873x83751816935819181\n\n\nRide Captain: \n\nDarryl “Big Dog” Gunter\nAssist State Captain\nPGRBigdog@gmail.com\n678-283-2370\n\n\nSpecial Instructions: \n\nThis will be an escort from the airport to West Cobb Funeral Home.\n\n\nFlags & Water: \n\nFlags Will Be Provided\nIf you have large bike flags\, please bring them.\nWater WILL NOT be provided\, please bring your own.\n\n[HR][/HR]STAGING #2 DETAILS: 23 Sep\, 2017\nStaging #2 Time: 12:30 P.M. \n\nBurn’t Hickory Baptist Church\n5145 Due West Rd\nPowder Springs\, Georgia – 30127\nhttps://www.bing.com/maps?&ty=18&q=Burnt%20Hickory%20Baptist%20Church&ss=ypid.YN204x4373403&ppois=33\n\n\nRide Captain: \n\nDarryl “Big Dog” Gunter\nAssist State Captain\nPGRBigDog@gmail.com\n678-283-2370\n\n\nSpecial Instructions: \n\nVisitation: 1:00pm to 3:00pm followed by the service at 3:00pm\n\n\nFlags & Water: \n\nFlags Will Be Provided\nLarge Bike Flags will NOT be needed\nWater WILL NOT be provided\, please bring your own.\n\n\nSubmitted By: Darryl Gunter\nPosition: Assistant State Captain\n[HR][/HR]Note:\nYou do not have to own/ride a motorcycle or be a Veteran to join and membership is Free. The only requirement is RESPECT! To join\, simply go to www.PatriotGuard.org and click on Register. Membership is Free. \nTo subscribe to receive mission notices\, log into the National Site and click on the Mission Tab at the top. Select the Subscribe to Missions option.
URL:https://www.patriotguard.org/mission/state-mission-request-for-22-sep-2017-from-georgia-matthew-david-gayler/
CATEGORIES:Archive
END:VEVENT
END:VCALENDAR