BEGIN:VCALENDAR
VERSION:2.0
PRODID:-//Patriot Guard Riders - ECPv5.3.2.1//NONSGML v1.0//EN
CALSCALE:GREGORIAN
METHOD:PUBLISH
X-WR-CALNAME:Patriot Guard Riders
X-ORIGINAL-URL:https://www.patriotguard.org
X-WR-CALDESC:Events for Patriot Guard Riders
BEGIN:VTIMEZONE
TZID:America/New_York
BEGIN:DAYLIGHT
TZOFFSETFROM:-0500
TZOFFSETTO:-0400
TZNAME:EDT
DTSTART:20170312T070000
END:DAYLIGHT
BEGIN:STANDARD
TZOFFSETFROM:-0400
TZOFFSETTO:-0500
TZNAME:EST
DTSTART:20171105T060000
END:STANDARD
END:VTIMEZONE
BEGIN:VEVENT
DTSTART;TZID=America/New_York:20170722T093000
DTEND;TZID=America/New_York:20170722T113000
DTSTAMP:20210402T040447
CREATED:20170722T133000Z
LAST-MODIFIED:20191201T042314Z
UID:362844-1500715800-1500723000@www.patriotguard.org
SUMMARY:State Mission Request for 22 Jul 2017 from West Virginia - Chris F. Gore
DESCRIPTION:Submitted by:\nMember Name:   Pat Hanifin Sr\nPosition:   Ride Captain\nCity\, State:   Hinton\, West Virginia\nUser Name:   patnpath\nEmail:   patnpath@frontier.com\n \nEmail Subject Line Setup\n\nPrefix to Use – Honor\nSubject Line –   Chris F. Gore \, Veteran\, USN – WWII\,  Alderson\, West Virginia  – 22 Jul 2017\n\n\n\n\n\n\n\n\n \n\nMod Instructions:\n\n\n++++++++ Copy the Information above this line++++++++++\n\n \nHonor Mission\n\n*** DO NOT REPLY *** \nThis is an automated message sent to you because you have subscribed to this State’s Mission thread. For current details on this mission\, please follow the link below. \nChris F. Gore\, Veteran \nUSN  – WWII\nAlderson\, West Virginia – 22 Jul 2017\n \n\n\nABOUT THE MISSION:\nThe family of Chris F. Gore\, US Navy WWII veteran\, has invited the Patriot Guard Riders to participate in final rites for their loved one. Chris is the father of PGR member Mike Gore. This will be a flag line only mission\, and will not require an escort. Please bring a 3 x 5 flag. If not available\, one will be provided.\n\nPRIMARY STAGING DETAILS:  22 Jul 2017\n\nPrimary Staging Time:  9:30 A.M.\nJohnson Memorial United Methodist Church\n104 Monroe Street\nAlderson\, West Virginia – 24910\n  \n\nRide Captain:\nPat Hanifin\, Sr.    304 673-9780\nSr. Ride Captain\n\nSpecial Instructions:\nThe mission brief will be at 9:45 a.m. with a flag line until the service begins at 11:00 a.m.\n\nFlags & Water:\nFlags Will Be Provided\nLarge Bike Flags will NOT be needed.\nWater will be provided. \nSubmitted By:  Pat Hanifin Sr\nPosition:  Ride Captain \n\nNote:\nYou do not have to own/ride a motorcycle or be a Veteran to join and membership is Free. The only requirement is RESPECT! To join\, simply go to www.PatriotGuard.org and click on Register. Membership is Free. \nTo subscribe to receive mission notices\, log into the National Site and click on the Mission Tab at the top. Select Upcoming Missions by State. Scroll to the state(s) you would like to receive notices for and click on the green check mark. Detailed instructions are also located in the FAQs on the site by clicking on the Quick Links Tab and selecting FAQs.
URL:https://www.patriotguard.org/mission/state-mission-request-for-22-jul-2017-from-west-virginia-chris-f-gore/
LOCATION:Harold E. Klote
CATEGORIES:Archive
END:VEVENT
END:VCALENDAR