BEGIN:VCALENDAR
VERSION:2.0
PRODID:-//Patriot Guard Riders - ECPv5.3.2.1//NONSGML v1.0//EN
CALSCALE:GREGORIAN
METHOD:PUBLISH
X-WR-CALNAME:Patriot Guard Riders
X-ORIGINAL-URL:https://www.patriotguard.org
X-WR-CALDESC:Events for Patriot Guard Riders
BEGIN:VTIMEZONE
TZID:America/New_York
BEGIN:DAYLIGHT
TZOFFSETFROM:-0500
TZOFFSETTO:-0400
TZNAME:EDT
DTSTART:20170312T070000
END:DAYLIGHT
BEGIN:STANDARD
TZOFFSETFROM:-0400
TZOFFSETTO:-0500
TZNAME:EST
DTSTART:20171105T060000
END:STANDARD
END:VTIMEZONE
BEGIN:VEVENT
DTSTART;TZID=America/New_York:20170422T103000
DTEND;TZID=America/New_York:20170422T123000
DTSTAMP:20210405T231337
CREATED:20170422T143000Z
LAST-MODIFIED:20191201T043459Z
UID:368641-1492857000-1492864200@www.patriotguard.org
SUMMARY:State Mission Request for 22 Apr 2017 from New York - Martin Mauer
DESCRIPTION:Submitted by:\nMember Name:   Ray Sestak\nPosition:   Ride Captain\nCity\, State:   Glenmont\, New York\nUser Name:   PGRNYMods\nEmail:   pgrnymod@gmail.com\n \nEmail Subject Line Setup\n\nPrefix to Use – Honor\nSubject Line –   Martin Mauer \, Veteran\, USA  –  Sandy Creek\, New York  – 22 Apr 2017\n\n\n\n\n\n\n\n\n \n\nMod Instructions:\n\n\n++++++++ Copy the Information above this line++++++++++\n\n \nHonor Mission\n\n*** DO NOT REPLY *** \nThis is an automated message sent to you because you have subscribed to this State’s Mission thread. For current details on this mission\, please follow the link below. \nMartin Mauer\, Veteran \nUSA \nSandy Creek\, New York – 22 Apr 2017\n \n\n\nABOUT THE MISSION:\nThe family of Martin Mauer\, USAAC (US Army Air Corp)\, has requested the Patriot Guard stand a flag line at his calling hours and then escort to his final resting place. CPT Mauer was a flight commander during WWII and flew over 20 mission in Italy. \nPlease join me in honoring this soldier from the worlds great generation.\nObituary: https://tinyurl.com/l3cw4fo\n\nPRIMARY STAGING DETAILS:  22 Apr 2017\n\nPrimary Staging Time:  10:30 A.M.\nSummerville Funeral Home\n1997 Harwood Dr\nSandy Creek\, New York –\nhttps://tinyurl.com/lwp8nbn  \n\nRide Captain:\nGreg Pluhar\ndarkstarz20@yahoo.com\n315-286-9113\n\nSpecial Instructions:\nWe will stage at the funeral home at 10:30am. Weather is supposed to be nice. An escort to the Woodlawn Cemetery will follow. https://tinyurl.com/lrofqdh \nPlease stand to honor his service to our country at his final farewell. \nThis will be a fairly long mission\, 3 hour calling hours\, small service after\, then escort to cemetery\n\nFlags & Water:\nFlags Will NOT Be Provided\, Please Bring Your Own.\nIf you have large bike flags\, please bring them.\nWater WILL NOT be provided\, please bring your own. \nSubmitted By:  Ray Sestak\nPosition:  Ride Captain \n\nNote:\nYou do not have to own/ride a motorcycle or be a Veteran to join and membership is Free. The only requirement is RESPECT! To join\, simply go to www.PatriotGuard.org and click on Register. Membership is Free. \nTo subscribe to receive mission notices\, log into the National Site and click on the Mission Tab at the top. Select Upcoming Missions by State. Scroll to the state(s) you would like to receive notices for and click on the green check mark. Detailed instructions are also located in the FAQs on the site by clicking on the Quick Links Tab and selecting FAQs.
URL:https://www.patriotguard.org/mission/state-mission-request-for-22-apr-2017-from-new-york-martin-mauer/
CATEGORIES:Archive
END:VEVENT
END:VCALENDAR