BEGIN:VCALENDAR
VERSION:2.0
PRODID:-//Patriot Guard Riders - ECPv5.3.2.1//NONSGML v1.0//EN
CALSCALE:GREGORIAN
METHOD:PUBLISH
X-WR-CALNAME:Patriot Guard Riders
X-ORIGINAL-URL:https://www.patriotguard.org
X-WR-CALDESC:Events for Patriot Guard Riders
BEGIN:VTIMEZONE
TZID:America/New_York
BEGIN:DAYLIGHT
TZOFFSETFROM:-0500
TZOFFSETTO:-0400
TZNAME:EDT
DTSTART:20170312T070000
END:DAYLIGHT
BEGIN:STANDARD
TZOFFSETFROM:-0400
TZOFFSETTO:-0500
TZNAME:EST
DTSTART:20171105T060000
END:STANDARD
END:VTIMEZONE
BEGIN:VEVENT
DTSTART;TZID=America/New_York:20170422T170000
DTEND;TZID=America/New_York:20170422T190000
DTSTAMP:20210406T011850
CREATED:20170422T210000Z
LAST-MODIFIED:20191201T043429Z
UID:368414-1492880400-1492887600@www.patriotguard.org
SUMMARY:State Mission Request for 22 Apr 2017 from Georgia - Gold Star Tribute Wall Opening Ceremony
DESCRIPTION:Submitted by:\nMember Name:   Pamela Long\nPosition:   State HOTH Coordinator\nCity\, State:   Lawrenceville\, Georgia\nUser Name:   keeperofpeace\nEmail:   peabody10_30043@yahoo.com\n \nEmail Subject Line Setup\n\nPrefix to Use – HOTH\nSubject Line –   Gold Star Tribute Wall Opening Ceremony  –  Buford\, Georgia  – 22 Apr 2017\n\n\n\nSTATEWIDE REQUIRED!\n\n\n\n\n \n\nMod Instructions:\n\n\n++++++++ Copy the Information above this line++++++++++\n\n \nHOTH Mission\n\n*** DO NOT REPLY *** \nThis is an automated message sent to you because you have subscribed to this State’s Mission thread. For current details on this mission\, please follow the link below. \nGold Star Tribute Wall Opening Ceremony \n\nBuford\, Georgia – 22 Apr 2017\n \n\n\nABOUT THE MISSION:\nThe Patriot Guard Riders of Ga. have been invited to stand a flag line during the opening ceremony for the Gold Star Tribute Wall which contains the names of every U.S. service member that was killed in action in the Middle East since 9/11/01.  The Wall will stand for 2 days before being re-located. \nThis is a good opportunity to let our Gold Star families know that their loved one is not forgotten. \nFor more information on the wall : www.tributewall.org\n\nPRIMARY STAGING DETAILS:  22 Apr 2017\n\nPrimary Staging Time:  5:00 P.M.\nAmerican Legion Post 127\n2640 Sawnee Avenue\nBuford\, Georgia – 30518\n  \n\nRide Captain:\nPam “KOP” Long\npeabody10_30043@yahoo.com\n770-339-8188 (home)\n404-376-2887 (cell)\n\nSpecial Instructions:\nWe will meet on the front lawn.\n\nFlags & Water:\nFlags Will Be Provided\nLarge Bike Flags will NOT be needed.\nWater will be provided. \nSubmitted By:  Pamela Long\nPosition:  State HOTH Coordinator \n\nNote:\nYou do not have to own/ride a motorcycle or be a Veteran to join and membership is Free. The only requirement is RESPECT! To join\, simply go to www.PatriotGuard.org and click on Register. Membership is Free. \nTo subscribe to receive mission notices\, log into the National Site and click on the Mission Tab at the top. Select Upcoming Missions by State. Scroll to the state(s) you would like to receive notices for and click on the green check mark. Detailed instructions are also located in the FAQs on the site by clicking on the Quick Links Tab and selecting FAQs.
URL:https://www.patriotguard.org/mission/state-mission-request-for-22-apr-2017-from-georgia-gold-star-tribute-wall-opening-ceremony/
CATEGORIES:Archive
END:VEVENT
END:VCALENDAR