BEGIN:VCALENDAR
VERSION:2.0
PRODID:-//Patriot Guard Riders - ECPv5.3.2.1//NONSGML v1.0//EN
CALSCALE:GREGORIAN
METHOD:PUBLISH
X-WR-CALNAME:Patriot Guard Riders
X-ORIGINAL-URL:https://www.patriotguard.org
X-WR-CALDESC:Events for Patriot Guard Riders
BEGIN:VTIMEZONE
TZID:America/New_York
BEGIN:DAYLIGHT
TZOFFSETFROM:-0500
TZOFFSETTO:-0400
TZNAME:EDT
DTSTART:20170312T070000
END:DAYLIGHT
BEGIN:STANDARD
TZOFFSETFROM:-0400
TZOFFSETTO:-0500
TZNAME:EST
DTSTART:20171105T060000
END:STANDARD
END:VTIMEZONE
BEGIN:VEVENT
DTSTART;TZID=America/New_York:20171021T120000
DTEND;TZID=America/New_York:20171021T140000
DTSTAMP:20210403T073905
CREATED:20171021T160000Z
LAST-MODIFIED:20191201T041120Z
UID:356741-1508587200-1508594400@www.patriotguard.org
SUMMARY:State Mission Request for 21 Oct 2017 from Missouri - Donald W. Langston
DESCRIPTION:Submitted by: \n\nMember Name: Douglas Sheraski\nPosition: Ride Captain\nCity\, State: Springfield\, Missouri\nUser Name: 8295home\nEmail: dsheraski@yahoo.com\n\nEmail Subject Line Setup\n[HR][/HR]Prefix to Use – Honor\nSubject Line – SHORT NOTICE –  Donald W. Langston \, Veteran\, USAF  –  Springfield\, Missouri  – 21 Oct 2017\n[HR][/HR] \n\nSHORT NOTICE!\n\nMod Instructions: \n\n\n++++++++ Copy the Information above this line++++++++++ \n\nHonor Mission\n*** DO NOT REPLY ***  \nDonald W. Langston\, Veteran\nUSAF\nSpringfield\, Missouri – 21 Oct 2017\n\n\n[HR][/HR]\nABOUT THE MISSION: \n\nThe family of Donald W. Langston has requested the Patriot Guard Riders help to honor Donald for his service to our country for 22 years.  Lt. Col. Langston joined the USAF and graduated from pilot training with the Aviation Cadets in June 1955 at the top of his class.  During his 22 year career in the Air Force he flew the following aircraft:  B-25\, T-29\, T-33\, BRB-66\, T-37\, T-38 and the F-100.  After his retirement from the Air Force in May 1975 he continued his flying career as a corporate pilot retiring again in 2009 after 25 years with Hutchens Industries.  Lt. Col. Langston flew 52 years for a total of 17\,000 hours. Please join us in showing respect for a true American hero.\n\n\nPRIMARY STAGING DETAILS:  21 Oct 2017\nPrimary Staging Time: 12:00 P.M. \n\nGorman-Scharpf Funeral Home\, Inc.\n1947 East Seminole\nSpringfield\, Missouri – 65804\n\n\nRide Captain: \n\nDoug Sheraski\n417-763-7333\ndsheraski@yahoo.com \n\nFlags:\nCindy Livingston\n816-916-7730\nzenliness@yahoo.com\n\n\nSpecial Instructions: \n\nStaging:  12:00 P.M.\nGorman-Scharpf Funeral Home\, Inc.\nVisitation 12:00-1:00 P.M.\nBriefing:  12:15 P.M.\nFollowed by Flag Line\nService at FH 1:00 P.M.\nEscort following service\nWe will need 6-8 Road Guards for this mission.\nGraveside w/military honors at White Chapel Memorial Gardens\n\n\nFlags & Water: \n\nFlags Will Be Provided\nIf you have large bike flags\, please bring them.\nWater will be provided.\n\nSubmitted By: Douglas Sheraski\nPosition: Ride Captain\n[HR][/HR]Note:\nYou do not have to own/ride a motorcycle or be a Veteran to join and membership is Free. The only requirement is RESPECT! To join\, simply go to www.PatriotGuard.org and click on Register. Membership is Free. \nTo subscribe to receive mission notices\, log into the National Site and click on the Mission Tab at the top. Select the Subscribe to Missions option.
URL:https://www.patriotguard.org/mission/state-mission-request-for-21-oct-2017-from-missouri-donald-w-langston/
CATEGORIES:Archive
END:VEVENT
END:VCALENDAR