BEGIN:VCALENDAR
VERSION:2.0
PRODID:-//Patriot Guard Riders - ECPv5.3.2.1//NONSGML v1.0//EN
CALSCALE:GREGORIAN
METHOD:PUBLISH
X-WR-CALNAME:Patriot Guard Riders
X-ORIGINAL-URL:https://www.patriotguard.org
X-WR-CALDESC:Events for Patriot Guard Riders
BEGIN:VTIMEZONE
TZID:America/New_York
BEGIN:DAYLIGHT
TZOFFSETFROM:-0500
TZOFFSETTO:-0400
TZNAME:EDT
DTSTART:20170312T070000
END:DAYLIGHT
BEGIN:STANDARD
TZOFFSETFROM:-0400
TZOFFSETTO:-0500
TZNAME:EST
DTSTART:20171105T060000
END:STANDARD
END:VTIMEZONE
BEGIN:VEVENT
DTSTART;TZID=America/New_York:20171021T100000
DTEND;TZID=America/New_York:20171021T120000
DTSTAMP:20210401T184133
CREATED:20171021T140000Z
LAST-MODIFIED:20191201T041121Z
UID:356746-1508580000-1508587200@www.patriotguard.org
SUMMARY:State Mission Request for 21 Oct 2017 from Illinois - Perry Garrison
DESCRIPTION:Submitted by: \n\nMember Name: Bridget Krupa\nPosition: Ride Captain\nCity\, State: Oak Lawn\, Illinois\nUser Name: Krupab1\nEmail: Bridget.krupa@gmail.com\n\nEmail Subject Line Setup\n[HR][/HR]Prefix to Use – Honor\nSubject Line –  Perry Garrison \, Veteran\, USAF  –  Westville\, Illinois  – 21 Oct 2017\n[HR][/HR] \n\n\nMod Instructions: \n\n\n++++++++ Copy the Information above this line++++++++++ \n\nHonor Mission\n*** DO NOT REPLY ***  \nPerry Garrison\, Veteran\nUSAF\nWestville\, Illinois – 21 Oct 2017\n\n\n[HR][/HR]\nABOUT THE MISSION: \n\nThe family of Perry Garrison have invited the Patriot Guard to join them for Mr. Garrison’s visitation and funeral service.\nMr. Garrison served in the U.S. Air Force during Vietnam.\n\n\nPRIMARY STAGING DETAILS:  21 Oct 2017\nPrimary Staging Time: 10:00 A.M. \n\nSt. Mary’s Catholic Church\nWestville\, Illinois –\nhttps://www.google.com/maps/place/231+N+State+St\,+Westville\,+IL+61883/@40.0454269\,-87.6405137\,17z/da\n\n\nRide Captain: \n\nRide Captain:* Rick Dailey Jr. * (217) 474-8779\nSupport:* Pete Powell * (217) 304-1967\n\n\nSpecial Instructions: \n\n\n\nFlags & Water: \n\nFlags Will Be Provided\nIf you have large bike flags\, please bring them.\nWater WILL NOT be provided\, please bring your own.\n\nSubmitted By: Bridget Krupa\nPosition: Ride Captain\n[HR][/HR]Note:\nYou do not have to own/ride a motorcycle or be a Veteran to join and membership is Free. The only requirement is RESPECT! To join\, simply go to www.PatriotGuard.org and click on Register. Membership is Free. \nTo subscribe to receive mission notices\, log into the National Site and click on the Mission Tab at the top. Select the Subscribe to Missions option.
URL:https://www.patriotguard.org/mission/state-mission-request-for-21-oct-2017-from-illinois-perry-garrison/
CATEGORIES:Archive
END:VEVENT
END:VCALENDAR