BEGIN:VCALENDAR
VERSION:2.0
PRODID:-//Patriot Guard Riders - ECPv5.3.2.1//NONSGML v1.0//EN
CALSCALE:GREGORIAN
METHOD:PUBLISH
X-WR-CALNAME:Patriot Guard Riders
X-ORIGINAL-URL:https://www.patriotguard.org
X-WR-CALDESC:Events for Patriot Guard Riders
BEGIN:VTIMEZONE
TZID:America/New_York
BEGIN:DAYLIGHT
TZOFFSETFROM:-0500
TZOFFSETTO:-0400
TZNAME:EDT
DTSTART:20170312T070000
END:DAYLIGHT
BEGIN:STANDARD
TZOFFSETFROM:-0400
TZOFFSETTO:-0500
TZNAME:EST
DTSTART:20171105T060000
END:STANDARD
END:VTIMEZONE
BEGIN:VEVENT
DTSTART;TZID=America/New_York:20171021T064500
DTEND;TZID=America/New_York:20171021T084500
DTSTAMP:20210403T031525
CREATED:20171021T104500Z
LAST-MODIFIED:20191201T041140Z
UID:356888-1508568300-1508575500@www.patriotguard.org
SUMMARY:State Mission Request for 21 Oct 2017 from Illinois - Patrick Callahan
DESCRIPTION:Submitted by: \n\nMember Name: Bridget Krupa\nPosition: Ride Captain\nCity\, State: Oak Lawn\, Illinois\nUser Name: Krupab1\nEmail: Bridget.krupa@gmail.com\n\nEmail Subject Line Setup\n[HR][/HR]Prefix to Use – Honor\nSubject Line –  Patrick Callahan \, Veteran\, USA – Vietnam\,  MULTI-CITY\, Illinois  – 21 Oct 2017\n[HR][/HR] \n\nMULTI-CITY! See Mod Instructions for Details\n\nMod Instructions: \n\n\n++++++++ Copy the Information above this line++++++++++ \n\nHonor Mission\n*** DO NOT REPLY ***  \nPatrick Callahan\, Veteran\nUSA  – Vietnam\nMULTI-CITY\, Illinois – 21 Oct 2017\n\n\n[HR][/HR]\nABOUT THE MISSION: \n\nThe family of Patrick Callahan has requested the presence of the Patriot Guard to honor him in all aspects of his funeral. Mr.*Callahan was awarded the National*Defense Service Medal\, the Vietnam Service Medal\, the Army Commendation Medal\, the Sharpshooter Badge with Rifle Bar. He attended the United States Army Training Center at Fort Leonard Wood. Mr. Callahan also was awarded 3 Overseas Service Bars. Please come out and give this veteran the respect he deserves.\n\n\nPRIMARY STAGING DETAILS:  21 Oct 2017\nPrimary Staging Time: 0745 A.M. \n\nMount Auburn Funeral Home\n4101 S. Oak Park Ave.\nStickney\, Illinois –\n\n\nRide Captain: \n\nBridget “Badger” Krupa\n708-368-3907 \n“Recon”\n708-431-6601\n\n\nSpecial Instructions: \n\n\n\nFlags & Water: \n\nFlags Will Be Provided\nIf you have large bike flags\, please bring them.\nWater WILL NOT be provided\, please bring your own.\n\n[HR][/HR]STAGING #2 DETAILS: 21 Oct\, 2017\nStaging #2 Time: 0915 A.M. \n\nSt. Odilo Catholic Church\n2244 East Ave.\nBerwyn\, Illinois –\n\n\nRide Captain: \n\nBridget “Badger” Krupa\n708-368-3907 \nRecon\n708-431-6601\n\n\nSpecial Instructions: \n\n\n\nFlags & Water: \n\nFlags Will Be Provided\nLarge Bike Flags will be needed\nWater WILL NOT be provided\, please bring your own.\n\n[HR][/HR]STAGING #3 DETAILS: 21 Oct\, 2017\nStaging #3 Time: 1030 A.M. \n\nSt. Casimir Cemetery\n4401 W. 111st.\nChicago\, Illinois –\n\n\nRide Captain: \n\n\n\nSpecial Instructions: \n\n\n\nFlags & Water: \n\nFlags Will Be Provided\nLarge Bike Flags will be needed\nWater WILL NOT be provided\, please bring your own.\n\nSubmitted By: Bridget Krupa\nPosition: Ride Captain\n[HR][/HR]Note:\nYou do not have to own/ride a motorcycle or be a Veteran to join and membership is Free. The only requirement is RESPECT! To join\, simply go to www.PatriotGuard.org and click on Register. Membership is Free. \nTo subscribe to receive mission notices\, log into the National Site and click on the Mission Tab at the top. Select the Subscribe to Missions option.
URL:https://www.patriotguard.org/mission/state-mission-request-for-21-oct-2017-from-illinois-patrick-callahan/
CATEGORIES:Archive
END:VEVENT
END:VCALENDAR