BEGIN:VCALENDAR
VERSION:2.0
PRODID:-//Patriot Guard Riders - ECPv5.3.2.1//NONSGML v1.0//EN
CALSCALE:GREGORIAN
METHOD:PUBLISH
X-WR-CALNAME:Patriot Guard Riders
X-ORIGINAL-URL:https://www.patriotguard.org
X-WR-CALDESC:Events for Patriot Guard Riders
BEGIN:VTIMEZONE
TZID:America/New_York
BEGIN:DAYLIGHT
TZOFFSETFROM:-0500
TZOFFSETTO:-0400
TZNAME:EDT
DTSTART:20170312T070000
END:DAYLIGHT
BEGIN:STANDARD
TZOFFSETFROM:-0400
TZOFFSETTO:-0500
TZNAME:EST
DTSTART:20171105T060000
END:STANDARD
END:VTIMEZONE
BEGIN:VEVENT
DTSTART;TZID=America/New_York:20170428T020000
DTEND;TZID=America/New_York:20170428T040000
DTSTAMP:20210403T085836
CREATED:20170428T060000Z
LAST-MODIFIED:20191201T043859Z
UID:370586-1493344800-1493352000@www.patriotguard.org
SUMMARY:State Mission Request for 21 Mar 2017 from Missouri - Ballwin PO M. Flamion Groundbreaking
DESCRIPTION:Submitted by:\nMember Name:   Rick Kroeger\nPosition:   Ride Captain\nCity\, State:   Eureka\, Missouri\nUser Name:   Rickkroeger\nEmail:   rickkroeger@hotmail.com\n \nEmail Subject Line Setup\n\nPrefix to Use – Other\nSubject Line –   Ballwin PO M. Flamion Groundbreaking \, LEO  –  Ballwin\, Missouri  – 21 Mar 2017\n\n\n\nSTATEWIDE REQUIRED!\n\n\n\n\n \n\nMod Instructions:\nMods\,\nPlease post this mission.  Thank you for all you do!\n\n++++++++ Copy the Information above this line++++++++++\n\n \nOther Mission\n\n*** DO NOT REPLY *** \nThis is an automated message sent to you because you have subscribed to this State’s Mission thread. For current details on this mission\, please follow the link below. \nBallwin PO M. Flamion Groundbreaking \nLEO \nBallwin\, Missouri – 21 Mar 2017\n \n\n\nABOUT THE MISSION:\nThe Patriot Guard along with Doc’s Harley Davidson has been invited by the Sinise Foundation to escort the family of Ballwin Police Officer Michael Flamion to the groundbreaking ceremony for the Specially Adapted Smart Home being built for them by the Sinise Foundation.  This is the first home being built by the Sinise Foundation that is not for a member of the military.\nOfficer Flamion was paralyzed when shot during a “routine” traffic stop last year.\n\nPRIMARY STAGING DETAILS:  21 Mar 2017\n\nPrimary Staging Time:  0915 hours A.M.\nHobby Lobby\n14650 Manchester Rd \nApprox 1 mi. west of  Hwy 141 and Manchester Rd on the south side of Manchester Rd.\nBallwin\, Missouri – 63011\n  \n\nRide Captain:\nRide Captain: Rick “Curly” Kroeger\nrickkroeger@hotmail.com\n314.954.3060 \nFlag Support: Jim “1 Gun Shy” Kleszczwski\n\nSpecial Instructions:\nStage at 0915 hours with Ride Meeting to follow at 0930 hours.  We will depart with escort at approximately 1000 hours\n\nFlags & Water:\nFlags Will Be Provided\nIf you have large bike flags\, please bring them.\nWater WILL NOT be provided\, please bring your own. \nSubmitted By:  Rick Kroeger\nPosition:  Ride Captain \n\nNote:\nYou do not have to own/ride a motorcycle or be a Veteran to join and membership is Free. The only requirement is RESPECT! To join\, simply go to Patriot Guard website and click on Register. Membership is Free. \nTo subscribe to receive mission notices\, log into the National Site and click on the Mission Tab at the top. Select Upcoming Missions by State. Scroll to the state(s) you would like to receive notices for and click on the green check mark. Detailed instructions are also located in the FAQs on the site by clicking on the Quick Links Tab and selecting FAQs.
URL:https://www.patriotguard.org/mission/state-mission-request-for-21-mar-2017-from-missouri-ballwin-po-m-flamion-groundbreaking/
CATEGORIES:Archive
END:VEVENT
END:VCALENDAR