BEGIN:VCALENDAR
VERSION:2.0
PRODID:-//Patriot Guard Riders - ECPv5.3.2.1//NONSGML v1.0//EN
CALSCALE:GREGORIAN
METHOD:PUBLISH
X-WR-CALNAME:Patriot Guard Riders
X-ORIGINAL-URL:https://www.patriotguard.org
X-WR-CALDESC:Events for Patriot Guard Riders
BEGIN:VTIMEZONE
TZID:America/New_York
BEGIN:DAYLIGHT
TZOFFSETFROM:-0500
TZOFFSETTO:-0400
TZNAME:EDT
DTSTART:20170312T070000
END:DAYLIGHT
BEGIN:STANDARD
TZOFFSETFROM:-0400
TZOFFSETTO:-0500
TZNAME:EST
DTSTART:20171105T060000
END:STANDARD
END:VTIMEZONE
BEGIN:VEVENT
DTSTART;TZID=America/New_York:20170721T073000
DTEND;TZID=America/New_York:20170721T093000
DTSTAMP:20210401T162059
CREATED:20170721T113000Z
LAST-MODIFIED:20191201T042238Z
UID:362557-1500622200-1500629400@www.patriotguard.org
SUMMARY:State Mission Request for 21 Jul 2017 from Tennessee - Donald R. Orr\, 76
DESCRIPTION:Submitted by:\nMember Name:   David Westhorp\nPosition:   State Captain\nCity\, State:   White House\, Tennessee\nUser Name:   redtag\nEmail:   dcwathome@comcast.net\n \nEmail Subject Line Setup\n\nPrefix to Use – Honor\nSubject Line – SHORT NOTICE –  Donald R. Orr\, 76 \, Veteran\, USA\, USMC – Vietnam\,  Dickson\, Tennessee  – 21 Jul 2017\n\n\nSHORT NOTICE!\n\n\n\n\n\n \n\nMod Instructions:\n\n\n++++++++ Copy the Information above this line++++++++++\n\n \nHonor Mission\n\n*** DO NOT REPLY *** \nThis is an automated message sent to you because you have subscribed to this State’s Mission thread. For current details on this mission\, please follow the link below. \nDonald R. Orr\, 76\, Veteran \nUSA\, USMC  – Vietnam\nDickson\, Tennessee – 21 Jul 2017\n \n\n\nABOUT THE MISSION:\nDonald Orr served in the US Army and in the Marines\, with service in Vietnam.\nVisitation will be from 9-12  AM Saturday July 21 with a Service to follow at noon. Military Honors will be presented at the funeral home.\n\nPRIMARY STAGING DETAILS:  21 Jul 2017\n\nPrimary Staging Time:  0830 A.M.\nSpann Funeral Home\n1962 Hwy 48\nDickson\, Tennessee – 37055\n36.0931\, -87.3763  \n\nRide Captain:\nDavid Westhorp\n(615) 330-5340\n\nSpecial Instructions:\n\n\nFlags & Water:\nFlags Will Be Provided\nIf you have large bike flags\, please bring them.\nWater WILL NOT be provided\, please bring your own. \nSubmitted By:  David Westhorp\nPosition:  State Captain \n\nNote:\nYou do not have to own/ride a motorcycle or be a Veteran to join and membership is Free. The only requirement is RESPECT! To join\, simply go to www.PatriotGuard.org and click on Register. Membership is Free. \nTo subscribe to receive mission notices\, log into the National Site and click on the Mission Tab at the top. Select Upcoming Missions by State. Scroll to the state(s) you would like to receive notices for and click on the green check mark. Detailed instructions are also located in the FAQs on the site by clicking on the Quick Links Tab and selecting FAQs.
URL:https://www.patriotguard.org/mission/state-mission-request-for-21-jul-2017-from-tennessee-donald-r-orr-76/
CATEGORIES:Archive
END:VEVENT
END:VCALENDAR