BEGIN:VCALENDAR
VERSION:2.0
PRODID:-//Patriot Guard Riders - ECPv5.3.2.1//NONSGML v1.0//EN
CALSCALE:GREGORIAN
METHOD:PUBLISH
X-WR-CALNAME:Patriot Guard Riders
X-ORIGINAL-URL:https://www.patriotguard.org
X-WR-CALDESC:Events for Patriot Guard Riders
BEGIN:VTIMEZONE
TZID:America/New_York
BEGIN:DAYLIGHT
TZOFFSETFROM:-0500
TZOFFSETTO:-0400
TZNAME:EDT
DTSTART:20170312T070000
END:DAYLIGHT
BEGIN:STANDARD
TZOFFSETFROM:-0400
TZOFFSETTO:-0500
TZNAME:EST
DTSTART:20171105T060000
END:STANDARD
END:VTIMEZONE
BEGIN:VEVENT
DTSTART;TZID=America/New_York:20170721T120000
DTEND;TZID=America/New_York:20170721T140000
DTSTAMP:20210401T161957
CREATED:20170721T160000Z
LAST-MODIFIED:20191201T042303Z
UID:362762-1500638400-1500645600@www.patriotguard.org
SUMMARY:State Mission Request for 21 Jul 2017 from Oklahoma - Harlan D Gough
DESCRIPTION:Submitted by:\nMember Name:   David Engelhardt\nPosition:   Ride Captain\nCity\, State:   Wilson\, Oklahoma\nUser Name:   dwe\nEmail:   dwe1956@yahoo.com\n \nEmail Subject Line Setup\n\nPrefix to Use – Honor\nSubject Line –   Harlan D Gough \, Retired\, USA \, ARNG – WoT\,  MULTI-CITY\, Oklahoma  – 21 Jul 2017\n\n\n\n\nMULTI-CITY! See Mod Instructions for Details\n\n\n\n \n\nMod Instructions:\n\n\n++++++++ Copy the Information above this line++++++++++\n\n \nHonor Mission\n\n*** DO NOT REPLY *** \nThis is an automated message sent to you because you have subscribed to this State’s Mission thread. For current details on this mission\, please follow the link below. \nHarlan D Gough\, Retired \nUSA ARNG  – WoT\nMULTI-CITY\, Oklahoma – 21 Jul 2017\n \n\n\nABOUT THE MISSION:\n21 July 20017\,SGT Harlan D. Gough\, USA Gulf War veteran\, Marietta\, OK \nThe family of Gulf War veteran Harlan D Gough USA has asked the Patriot Guard Riders to stand at his services. Fri. July 7\, 2017. \nMr. Gough served 24 yrs in the Army\, Air NG\, and the ANG. \nThere is no escort\, this will be graveside services at FSNC in Elgin. \nStaging: 12:00pm Fort Sill National Cemetery \nWeather: Sunny with temps in the mid 90’s \nRCIC\nDavid “sleepy” Engelhardt\nSRC SE OK PGR\n580-319-1312\ndwe1956@yahoo.com\n\nPRIMARY STAGING DETAILS:  21 Jul 2017\n\nPrimary Staging Time:  12:00 P.M.\nFort Sill National Cemetery\,\nElgin\, Oklahoma – 73538\n  \n\nRide Captain:\nDavid “sleepy” Engelhardt\nSRC SE OK PGR\n580-319-1312\ndwe1956@yahoo.com\n\nSpecial Instructions:\n\n\nFlags & Water:\nFlags Will Be Provided\nLarge Bike Flags will NOT be needed.\nWater will be provided. \nSubmitted By:  David Engelhardt\nPosition:  Ride Captain \n\nNote:\nYou do not have to own/ride a motorcycle or be a Veteran to join and membership is Free. The only requirement is RESPECT! To join\, simply go to www.PatriotGuard.org and click on Register. Membership is Free. \nTo subscribe to receive mission notices\, log into the National Site and click on the Mission Tab at the top. Select Upcoming Missions by State. Scroll to the state(s) you would like to receive notices for and click on the green check mark. Detailed instructions are also located in the FAQs on the site by clicking on the Quick Links Tab and selecting FAQs.
URL:https://www.patriotguard.org/mission/state-mission-request-for-21-jul-2017-from-oklahoma-harlan-d-gough/
CATEGORIES:Archive
END:VEVENT
END:VCALENDAR