BEGIN:VCALENDAR
VERSION:2.0
PRODID:-//Patriot Guard Riders - ECPv5.3.2.1//NONSGML v1.0//EN
CALSCALE:GREGORIAN
METHOD:PUBLISH
X-WR-CALNAME:Patriot Guard Riders
X-ORIGINAL-URL:https://www.patriotguard.org
X-WR-CALDESC:Events for Patriot Guard Riders
BEGIN:VTIMEZONE
TZID:America/New_York
BEGIN:DAYLIGHT
TZOFFSETFROM:-0500
TZOFFSETTO:-0400
TZNAME:EDT
DTSTART:20170312T070000
END:DAYLIGHT
BEGIN:STANDARD
TZOFFSETFROM:-0400
TZOFFSETTO:-0500
TZNAME:EST
DTSTART:20171105T060000
END:STANDARD
END:VTIMEZONE
BEGIN:VEVENT
DTSTART;TZID=America/New_York:20170221T123000
DTEND;TZID=America/New_York:20170221T143000
DTSTAMP:20210403T011933
CREATED:20170221T173000Z
LAST-MODIFIED:20191201T044155Z
UID:372134-1487680200-1487687400@www.patriotguard.org
SUMMARY:State Mission Request for 21 Feb 2017 from North Carolina - Lewis Douglas Buckner Jr.
DESCRIPTION:Submitted by:\nMember Name:   Tim Snyder\nPosition:   Ride Captain\nCity\, State:   CONCORD\, North Carolina\nUser Name:   timlsnyder\nEmail:   trssx3@windstream.net\n \nEmail Subject Line Setup\n\nPrefix to Use – Memorial\nSubject Line –   Lewis Douglas Buckner Jr. \, Retired\, USMC – WWII\, Korea\, Vietnam\,  Harrisburg\, North Carolina  – 21 Feb 2017\n\n\n\nSTATEWIDE REQUIRED!\n\n\n\n\n \n\nMod Instructions:\n\n\n++++++++ Copy the Information above this line++++++++++\n\n \nMemorial Mission\n\n*** DO NOT REPLY *** \nThis is an automated message sent to you because you have subscribed to this State’s Mission thread. For current details on this mission\, please follow the link below. \nLewis Douglas Buckner Jr.\, Retired \nUSMC  – WWII\, Korea\, Vietnam\nHarrisburg\, North Carolina – 21 Feb 2017\n \n\n\nABOUT THE MISSION:\nMr. Lewis Douglas Buckner Jr. USMC  E-7 GySgt. \nMr. Buckner served in WW II\, Cuban Missle Crisis\, Korea and Vietnam.  He was ans aircraft mechanic for the Marines.\nHe received The Good Conduct Medal\, and the Sharpshooter badge.\n\nPRIMARY STAGING DETAILS:  21 Feb 2017\n\nPrimary Staging Time:  12:30 P.M.\nCarolina Memorial Park\nHwy 49 N\nHarrisburg\, North Carolina –\n  \n\nRide Captain:\nTim Snyder\nADC Piedmont District\nNC PGR\n704-507-3010\ntrssx3@windstream\,net\n\nSpecial Instructions:\nThis will be a graveside service only.\nFlags will be provided \nStage 12:30\nBrief   12:40\n\nFlags & Water:\nFlags Will Be Provided\nIf you have large bike flags\, please bring them.\nWater WILL NOT be provided\, please bring your own. \nSubmitted By:  Tim Snyder\nPosition:  Ride Captain \n\nNote:\nYou do not have to own/ride a motorcycle or be a Veteran to join and membership is Free. The only requirement is RESPECT! To join\, simply go to Patriot Guard website and click on Register. Membership is Free. \nTo subscribe to receive mission notices\, log into the National Site and click on the Mission Tab at the top. Select Upcoming Missions by State. Scroll to the state(s) you would like to receive notices for and click on the green check mark. Detailed instructions are also located in the FAQs on the site by clicking on the Quick Links Tab and selecting FAQs.
URL:https://www.patriotguard.org/mission/state-mission-request-for-21-feb-2017-from-north-carolina-lewis-douglas-buckner-jr/
LOCATION:Griffith “Griff” Adam Foreman
CATEGORIES:Archive
END:VEVENT
END:VCALENDAR