BEGIN:VCALENDAR
VERSION:2.0
PRODID:-//Patriot Guard Riders - ECPv5.3.2.1//NONSGML v1.0//EN
CALSCALE:GREGORIAN
METHOD:PUBLISH
X-WR-CALNAME:Patriot Guard Riders
X-ORIGINAL-URL:https://www.patriotguard.org
X-WR-CALDESC:Events for Patriot Guard Riders
BEGIN:VTIMEZONE
TZID:America/New_York
BEGIN:DAYLIGHT
TZOFFSETFROM:-0500
TZOFFSETTO:-0400
TZNAME:EDT
DTSTART:20170312T070000
END:DAYLIGHT
BEGIN:STANDARD
TZOFFSETFROM:-0400
TZOFFSETTO:-0500
TZNAME:EST
DTSTART:20171105T060000
END:STANDARD
END:VTIMEZONE
BEGIN:VEVENT
DTSTART;TZID=America/New_York:20170421T093000
DTEND;TZID=America/New_York:20170421T113000
DTSTAMP:20210406T003100
CREATED:20170421T133000Z
LAST-MODIFIED:20191201T043429Z
UID:368409-1492767000-1492774200@www.patriotguard.org
SUMMARY:State Mission Request for 21 Apr 2017 from Tennessee - James Carroll Thorne
DESCRIPTION:Submitted by:\nMember Name:   Johnny Rivera\nPosition:   Assistant State Captain\nCity\, State:   Memphis\, Tennessee\nUser Name:   jr1884519\nEmail:   jr1884519@gmail.com\n \nEmail Subject Line Setup\n\nPrefix to Use – Honor\nSubject Line – SHORT NOTICE –  James Carroll Thorne \, Veteran\, USA  –  Halls\, Tennessee  – 21 Apr 2017\n\n\nSHORT NOTICE!\nSTATEWIDE REQUIRED!\n\n\n\n\n \n\nMod Instructions:\n\n\n++++++++ Copy the Information above this line++++++++++\n\n \nHonor Mission\n\n*** DO NOT REPLY *** \nThis is an automated message sent to you because you have subscribed to this State’s Mission thread. For current details on this mission\, please follow the link below. \nJames Carroll Thorne\, Veteran \nUSA \nHalls\, Tennessee – 21 Apr 2017\n \n\n\nABOUT THE MISSION:\nOur great State of Tennessee and the people of Ripley have lost another Veteran Hero… James Carroll Thorne\, 69\, passed away Tuesday\, April 18\, 2017 at Jackson-Madison Co. General Hospital of Jackson\, TN. He served in the United States Army. Mr. Thorne’s wife\, has invited the Patriot Guard Riders to Honor her husband and the family.\n\nPRIMARY STAGING DETAILS:  21 Apr 2017\n\nPrimary Staging Time:  9:30 A.M.\nHalls Funeral Home\n109 North Church Street\nHalls\, TN\, US\, 38040-0247\nHalls\, Tennessee – 38040-0247\nhttps://goo.gl/maps/TKrrgyEHtrp  \n\nRide Captain:\nJohnny Rivera\njr1884519@gmail.com\n901-488-7537 \nLynne Frazier Overman\nsydelllynne@gmail.com\n901-494-7005\n\nSpecial Instructions:\nPatriot Guard Riders will provide an Honor Flag Line during visitation prior to the funeral service. \nINTERMENT: Follows immediately after the funeral service\, Patriot Guard Riders will escort and provide an Honor Flag line during Military Honors at: Lightfoot Cemetery\, Ripley\, TN 38063 \nWEATHER:\nFRI 21 APR\, THUNDERSTORMS\, 76°\, PRECIP 60%\, WIND SE AT 7MPH\n\nFlags & Water:\nFlags Will Be Provided\nIf you have large bike flags\, please bring them.\nWater WILL NOT be provided\, please bring your own. \nSubmitted By:  Johnny Rivera\nPosition:  Assistant State Captain \n\nNote:\nYou do not have to own/ride a motorcycle or be a Veteran to join and membership is Free. The only requirement is RESPECT! To join\, simply go to www.PatriotGuard.org and click on Register. Membership is Free. \nTo subscribe to receive mission notices\, log into the National Site and click on the Mission Tab at the top. Select Upcoming Missions by State. Scroll to the state(s) you would like to receive notices for and click on the green check mark. Detailed instructions are also located in the FAQs on the site by clicking on the Quick Links Tab and selecting FAQs.
URL:https://www.patriotguard.org/mission/state-mission-request-for-21-apr-2017-from-tennessee-james-carroll-thorne/
CATEGORIES:Archive
END:VEVENT
END:VCALENDAR