BEGIN:VCALENDAR
VERSION:2.0
PRODID:-//Patriot Guard Riders - ECPv5.3.2.1//NONSGML v1.0//EN
CALSCALE:GREGORIAN
METHOD:PUBLISH
X-WR-CALNAME:Patriot Guard Riders
X-ORIGINAL-URL:https://www.patriotguard.org
X-WR-CALDESC:Events for Patriot Guard Riders
BEGIN:VTIMEZONE
TZID:America/New_York
BEGIN:DAYLIGHT
TZOFFSETFROM:-0500
TZOFFSETTO:-0400
TZNAME:EDT
DTSTART:20170312T070000
END:DAYLIGHT
BEGIN:STANDARD
TZOFFSETFROM:-0400
TZOFFSETTO:-0500
TZNAME:EST
DTSTART:20171105T060000
END:STANDARD
END:VTIMEZONE
BEGIN:VEVENT
DTSTART;TZID=America/New_York:20170421T080000
DTEND;TZID=America/New_York:20170421T100000
DTSTAMP:20210401T225859
CREATED:20170421T120000Z
LAST-MODIFIED:20191201T043431Z
UID:368432-1492761600-1492768800@www.patriotguard.org
SUMMARY:State Mission Request for 21 Apr 2017 from New York - Raymond Castillo
DESCRIPTION:Submitted by:\nMember Name:   Ray Sestak\nPosition:   Ride Captain\nCity\, State:   Glenmont\, New York\nUser Name:   PGRNYMods\nEmail:   pgrnymod@gmail.com\n \nEmail Subject Line Setup\n\nPrefix to Use – Honor\nSubject Line – SHORT NOTICE –  Raymond Castillo \, Veteran\, USMC – Korea\,  Shirley\, New York  – 21 Apr 2017\n\n\nSHORT NOTICE!\n\n\n\n\n\n \n\nMod Instructions:\n\n\n++++++++ Copy the Information above this line++++++++++\n\n \nHonor Mission\n\n*** DO NOT REPLY *** \nThis is an automated message sent to you because you have subscribed to this State’s Mission thread. For current details on this mission\, please follow the link below. \nRaymond Castillo\, Veteran \nUSMC  – Korea\nShirley\, New York – 21 Apr 2017\n \n\n\nABOUT THE MISSION:\nRiders & Patriots: We have been asked by the family to stand for Raymond Castillo\, US Marine\, Korean war veteran and a very proud American.\n\nPRIMARY STAGING DETAILS:  21 Apr 2017\n\nPrimary Staging Time:  8:00 A.M.\nRoma Funeral Home\n539 William Floyd Pkwy.\nShirley\, New York –\n  \n\nRide Captain:\nPete Jepson\n631-922-6330\ndoublejli@optonline.net\n\nSpecial Instructions:\nViewing: Friday  04/21/17   8:30 – 10:30 A.M.\nBurial: Directly after viewing\nCalverton National Cemetery\n210 Princeton Blvd.\nCalverton \,NY\nETA 11am\nStage 10:30 with June Jepson \nPlease bring your flags to Calverton as PGR flags very limited. There is no RC for an escort but if any members stand for viewing they can respond ahead to Calverton. Watch for any\nupdates.\n\nFlags & Water:\nFlags Will NOT Be Provided\, Please Bring Your Own.\nIf you have large bike flags\, please bring them.\nWater WILL NOT be provided\, please bring your own. \nSubmitted By:  Ray Sestak\nPosition:  Ride Captain \n\nNote:\nYou do not have to own/ride a motorcycle or be a Veteran to join and membership is Free. The only requirement is RESPECT! To join\, simply go to www.PatriotGuard.org and click on Register. Membership is Free. \nTo subscribe to receive mission notices\, log into the National Site and click on the Mission Tab at the top. Select Upcoming Missions by State. Scroll to the state(s) you would like to receive notices for and click on the green check mark. Detailed instructions are also located in the FAQs on the site by clicking on the Quick Links Tab and selecting FAQs.
URL:https://www.patriotguard.org/mission/state-mission-request-for-21-apr-2017-from-new-york-raymond-castillo/
CATEGORIES:Archive
END:VEVENT
END:VCALENDAR