BEGIN:VCALENDAR
VERSION:2.0
PRODID:-//Patriot Guard Riders - ECPv5.3.2.1//NONSGML v1.0//EN
CALSCALE:GREGORIAN
METHOD:PUBLISH
X-WR-CALNAME:Patriot Guard Riders
X-ORIGINAL-URL:https://www.patriotguard.org
X-WR-CALDESC:Events for Patriot Guard Riders
BEGIN:VTIMEZONE
TZID:America/New_York
BEGIN:DAYLIGHT
TZOFFSETFROM:-0500
TZOFFSETTO:-0400
TZNAME:EDT
DTSTART:20170312T070000
END:DAYLIGHT
BEGIN:STANDARD
TZOFFSETFROM:-0400
TZOFFSETTO:-0500
TZNAME:EST
DTSTART:20171105T060000
END:STANDARD
END:VTIMEZONE
BEGIN:VEVENT
DTSTART;TZID=America/New_York:20170520T123000
DTEND;TZID=America/New_York:20170520T143000
DTSTAMP:20210403T114931
CREATED:20170520T163000Z
LAST-MODIFIED:20191201T043059Z
UID:366724-1495283400-1495290600@www.patriotguard.org
SUMMARY:State Mission Request for 20 May 2017 from West Virginia - S2C Martin W. Kozusnik Sr.
DESCRIPTION:Submitted by:\nMember Name:   Ron Jones\nPosition:   Assistant State Captain\nCity\, State:   Triadelphia\, West Virginia\nUser Name:   ron1ok\nEmail:   ron1ok@comcast.net\n \nEmail Subject Line Setup\n\nPrefix to Use – Honor\nSubject Line –   S2C Martin W. Kozusnik Sr. \, USN – WWII\,  Wheeling\, West Virginia  – 20 May 2017\n\n\n\n\n\n\n\n\n \n\nMod Instructions:\n\n\n++++++++ Copy the Information above this line++++++++++\n\n \nHonor Mission\n\n*** DO NOT REPLY *** \nThis is an automated message sent to you because you have subscribed to this State’s Mission thread. For current details on this mission\, please follow the link below. \nS2C Martin W. Kozusnik Sr. \nUSN  – WWII\nWheeling\, West Virginia – 20 May 2017\n \n\n\nABOUT THE MISSION:\nThe Patriot Guard Riders have been asked to escort Mr. Kozusnik\, and his family\, on his last ride to his final resting place.  We will also stand a flag line for the graveside services. \nS2C Kozusnik was very proud of his service during WWII. \nAs we will be traveling about 5 miles to the Stone Church cemetery\, all riders are encouraged to make sure any bike flags are secure and roadworthy. \nFurther details will be given at the ride briefing. \nAs always\, monitor the weather for proper attire and safe travel\n\nPRIMARY STAGING DETAILS:  20 May 2017\n\nPrimary Staging Time:  12:30 P.M.\nSmitty’s Motorcycle Shop\n3909 Jacob Street\nWheeling\, West Virginia – 26003\n  \n\nRide Captain:\nRon Jones\nWV ASC- North\nron1ok@comcast.net\n\nSpecial Instructions:\nWe will park our vehicles/ bikes across the street in the Swisher parking lot. \nPolice escort will be provided.\n\nFlags & Water:\nFlags Will NOT Be Provided\, Please Bring Your Own.\nIf you have large bike flags\, please bring them.\nWater WILL NOT be provided\, please bring your own. \nSubmitted By:  Ron Jones\nPosition:  Assistant State Captain \n\nNote:\nYou do not have to own/ride a motorcycle or be a Veteran to join and membership is Free. The only requirement is RESPECT! To join\, simply go to www.PatriotGuard.org and click on Register. Membership is Free. \nTo subscribe to receive mission notices\, log into the National Site and click on the Mission Tab at the top. Select Upcoming Missions by State. Scroll to the state(s) you would like to receive notices for and click on the green check mark. Detailed instructions are also located in the FAQs on the site by clicking on the Quick Links Tab and selecting FAQs.
URL:https://www.patriotguard.org/mission/state-mission-request-for-20-may-2017-from-west-virginia-s2c-martin-w-kozusnik-sr/
CATEGORIES:Archive
END:VEVENT
END:VCALENDAR