BEGIN:VCALENDAR
VERSION:2.0
PRODID:-//Patriot Guard Riders - ECPv5.3.2.1//NONSGML v1.0//EN
CALSCALE:GREGORIAN
METHOD:PUBLISH
X-WR-CALNAME:Patriot Guard Riders
X-ORIGINAL-URL:https://www.patriotguard.org
X-WR-CALDESC:Events for Patriot Guard Riders
BEGIN:VTIMEZONE
TZID:America/New_York
BEGIN:DAYLIGHT
TZOFFSETFROM:-0500
TZOFFSETTO:-0400
TZNAME:EDT
DTSTART:20170312T070000
END:DAYLIGHT
BEGIN:STANDARD
TZOFFSETFROM:-0400
TZOFFSETTO:-0500
TZNAME:EST
DTSTART:20171105T060000
END:STANDARD
END:VTIMEZONE
BEGIN:VEVENT
DTSTART;TZID=America/New_York:20170320T154500
DTEND;TZID=America/New_York:20170320T174500
DTSTAMP:20210404T152626
CREATED:20170320T194500Z
LAST-MODIFIED:20191201T043841Z
UID:370454-1490024700-1490031900@www.patriotguard.org
SUMMARY:State Mission Request for 20 Mar 2017 from Tennessee - Michael Gerald Finizia
DESCRIPTION:Submitted by:\nMember Name:   Johnny Rivera\nPosition:   Assistant State Captain\nCity\, State:   Memphis\, Tennessee\nUser Name:   jr1884519\nEmail:   jr1884519@gmail.com\n \nEmail Subject Line Setup\n\nPrefix to Use – Memorial\nSubject Line – SHORT NOTICE –  Michael Gerald Finizia \, Veteran\, USA  –  Bartlett\, Tennessee  – 20 Mar 2017\n\n\nSHORT NOTICE!\nSTATEWIDE REQUIRED!\n\n\n\n\n \n\nMod Instructions:\n\n\n++++++++ Copy the Information above this line++++++++++\n\n \nMemorial Mission\n\n*** DO NOT REPLY *** \nThis is an automated message sent to you because you have subscribed to this State’s Mission thread. For current details on this mission\, please follow the link below. \nMichael Gerald Finizia\, Veteran \nUSA \nBartlett\, Tennessee – 20 Mar 2017\n \n\n\nABOUT THE MISSION:\nOur great State of Tennessee and the people of Bartlett have lost another Veteran Hero… Michael Gerald Finizia\, 85\, of Bartlett\, Tennessee\, passed away Wednesday\, March 15\, 2017. Michael honorably served his country in the United States Army from October 1949 until May 1952. Mr. Finizia’s daughter; has invited the Patriot Guard Riders to honor her father and the family.\n\nPRIMARY STAGING DETAILS:  20 Mar 2017\n\nPrimary Staging Time:  3:45 P.M.\nMemphis Funeral Home and Memorial Gardens\n3700 North Germantown Parkway\nBartlett\, Tennessee – 38133\nhttps://goo.gl/maps/wU5LxzWL37Q2  \n\nRide Captain:\nJohnny Rivera\njr1884519@gmail.com\n901-488-7537 \nRC-IT: Pete Thedford\nthedford15@gamail.com\n901-568-0962\n\nSpecial Instructions:\nVISITATION: 4 – 6 PM\, Monday\, March 20\, 2017. PGR will provide a US Flag line during visitation prior to the Memorial Service \nWEATHER: MON 20 MAR\, SUNNY\, 79° PRECIP 10%\, WIND\, SSW AT 17MPH\n\nFlags & Water:\nFlags Will Be Provided\nLarge Bike Flags will NOT be needed.\nWater WILL NOT be provided\, please bring your own. \nSubmitted By:  Johnny Rivera\nPosition:  Assistant State Captain \n\nNote:\nYou do not have to own/ride a motorcycle or be a Veteran to join and membership is Free. The only requirement is RESPECT! To join\, simply go to Patriot Guard website and click on Register. Membership is Free. \nTo subscribe to receive mission notices\, log into the National Site and click on the Mission Tab at the top. Select Upcoming Missions by State. Scroll to the state(s) you would like to receive notices for and click on the green check mark. Detailed instructions are also located in the FAQs on the site by clicking on the Quick Links Tab and selecting FAQs.
URL:https://www.patriotguard.org/mission/state-mission-request-for-20-mar-2017-from-tennessee-michael-gerald-finizia/
CATEGORIES:Archive
END:VEVENT
END:VCALENDAR