BEGIN:VCALENDAR
VERSION:2.0
PRODID:-//Patriot Guard Riders - ECPv5.3.2.1//NONSGML v1.0//EN
CALSCALE:GREGORIAN
METHOD:PUBLISH
X-WR-CALNAME:Patriot Guard Riders
X-ORIGINAL-URL:https://www.patriotguard.org
X-WR-CALDESC:Events for Patriot Guard Riders
BEGIN:VTIMEZONE
TZID:America/New_York
BEGIN:DAYLIGHT
TZOFFSETFROM:-0500
TZOFFSETTO:-0400
TZNAME:EDT
DTSTART:20170312T070000
END:DAYLIGHT
BEGIN:STANDARD
TZOFFSETFROM:-0400
TZOFFSETTO:-0500
TZNAME:EST
DTSTART:20171105T060000
END:STANDARD
END:VTIMEZONE
BEGIN:VEVENT
DTSTART;TZID=America/New_York:20170120T151500
DTEND;TZID=America/New_York:20170120T171500
DTSTAMP:20210402T004401
CREATED:20170120T201500Z
LAST-MODIFIED:20191201T044549Z
UID:374025-1484925300-1484932500@www.patriotguard.org
SUMMARY:State Mission Request for 20 Jan 2017 from Texas - Ronald Crommie
DESCRIPTION:Submitted by: \n\nMember Name:   Dan Mathys\nPosition:   Ride Captain\nCity\, State:   Arlington\, Texas\nUser Name:   dpmath\nEmail:   pgrdan1@gmail.com\n\n\nEmail Subject Line Setup\n===========================\nPrefix to Use – Honor\nSubject Line –   Ronald Crommie \, Veteran\, USA  –  Dallas\, Texas  – 20 Jan 2017 \n=========================== \n\n \n\n\nMod Instructions: \n\nOnly the first three Riders will be accompanying our Veteran from the staging location and registration is required through NTX website. Riders selected will be provided the staging info for the procession.\n\n\n++++++++ Copy the Information above this line++++++++++ \n\nPrefix to Use – *** DO NOT REPLY *** This is an automated message sent to you because you have subscribed to this State’s Mission thread. For current details on this mission\, please follow the link below.\nPLACE MISSION LINK HERE\n Honor – Ronald Crommie\, Veteran\n    USA\nDallas\, Texas\n20 Jan 2017\n=============================================\n\n\n\nAbout the Mission:\nProcession\, Inurnment Service \nIt is the family’s desire that the Patriot Guard Riders accompany them from the hotel to the Dallas Fort Worth National Cemetery. Mr. Crommie was an avid hunter\, gun enthusiast\, and motorcycle rider. Nature was his church. Therefor they are not having a traditional church service and his remains will be in his Army ammo box to be carried to the vault by his wife \nPrimary Staging Details:  20 Jan 2017\n \n\nPrimary Staging Time:  1215 P.M.\nDallas-Fort Worth National Cemetery\n2000 Mountain Creek Parkway\nDallas\, Texas – 75211\n\n\nRide Captain: \n\nRick Crabb\nrandjcrabb@juno.com\n(910) 330-9861 \nRide Captain # 2:\nBill Kushnir\nbpkush@gte.net\n(214) 995-1536\n\n\nSpecial Instructions: \n\nAfter the Mission Brief\, four designated honor bikes will move to the staging lane and accompany the procession to the Committal Shelter. The remainder of the Riders will proceed to the committal shelter\, establish the Flag Line and prepare to receive the family and friends of Mr. Crommie. When directed the Riders will return the flags to storage\, be debriefed and dismissed.\n\n\nFlags: \n\nFlags Will Be Provided\n\n\nIf you have large bike flags\, please bring them.\n\n\nWater WILL NOT be provided\, please bring your own.\n\n===========================\nNote:\nYou do not have to own/ride a motorcycle or be a Veteran to join and membership is Free. The only requirement is RESPECT! To join\, simply go to www.PatriotGuard.org and click on Register. Membership is Free. \nTo subscribe to receive mission notices\, log into the National Site and click on the Mission Tab at the top. Select Upcoming Missions by State. Scroll to the state(s) you would like to receive notices for and click on the green check mark. Detailed instructions are also located in the FAQs on the site by clicking on the Quick Links Tab and selecting FAQs.
URL:https://www.patriotguard.org/mission/state-mission-request-for-20-jan-2017-from-texas-ronald-crommie/
CATEGORIES:Archive
END:VEVENT
END:VCALENDAR