BEGIN:VCALENDAR
VERSION:2.0
PRODID:-//Patriot Guard Riders - ECPv5.3.2.1//NONSGML v1.0//EN
CALSCALE:GREGORIAN
METHOD:PUBLISH
X-WR-CALNAME:Patriot Guard Riders
X-ORIGINAL-URL:https://www.patriotguard.org
X-WR-CALDESC:Events for Patriot Guard Riders
BEGIN:VTIMEZONE
TZID:America/New_York
BEGIN:DAYLIGHT
TZOFFSETFROM:-0500
TZOFFSETTO:-0400
TZNAME:EDT
DTSTART:20170312T070000
END:DAYLIGHT
BEGIN:STANDARD
TZOFFSETFROM:-0400
TZOFFSETTO:-0500
TZNAME:EST
DTSTART:20171105T060000
END:STANDARD
END:VTIMEZONE
BEGIN:VEVENT
DTSTART;TZID=America/New_York:20170120T133000
DTEND;TZID=America/New_York:20170120T153000
DTSTAMP:20210406T014705
CREATED:20170120T183000Z
LAST-MODIFIED:20191201T044529Z
UID:373863-1484919000-1484926200@www.patriotguard.org
SUMMARY:State Mission Request for 20 Jan 2017 from Missouri - Gary L. HOUGH
DESCRIPTION:Submitted by: \n\nMember Name:   Kent McGregor\nPosition:   Ride Captain\nCity\, State:   Springfield\, Missouri\nUser Name:   Gator49\nEmail:   kent49@aol.com\n\n\nEmail Subject Line Setup\n===========================\nPrefix to Use – Honor\nSubject Line – SHORT NOTICE –  Gary L. HOUGH \, Veteran\, USA \, USAR – Vietnam\,  Springfield\, Missouri  – 20 Jan 2017\n\n=========================== \n\nSHORT NOTICE!\nSTATEWIDE REQUIRED! \n\n\nMod Instructions: \n\n\n\n++++++++ Copy the Information below this line++++++++++ \n\n*** DO NOT REPLY *** \nThis is an automated message sent to you because you have subscribed to this State’s Mission thread. For current details on this mission\, please follow the link below.\nPLACE MISSION LINK HERE\n Honor – Gary L. HOUGH\, Veteran\n    USA USAR  – Vietnam\nSpringfield\, Missouri\n20 Jan 2017\n=============================================\n\n\n\nAbout the Mission:\nTSgt HOUGH served in the USA and USAR from 1967-1973. He received the Bronze Star\, the National Defense Service Medal\, Vietnam Service Medal with Bronze Star\, Rep o Vietnam Campaign Medal w/dev 60\, and the Good Conduct Medal. \nPrimary Staging Details:  20 Jan 2017 \n\nPrimary Staging Time:  1:30 P.M.\nWalnut Lawn Funeral Home\n2001 W. Walnut Lawn\nSpringfield\, Missouri – 65804 \n\n\nRide Captain: \n\nRCIC Doug Sheraski\n(417) 763-7333\ndsheraski@yahoo.com \nSrRC Kent McGregor\n(850) 544-6616\nmcgregor.kent@gmail.com \nFlag Support\nTBD\n\n\nSpecial Instructions: \n\nSTAGE: 1:30p\, Fri\, 20 Jan. 17\, Walnut Lawn FH\, 2001 W. Walnut Lawn\, Spg\nBRIEF: 1:45p\, Fri. 20 Jan 17\, Walnut Lawn FH\nFLAG LINE: Immed. following briefing\nSERVICE: 2:30p\, Fri. 20 Jan. 17\, Walnut Lawn FH\nESCORT: from Walnut Lawn to Greenlawn Memorail Cem\, 3600 N. National\, Spg\, MO\n\n\nFlags: \n\nFlags Will Be Provided\n\n\nIf you have large bike flags\, please bring them.\n\n\nWater will be provided.\n\n===========================\nNote:\nYou do not have to own/ride a motorcycle or be a Veteran to join and membership is Free. The only requirement is RESPECT! To join\, simply go to www.PatriotGuard.org and click on Register. Membership is Free. \nTo subscribe to receive mission notices\, log into the National Site and click on the Mission Tab at the top. Select Upcoming Missions by State. Scroll to the state(s) you would like to receive notices for and click on the green check mark. Detailed instructions are also located in the FAQs on the site by clicking on the Quick Links Tab and selecting FAQs.
URL:https://www.patriotguard.org/mission/state-mission-request-for-20-jan-2017-from-missouri-gary-l-hough/
CATEGORIES:Archive
END:VEVENT
END:VCALENDAR