BEGIN:VCALENDAR
VERSION:2.0
PRODID:-//Patriot Guard Riders - ECPv5.3.2.1//NONSGML v1.0//EN
CALSCALE:GREGORIAN
METHOD:PUBLISH
X-WR-CALNAME:Patriot Guard Riders
X-ORIGINAL-URL:https://www.patriotguard.org
X-WR-CALDESC:Events for Patriot Guard Riders
BEGIN:VTIMEZONE
TZID:America/New_York
BEGIN:DAYLIGHT
TZOFFSETFROM:-0500
TZOFFSETTO:-0400
TZNAME:EDT
DTSTART:20170312T070000
END:DAYLIGHT
BEGIN:STANDARD
TZOFFSETFROM:-0400
TZOFFSETTO:-0500
TZNAME:EST
DTSTART:20171105T060000
END:STANDARD
END:VTIMEZONE
BEGIN:VEVENT
DTSTART;TZID=America/New_York:20170120T090000
DTEND;TZID=America/New_York:20170120T110000
DTSTAMP:20210404T132630
CREATED:20170120T140000Z
LAST-MODIFIED:20191201T044544Z
UID:373989-1484902800-1484910000@www.patriotguard.org
SUMMARY:State Mission Request for 20 Jan 2017 from Iowa - Robert Richard Lenz
DESCRIPTION:Submitted by: \n\nMember Name:   Scott Rathjens\nPosition:   Ride Captain\nCity\, State:   Springville\, Iowa\nUser Name:   RATMAN66\nEmail:   sdarath3@gmail.com\n\n\nEmail Subject Line Setup\n===========================\nPrefix to Use – Honor\nSubject Line –   Robert Richard Lenz \, Retired\, Veteran\, USA \, ANG  –  Osage\, Iowa  – 20 Jan 2017 \n=========================== \n\n\nSTATEWIDE REQUIRED! \n\n\nMod Instructions: \n\nNone\n\n\n++++++++ Copy the Information above this line++++++++++ \n\nPrefix to Use – *** DO NOT REPLY *** This is an automated message sent to you because you have subscribed to this State’s Mission thread. For current details on this mission\, please follow the link below.\nPLACE MISSION LINK HERE\n Honor – Robert Richard Lenz\, Retired\, Veteran\n    USA ANG\nOsage\, Iowa\n20 Jan 2017\n=============================================\n\n\n\nAbout the Mission:\nThe Patriot Guard Riders have been invited to show Honor and Respect for Robert Richard Lenz\, who served in the Iowa Army National Guard from 1966 until his retirement from the National Guard in 1990\, at his funeral service to be held on 20 January 2017 at 10:30 AM. \nPrimary Staging Details:  20 Jan 2017\n \n\nPrimary Staging Time:  9:00 A.M.\nFirst United Methodist Church\n819 Main St\nOsage\, Iowa – 50461\nMap URL: https://goo.gl/maps/3q9puD5Lrrj\n\n\nRide Captain: \n\nTim Houts\n(319) 268-1206\nthouts@cfu.net\n\n\nSpecial Instructions: \n\nBurial: Osage Cemetery\n\n\nFlags: \n\nFlags Will Be Provided\n\n\nLarge Bike Flags will NOT be needed.\n\n\nWater WILL NOT be provided\, please bring your own.\n\n===========================\nNote:\nYou do not have to own/ride a motorcycle or be a Veteran to join and membership is Free. The only requirement is RESPECT! To join\, simply go to www.PatriotGuard.org and click on Register. Membership is Free. \nTo subscribe to receive mission notices\, log into the National Site and click on the Mission Tab at the top. Select Upcoming Missions by State. Scroll to the state(s) you would like to receive notices for and click on the green check mark. Detailed instructions are also located in the FAQs on the site by clicking on the Quick Links Tab and selecting FAQs.
URL:https://www.patriotguard.org/mission/state-mission-request-for-20-jan-2017-from-iowa-robert-richard-lenz/
CATEGORIES:Archive
END:VEVENT
END:VCALENDAR