BEGIN:VCALENDAR
VERSION:2.0
PRODID:-//Patriot Guard Riders - ECPv5.3.2.1//NONSGML v1.0//EN
CALSCALE:GREGORIAN
METHOD:PUBLISH
X-WR-CALNAME:Patriot Guard Riders
X-ORIGINAL-URL:https://www.patriotguard.org
X-WR-CALDESC:Events for Patriot Guard Riders
BEGIN:VTIMEZONE
TZID:America/New_York
BEGIN:DAYLIGHT
TZOFFSETFROM:-0500
TZOFFSETTO:-0400
TZNAME:EDT
DTSTART:20170312T070000
END:DAYLIGHT
BEGIN:STANDARD
TZOFFSETFROM:-0400
TZOFFSETTO:-0500
TZNAME:EST
DTSTART:20171105T060000
END:STANDARD
END:VTIMEZONE
BEGIN:VEVENT
DTSTART;TZID=America/New_York:20170220T103000
DTEND;TZID=America/New_York:20170220T123000
DTSTAMP:20210403T084957
CREATED:20170220T153000Z
LAST-MODIFIED:20191201T044207Z
UID:372251-1487586600-1487593800@www.patriotguard.org
SUMMARY:State Mission Request for 20 Feb 2017 from Kentucky - Larry D. Clark
DESCRIPTION:Submitted by:\nMember Name:   James Johnson\nPosition:   Ride Captain\nCity\, State:   Hudson\, Kentucky\nUser Name:   roughriverdan\nEmail:   roughriverdan@yahoo.com\n \nEmail Subject Line Setup\n\nPrefix to Use – Honor\nSubject Line –   Larry D. Clark \, Veteran\, USN – Vietnam\,  Radcliff\, Kentucky  – 20 Feb 2017\n\n\n\nSTATEWIDE REQUIRED!\n\n\n\n\n \n\nMod Instructions:\n\n\n++++++++ Copy the Information above this line++++++++++\n\n \nHonor Mission\n\n*** DO NOT REPLY *** \nThis is an automated message sent to you because you have subscribed to this State’s Mission thread. For current details on this mission\, please follow the link below. \nLarry D. Clark\, Veteran \nUSN  – Vietnam\nRadcliff\, Kentucky – 20 Feb 2017\n \n\n\nABOUT THE MISSION:\nKentucky has lost another hero ….. \nLarry D. Clark\nUS Navy\nVietnam Veteran \nWe have been asked and will stand in his honor at his final resting place at the Kentucky Veterans Cemetery Central.  Mr Clark has no known family.  Please stand for our brother. \nMONDAY 20 FEB 2017\nKentucky Veterans Cemetery Central (KVCC)\n2501 North Dixie Boulevard\nRadcliff\, KY 40160 \n10:30 PM EST Stage and Stake Flags\n11:00 PM Committal Service Begins \nPlease be prepared for the weather conditions and Ride Safely.  Please stage at the main building to the right as you enter the Cemetery and move forward as requested by the Ride Captain. This will ensure we do not disturb any other services taking place. \nRIDE CAPTAIN(S)\nAngela Smith smith.paul@twc.com \nJames (Danny) Johnson\, Senior Ride Captain\, roughriverdan@yahoo.com \nThomas Epperly\, Assistant State Captain\, thomas.epperly@roadrunner.com\nTom Folsom\, State Captain\, Patriot Guard Rider\, http://www.pgrofky.com/\n\nPRIMARY STAGING DETAILS:  20 Feb 2017\n\nPrimary Staging Time:  10:30 A.M.\nKentucky Veterans Cemetery Central\n2501 North Dixie Highway\nRadcliff\, Kentucky – 40160\n  \n\nRide Captain:\nAngela Smith\nsmith.paul@twc.com\n\nSpecial Instructions:\n\n\nFlags & Water:\nFlags Will Be Provided\nLarge Bike Flags will NOT be needed.\nWater WILL NOT be provided\, please bring your own. \nSubmitted By:  James Johnson\nPosition:  Ride Captain \n\nNote:\nYou do not have to own/ride a motorcycle or be a Veteran to join and membership is Free. The only requirement is RESPECT! To join\, simply go to Patriot Guard website and click on Register. Membership is Free. \nTo subscribe to receive mission notices\, log into the National Site and click on the Mission Tab at the top. Select Upcoming Missions by State. Scroll to the state(s) you would like to receive notices for and click on the green check mark. Detailed instructions are also located in the FAQs on the site by clicking on the Quick Links Tab and selecting FAQs.
URL:https://www.patriotguard.org/mission/state-mission-request-for-20-feb-2017-from-kentucky-larry-d-clark/
CATEGORIES:Archive
END:VEVENT
END:VCALENDAR