BEGIN:VCALENDAR
VERSION:2.0
PRODID:-//Patriot Guard Riders - ECPv5.3.2.1//NONSGML v1.0//EN
CALSCALE:GREGORIAN
METHOD:PUBLISH
X-WR-CALNAME:Patriot Guard Riders
X-ORIGINAL-URL:https://www.patriotguard.org
X-WR-CALDESC:Events for Patriot Guard Riders
BEGIN:VTIMEZONE
TZID:America/New_York
BEGIN:DAYLIGHT
TZOFFSETFROM:-0500
TZOFFSETTO:-0400
TZNAME:EDT
DTSTART:20170312T070000
END:DAYLIGHT
BEGIN:STANDARD
TZOFFSETFROM:-0400
TZOFFSETTO:-0500
TZNAME:EST
DTSTART:20171105T060000
END:STANDARD
END:VTIMEZONE
BEGIN:VEVENT
DTSTART;TZID=America/New_York:20170420T073000
DTEND;TZID=America/New_York:20170420T093000
DTSTAMP:20210401T210859
CREATED:20170420T113000Z
LAST-MODIFIED:20191201T043435Z
UID:368464-1492673400-1492680600@www.patriotguard.org
SUMMARY:State Mission Request for 20 Apr 2017 from New York - Henry Eugene Chew
DESCRIPTION:Submitted by:\nMember Name:   Ray Sestak\nPosition:   Ride Captain\nCity\, State:   Glenmont\, New York\nUser Name:   PGRNYMods\nEmail:   pgrnymod@gmail.com\n \nEmail Subject Line Setup\n\nPrefix to Use – Honor\nSubject Line – SHORT NOTICE –  Henry Eugene Chew \, Veteran\, USAF  –  MULTI-CITY\, New York  – 20 Apr 2017\n\n\nSHORT NOTICE!\n\nMULTI-CITY! See Mod Instructions for Details\n\n\n\n \n\nMod Instructions:\n\n\n++++++++ Copy the Information above this line++++++++++\n\n \nHonor Mission\n\n*** DO NOT REPLY *** \nThis is an automated message sent to you because you have subscribed to this State’s Mission thread. For current details on this mission\, please follow the link below. \nHenry Eugene Chew\, Veteran \nUSAF \nMULTI-CITY\, New York – 20 Apr 2017\n \n\n\nABOUT THE MISSION:\nRiders & Patriots: We have been requested to stand for Henry Eugene Chew\, US Air Force Veteran.\n\nPRIMARY STAGING DETAILS:  20 Apr 2017\n\nPrimary Staging Time:  0830 A.M.\nMemorial Baptist Church\n141 W. 115thSt.\,\nManhattan\, New York –\n  \n\nRide Captain:\nRC Wayne Cohen*\n516-729-9869\n\nSpecial Instructions:\nViewing/Service:\nThursday 4/20/17\n9am to 10am\nMass at 10am\nMemorial Baptist Church\n141 W. 115thSt.\,\nManhattan \, NY\n****************************\nBurial:* Calverton National Cemetery\nRt. 25 \, Calverton \, NY\nETA 2pm\nRC Wayne Cohen* 1-516-729-9869 is escorting this veteran from the church. There will be a staging at the new rest area Exit 52 LIE at 12:45pm for members who wish to join the escort. Contact RC Wayne so he knows he can join up.\n\nFlags & Water:\nFlags Will NOT Be Provided\, Please Bring Your Own.\nIf you have large bike flags\, please bring them.\nWater WILL NOT be provided\, please bring your own. \nSubmitted By:  Ray Sestak\nPosition:  Ride Captain \n\nNote:\nYou do not have to own/ride a motorcycle or be a Veteran to join and membership is Free. The only requirement is RESPECT! To join\, simply go to www.PatriotGuard.org and click on Register. Membership is Free. \nTo subscribe to receive mission notices\, log into the National Site and click on the Mission Tab at the top. Select Upcoming Missions by State. Scroll to the state(s) you would like to receive notices for and click on the green check mark. Detailed instructions are also located in the FAQs on the site by clicking on the Quick Links Tab and selecting FAQs.
URL:https://www.patriotguard.org/mission/state-mission-request-for-20-apr-2017-from-new-york-henry-eugene-chew/
LOCATION:Saneyuki “Sonny” Nakamoto
CATEGORIES:Archive
END:VEVENT
END:VCALENDAR