BEGIN:VCALENDAR
VERSION:2.0
PRODID:-//Patriot Guard Riders - ECPv5.3.2.1//NONSGML v1.0//EN
CALSCALE:GREGORIAN
METHOD:PUBLISH
X-WR-CALNAME:Patriot Guard Riders
X-ORIGINAL-URL:https://www.patriotguard.org
X-WR-CALDESC:Events for Patriot Guard Riders
BEGIN:VTIMEZONE
TZID:America/New_York
BEGIN:DAYLIGHT
TZOFFSETFROM:-0500
TZOFFSETTO:-0400
TZNAME:EDT
DTSTART:20170312T070000
END:DAYLIGHT
BEGIN:STANDARD
TZOFFSETFROM:-0400
TZOFFSETTO:-0500
TZNAME:EST
DTSTART:20171105T060000
END:STANDARD
END:VTIMEZONE
BEGIN:VEVENT
DTSTART;TZID=America/New_York:20171019T080000
DTEND;TZID=America/New_York:20171019T100000
DTSTAMP:20210404T094506
CREATED:20171019T120000Z
LAST-MODIFIED:20191201T041114Z
UID:356690-1508400000-1508407200@www.patriotguard.org
SUMMARY:State Mission Request for 19 Oct 2017 from Oklahoma - 1st LT James '
DESCRIPTION:Submitted by: \n\nMember Name: Jay Clark\nPosition: Ride Captain\nCity\, State: Geary\, Oklahoma\nUser Name: jclark\nEmail: jaybo_pgr@yahoo.com\n\nEmail Subject Line Setup\n[HR][/HR]Prefix to Use – Honor\nSubject Line – SHORT NOTICE –  1st LT James ‘ \, USA  –  Enid\, Oklahoma  – 19 Oct 2017\n[HR][/HR] \n\nSHORT NOTICE!\n\nMod Instructions: \n\nI posted this mission on the morning of 10-18-17.    It never got confirmed.   Please\, allow this mission to be a confirmed mission.\nI went to the computer the morning of the mission…to print off condolences and nothing was there. \nThanks for your consideration on getting out this confirmed mission. \nRespectufully\,\nJay (Jaybo) Clark\nASC NW PGR\njaybo_pgr@yahoo.com\n\n++++++++ Copy the Information above this line++++++++++ \n\nHonor Mission\n*** DO NOT REPLY ***  \n1st LT James ‘\nUSA\nEnid\, Oklahoma – 19 Oct 2017\n\n\n[HR][/HR]\nABOUT THE MISSION: \n\n19 OCT 17-1st Lt James Wesley Dodson\, USA/AirCorps\, Veteran WWII\, Enid\, OK \nThe family of USA/AirCorps WWII Veteran\,1st Lt. James Wesley Dodson has asked the PGR to stand a\nFlagline at his services to be held on 19 October 2017 at Enid\, OK\, 73703 \nServices will be held at Ladusau-Evans Funeral Home\nEnid\, OK at 1000.  Interment will follow at Memorial Park Cemetery\,  N. on Hwy 81. Enid\, OK. \nStaging:  0900\nLadusau-Evans Funeral Home\n2800 N. Van Buren\nEnid\, OK 73703 \nMandatory Breifing:  0915\nRiders must attend if riding in escort \nKSU:    Completion of Services \nWeather:  Temps in the 60’s \n\nRCIC\nJay (Jaybo) Clark\nAssistant State Captain\nPatriot Guard Riders\nNorthwest Oklahoma\njaybo_pgr@yahoo.com \nAssisting SRC Don Eck\noklahomavet@gmail.com\n\n\nPRIMARY STAGING DETAILS:  19 Oct 2017\nPrimary Staging Time: 0900 A.M. \n\nLadusau-Evans Funeral Home\n2800 N. Van Buren\nEnid\, Oklahoma – 73703\n\n\nRide Captain: \n\nRCIC\nJay (Jaybo) Clark\nAssistant State Captain\nPatriot Guard Riders\nNorthwest Oklahoma\njaybo_pgr@yahoo.com \nAssisting SRC Don Eck\noklahomavet@gmail.com\n\n\nSpecial Instructions: \n\n\n\nFlags & Water: \n\nFlags Will Be Provided\nIf you have large bike flags\, please bring them.\nWater WILL NOT be provided\, please bring your own.\n\nSubmitted By: Jay Clark\nPosition: Ride Captain\n[HR][/HR]Note:\nYou do not have to own/ride a motorcycle or be a Veteran to join and membership is Free. The only requirement is RESPECT! To join\, simply go to www.PatriotGuard.org and click on Register. Membership is Free. \nTo subscribe to receive mission notices\, log into the National Site and click on the Mission Tab at the top. Select the Subscribe to Missions option.
URL:https://www.patriotguard.org/mission/state-mission-request-for-19-oct-2017-from-oklahoma-1st-lt-james/
CATEGORIES:Archive
END:VEVENT
END:VCALENDAR