BEGIN:VCALENDAR
VERSION:2.0
PRODID:-//Patriot Guard Riders - ECPv5.3.2.1//NONSGML v1.0//EN
CALSCALE:GREGORIAN
METHOD:PUBLISH
X-WR-CALNAME:Patriot Guard Riders
X-ORIGINAL-URL:https://www.patriotguard.org
X-WR-CALDESC:Events for Patriot Guard Riders
BEGIN:VTIMEZONE
TZID:America/New_York
BEGIN:DAYLIGHT
TZOFFSETFROM:-0500
TZOFFSETTO:-0400
TZNAME:EDT
DTSTART:20170312T070000
END:DAYLIGHT
BEGIN:STANDARD
TZOFFSETFROM:-0400
TZOFFSETTO:-0500
TZNAME:EST
DTSTART:20171105T060000
END:STANDARD
END:VTIMEZONE
BEGIN:VEVENT
DTSTART;TZID=America/New_York:20170619T150000
DTEND;TZID=America/New_York:20170619T170000
DTSTAMP:20210402T012527
CREATED:20170619T190000Z
LAST-MODIFIED:20191201T042649Z
UID:364665-1497884400-1497891600@www.patriotguard.org
SUMMARY:State Mission Request for 19 Jun 2017 from New York - Frank M. Coburn
DESCRIPTION:Submitted by:\nMember Name:   Ray Sestak\nPosition:   Ride Captain\nCity\, State:   Glenmont\, New York\nUser Name:   PGRNYMods\nEmail:   pgrnymod@gmail.com\n \nEmail Subject Line Setup\n\nPrefix to Use – Honor\nSubject Line – SHORT NOTICE –  Frank M. Coburn \, Veteran\, USA – WWII\,  Amherst\, New York  – 19 Jun 2017\n\n\nSHORT NOTICE!\n\n\n\n\n\n \n\nMod Instructions:\n\n\n++++++++ Copy the Information above this line++++++++++\n\n \nHonor Mission\n\n*** DO NOT REPLY *** \nThis is an automated message sent to you because you have subscribed to this State’s Mission thread. For current details on this mission\, please follow the link below. \nFrank M. Coburn\, Veteran \nUSA  – WWII\nAmherst\, New York – 19 Jun 2017\n \n\n\nABOUT THE MISSION:\nWe have been requested by US Navy Chief Petty Officer Ed Jones to stand in Honor of his Grandfather\, Frank Coburn. Mr Coburn served with the US Army 501st Field Artillery during WWII in the European Theater of Operations\, and was Honorably discharged with the rank of Corporal.\n\nPRIMARY STAGING DETAILS:  19 Jun 2017\n\nPrimary Staging Time:  3:00 P.M.\nLombardo Funeral Home\n899 Niagara Falls Blvd.\n(Near Eggert & Sheridan Drive)\nAmherst\, New York – 14226\n  \n\nRide Captain:\nSteve Kovacik\nSmkkova@yahoo.com\n\nSpecial Instructions:\nThis is a Flag Line during the 4:00-7:00 Calling Hours & Service.  Please arrive with a clean 3×5 American Flag or US Army flag\, and dress for the weather. \nNo escort\, no Cemetery involved.  Please help stand for whatever time you’re able in Honor of the WWII service of Mr. Coburn\, and in support of his loving family.\n\nFlags & Water:\nFlags Will NOT Be Provided\, Please Bring Your Own.\nLarge Bike Flags will NOT be needed.\nWater WILL NOT be provided\, please bring your own. \nSubmitted By:  Ray Sestak\nPosition:  Ride Captain \n\nNote:\nYou do not have to own/ride a motorcycle or be a Veteran to join and membership is Free. The only requirement is RESPECT! To join\, simply go to www.PatriotGuard.org and click on Register. Membership is Free. \nTo subscribe to receive mission notices\, log into the National Site and click on the Mission Tab at the top. Select Upcoming Missions by State. Scroll to the state(s) you would like to receive notices for and click on the green check mark. Detailed instructions are also located in the FAQs on the site by clicking on the Quick Links Tab and selecting FAQs.
URL:https://www.patriotguard.org/mission/state-mission-request-for-19-jun-2017-from-new-york-frank-m-coburn/
CATEGORIES:Archive
END:VEVENT
END:VCALENDAR