BEGIN:VCALENDAR
VERSION:2.0
PRODID:-//Patriot Guard Riders - ECPv5.3.2.1//NONSGML v1.0//EN
CALSCALE:GREGORIAN
METHOD:PUBLISH
X-WR-CALNAME:Patriot Guard Riders
X-ORIGINAL-URL:https://www.patriotguard.org
X-WR-CALDESC:Events for Patriot Guard Riders
BEGIN:VTIMEZONE
TZID:America/New_York
BEGIN:DAYLIGHT
TZOFFSETFROM:-0500
TZOFFSETTO:-0400
TZNAME:EDT
DTSTART:20170312T070000
END:DAYLIGHT
BEGIN:STANDARD
TZOFFSETFROM:-0400
TZOFFSETTO:-0500
TZNAME:EST
DTSTART:20171105T060000
END:STANDARD
END:VTIMEZONE
BEGIN:VEVENT
DTSTART;TZID=America/New_York:20171018T131500
DTEND;TZID=America/New_York:20171018T151500
DTSTAMP:20210404T183857
CREATED:20171018T171500Z
LAST-MODIFIED:20191201T041146Z
UID:356934-1508332500-1508339700@www.patriotguard.org
SUMMARY:State Mission Request for 18 Oct 2017 from New York - James D. Martin
DESCRIPTION:Submitted by: \n\nMember Name: Ray Sestak\nPosition: Ride Captain\nCity\, State: Glenmont\, New York\nUser Name: PGRNYMods\nEmail: pgrnymod@gmail.com\n\nEmail Subject Line Setup\n[HR][/HR]Prefix to Use – Honor\nSubject Line – SHORT NOTICE –  James D. Martin \, Veteran\, USN  –  MULTI-CITY\, New York  – 18 Oct 2017\n[HR][/HR] \n\nSHORT NOTICE!\nMULTI-CITY! See Mod Instructions for Details\n\nMod Instructions: \n\n\n++++++++ Copy the Information above this line++++++++++ \n\nHonor Mission\n*** DO NOT REPLY ***  \nJames D. Martin\, Veteran\nUSN\nMULTI-CITY\, New York – 18 Oct 2017\n\n\n[HR][/HR]\nABOUT THE MISSION: \n\nMr. James D. Martin\, US Navy\, Vietnam Era veteran passed on October 18\, 2017. Mr. Martin served from 1971 to 1974\, with service aboard the USS Cascade\, a destroyer tender. \nMr. Martin has no known family\, so the Patriot Guard Riders will proudly fill that role.\n \n\nPRIMARY STAGING DETAILS:  18 Oct 2017\nPrimary Staging Time: 1:15 P.M. \n\nSimple Choices Funeral Home\n218 Second Avenue\nTroy\, New York – 12180\n\n\nRide Captain: \n\nDon Macomber\nmacombd@hotmail.com\n\n\nSpecial Instructions: \n\nStaging at the funeral hom eno later than 1:15 PM for KSU of 1:30 PM. There will be no funeral home involvement\, and PGR will lead the escort to Saratoga National.\n\n\nFlags & Water: \n\nFlags Will NOT Be Provided\, Please Bring Your Own.\nIf you have large bike flags\, please bring them.\nWater WILL NOT be provided\, please bring your own.\n\n[HR][/HR]STAGING #2 DETAILS: 18 Oct\, 2017\nStaging #2 Time: 1:00 P.M. \n\nSaratoga National Cemetery\n200 Duell Road\nSchuylerville\, New York – 12871\n\n\nRide Captain: \n\nDon Macomber\nmacombd@hotmail.com\n\n\nSpecial Instructions: \n\nStaging at the cemetery for a 2:30 PM service with full military honors. For those staging directly at the cemetery\, please do so quietly\, and be aware of any services in progress. Also please do not gather at the Visitors Center.\n\n\nFlags & Water: \n\nFlags Will NOT Be Provided\, Please Bring Your Own.\nLarge Bike Flags will NOT be needed\nWater WILL NOT be provided\, please bring your own.\n\n\nSubmitted By: Ray Sestak\nPosition: Ride Captain\n[HR][/HR]Note:\nYou do not have to own/ride a motorcycle or be a Veteran to join and membership is Free. The only requirement is RESPECT! To join\, simply go to www.PatriotGuard.org and click on Register. Membership is Free. \nTo subscribe to receive mission notices\, log into the National Site and click on the Mission Tab at the top. Select the Subscribe to Missions option.
URL:https://www.patriotguard.org/mission/state-mission-request-for-18-oct-2017-from-new-york-james-d-martin/
CATEGORIES:Archive
END:VEVENT
END:VCALENDAR