BEGIN:VCALENDAR
VERSION:2.0
PRODID:-//Patriot Guard Riders - ECPv5.3.2.1//NONSGML v1.0//EN
CALSCALE:GREGORIAN
METHOD:PUBLISH
X-WR-CALNAME:Patriot Guard Riders
X-ORIGINAL-URL:https://www.patriotguard.org
X-WR-CALDESC:Events for Patriot Guard Riders
BEGIN:VTIMEZONE
TZID:America/New_York
BEGIN:DAYLIGHT
TZOFFSETFROM:-0500
TZOFFSETTO:-0400
TZNAME:EDT
DTSTART:20170312T070000
END:DAYLIGHT
BEGIN:STANDARD
TZOFFSETFROM:-0400
TZOFFSETTO:-0500
TZNAME:EST
DTSTART:20171105T060000
END:STANDARD
END:VTIMEZONE
BEGIN:VEVENT
DTSTART;TZID=America/New_York:20170518T210000
DTEND;TZID=America/New_York:20170518T230000
DTSTAMP:20210404T155323
CREATED:20170519T010000Z
LAST-MODIFIED:20191201T043032Z
UID:366519-1495141200-1495148400@www.patriotguard.org
SUMMARY:State Mission Request for 18 May 2017 from Missouri - Honor Flight of KC
DESCRIPTION:Submitted by:\nMember Name:   Terry Hummel\nPosition:   Ride Captain\nCity\, State:   Kansas City\, Missouri\nUser Name:   sparrevohn\nEmail:   hummelterry@yahoo.com\n \nEmail Subject Line Setup\n\nPrefix to Use – HOTH\nSubject Line – SHORT NOTICE –  Honor Flight of KC \, Retired\, Veteran –  Kansas City\, Missouri  – 18 May 2017\n\n\nSHORT NOTICE!\n\n\n\n\n\n \n\nMod Instructions:\nThanks for what you do.\n\n++++++++ Copy the Information above this line++++++++++\n\n \nHOTH Mission\n\n*** DO NOT REPLY *** \nThis is an automated message sent to you because you have subscribed to this State’s Mission thread. For current details on this mission\, please follow the link below. \nHonor Flight of KC\, Retired\, Veteran \n\nKansas City\, Missouri – 18 May 2017\n \n\n\nABOUT THE MISSION:\nHonor Flight of KC is hosting another flight of veterans to our nations capital to visit the various war memorials.  Lets give them a great welcome home from their trip to our capital.   We meet in Lot “G” under the control tower at 9:00 p.m.\n\nPRIMARY STAGING DETAILS:  18 May 2017\n\nPrimary Staging Time:  9:00 P.M.\nKCI Lot “G” under the control tower.\nKansas City\, Missouri – 64155\n  \n\nRide Captain:\nJim “Goodnews” Williams\n816-262-8185\njwusaw@aol.com\n\nSpecial Instructions:\nStaging at 9:00 p.m. and will board the buses to the terminal at 9:15.\n\nFlags & Water:\nFlags Will Be Provided\nLarge Bike Flags will NOT be needed.\nWater WILL NOT be provided\, please bring your own. \nSubmitted By:  Terry Hummel\nPosition:  Ride Captain \n\nNote:\nYou do not have to own/ride a motorcycle or be a Veteran to join and membership is Free. The only requirement is RESPECT! To join\, simply go to www.PatriotGuard.org and click on Register. Membership is Free. \nTo subscribe to receive mission notices\, log into the National Site and click on the Mission Tab at the top. Select Upcoming Missions by State. Scroll to the state(s) you would like to receive notices for and click on the green check mark. Detailed instructions are also located in the FAQs on the site by clicking on the Quick Links Tab and selecting FAQs.
URL:https://www.patriotguard.org/mission/state-mission-request-for-18-may-2017-from-missouri-honor-flight-of-kc/
CATEGORIES:Archive
END:VEVENT
END:VCALENDAR