BEGIN:VCALENDAR
VERSION:2.0
PRODID:-//Patriot Guard Riders - ECPv5.3.2.1//NONSGML v1.0//EN
CALSCALE:GREGORIAN
METHOD:PUBLISH
X-WR-CALNAME:Patriot Guard Riders
X-ORIGINAL-URL:https://www.patriotguard.org
X-WR-CALDESC:Events for Patriot Guard Riders
BEGIN:VTIMEZONE
TZID:America/New_York
BEGIN:DAYLIGHT
TZOFFSETFROM:-0500
TZOFFSETTO:-0400
TZNAME:EDT
DTSTART:20170312T070000
END:DAYLIGHT
BEGIN:STANDARD
TZOFFSETFROM:-0400
TZOFFSETTO:-0500
TZNAME:EST
DTSTART:20171105T060000
END:STANDARD
END:VTIMEZONE
BEGIN:VEVENT
DTSTART;TZID=America/New_York:20170318T141500
DTEND;TZID=America/New_York:20170318T161500
DTSTAMP:20210401T203635
CREATED:20170318T181500Z
LAST-MODIFIED:20191201T043943Z
UID:370947-1489846500-1489853700@www.patriotguard.org
SUMMARY:State Mission Request for 18 Mar 2017 from Virginia - Robert Lee Arbaugh
DESCRIPTION:Submitted by:\nMember Name:   Jim McGinley\nPosition:   Assistant State Captain\nCity\, State:   Toano\, Virginia\nUser Name:   JW1\nEmail:   jbmcginley48@msn.com\n \nEmail Subject Line Setup\n\nPrefix to Use – Honor\nSubject Line –  American Heroes\, Veteran\, USN  –  MULTI-CITY\, Virginia  – 18 Mar 2017\n\n\n\nSTATEWIDE REQUIRED!\nMULTI-CITY! See Mod Instructions for Details\n\n\nAmerican Heroes Group Mission!\n \n\nMod Instructions:\n\n\n++++++++ Copy the Information above this line++++++++++\n\n \nHonor Mission\n\n*** DO NOT REPLY *** \nThis is an automated message sent to you because you have subscribed to this State’s Mission thread. For current details on this mission\, please follow the link below. \nAmerican Heroes\, Veteran \nUSN \nMULTI-CITY\, Virginia – 18 Mar 2017\n \n\n\nABOUT THE MISSION:\nRobert Lee Arbaugh\, PM2\, USN (veteran)\, WWII turns 90 years old on 16 March 2017.  PM2 Arbaugh served in the United States Navy as a pharmacist during the war in Guam assisting in the care of those shipmates that were wounded in the Pacific. \nHis one 90TH  birthday wish is to enjoy the day with friends and have a lot of noise.  So if weather permitting ride you’re Iron Horses and we shall grant this member of the Greatest Generation\, PM2 Robert Lee Arbaugh his wish. \nIf you know Mr. Arbaugh do not say anything to him\, it is a surprise birthday party.\n\nPRIMARY STAGING DETAILS:  18 Mar 2017\n\nPrimary Staging Time:  2:15 P.M.\nClaremont Baptist Church 100 River Rd\nClaremont\, Virginia – 23899\n  \n\nRide Captain:\nJim “DaBears” McGinley\njbmcginley48@msn.com\n757-790-9981\n\nSpecial Instructions:\n\n\nFlags & Water:\nFlags Will Be Provided\nIf you have large bike flags\, please bring them.\nWater WILL NOT be provided\, please bring your own. \nSubmitted By:  Jim McGinley\nPosition:  Assistant State Captain \n\nNote:\nYou do not have to own/ride a motorcycle or be a Veteran to join and membership is Free. The only requirement is RESPECT! To join\, simply go to Patriot Guard website and click on Register. Membership is Free. \nTo subscribe to receive mission notices\, log into the National Site and click on the Mission Tab at the top. Select Upcoming Missions by State. Scroll to the state(s) you would like to receive notices for and click on the green check mark. Detailed instructions are also located in the FAQs on the site by clicking on the Quick Links Tab and selecting FAQs.
URL:https://www.patriotguard.org/mission/state-mission-request-for-18-mar-2017-from-virginia-robert-lee-arbaugh/
CATEGORIES:Archive
END:VEVENT
END:VCALENDAR