BEGIN:VCALENDAR
VERSION:2.0
PRODID:-//Patriot Guard Riders - ECPv5.3.2.1//NONSGML v1.0//EN
CALSCALE:GREGORIAN
METHOD:PUBLISH
X-WR-CALNAME:Patriot Guard Riders
X-ORIGINAL-URL:https://www.patriotguard.org
X-WR-CALDESC:Events for Patriot Guard Riders
BEGIN:VTIMEZONE
TZID:America/New_York
BEGIN:DAYLIGHT
TZOFFSETFROM:-0500
TZOFFSETTO:-0400
TZNAME:EDT
DTSTART:20170312T070000
END:DAYLIGHT
BEGIN:STANDARD
TZOFFSETFROM:-0400
TZOFFSETTO:-0500
TZNAME:EST
DTSTART:20171105T060000
END:STANDARD
END:VTIMEZONE
BEGIN:VEVENT
DTSTART;TZID=America/New_York:20170318T103000
DTEND;TZID=America/New_York:20170318T123000
DTSTAMP:20210405T214952
CREATED:20170318T143000Z
LAST-MODIFIED:20191201T043854Z
UID:370553-1489833000-1489840200@www.patriotguard.org
SUMMARY:State Mission Request for 18 Mar 2017 from Kentucky - Cecil Doyle Atwood
DESCRIPTION:Submitted by:\nMember Name:   J.B. Reynolds\nPosition:   Ride Captain\nCity\, State:   Lexington\, Kentucky\nUser Name:   JBSgt\nEmail:   1jbadr@gmail.com\n \nEmail Subject Line Setup\n\nPrefix to Use – Honor\nSubject Line – SHORT NOTICE –  Cecil Doyle Atwood \, Veteran\, USA – Vietnam\,  MULTI-CITY\, Kentucky  – 18 Mar 2017\n\n\nSHORT NOTICE!\nSTATEWIDE REQUIRED!\nMULTI-CITY! See Mod Instructions for Details\n\n\n\n \n\nMod Instructions:\nHonor Escort from Versailles Ky to Caney Fork Cemetery Liberty Ky\n\n++++++++ Copy the Information above this line++++++++++\n\n \nHonor Mission\n\n*** DO NOT REPLY *** \nThis is an automated message sent to you because you have subscribed to this State’s Mission thread. For current details on this mission\, please follow the link below. \nCecil Doyle Atwood\, Veteran \nUSA  – Vietnam\nMULTI-CITY\, Kentucky – 18 Mar 2017\n \n\n\nABOUT THE MISSION:\nCecil Doyle Atwood\nUS Army\nVietnam Veteran \nThis is the escort for the previous service on Tuesday March 14th \nwe will be providing an Honor Escort From Versailles Ky to Liberty Ky to his Final Resting Place of Caney Fork Cemetery \nKick Stands Up at 1200 Noon from the staging location.\n\nPRIMARY STAGING DETAILS:  18 Mar 2017\n\nPrimary Staging Time:  1130 A.M.\nKMart/ OLD Kroger parking lot\n501 Marsailles Rd\nVersailles\, Kentucky – 40383\n  \n\nRide Captain:\nRC John Babcock\n(859)771-2140 \nRC Kelly Shehan\n(859)619-8158\n\nSpecial Instructions:\n\n\nFlags & Water:\nFlags Will Be Provided\nIf you have large bike flags\, please bring them.\nWater WILL NOT be provided\, please bring your own. \nSubmitted By:  J.B. Reynolds\nPosition:  Ride Captain \n\nNote:\nYou do not have to own/ride a motorcycle or be a Veteran to join and membership is Free. The only requirement is RESPECT! To join\, simply go to Patriot Guard website and click on Register. Membership is Free. \nTo subscribe to receive mission notices\, log into the National Site and click on the Mission Tab at the top. Select Upcoming Missions by State. Scroll to the state(s) you would like to receive notices for and click on the green check mark. Detailed instructions are also located in the FAQs on the site by clicking on the Quick Links Tab and selecting FAQs.
URL:https://www.patriotguard.org/mission/state-mission-request-for-18-mar-2017-from-kentucky-cecil-doyle-atwood/
END:VEVENT
END:VCALENDAR