BEGIN:VCALENDAR
VERSION:2.0
PRODID:-//Patriot Guard Riders - ECPv5.3.2.1//NONSGML v1.0//EN
CALSCALE:GREGORIAN
METHOD:PUBLISH
X-WR-CALNAME:Patriot Guard Riders
X-ORIGINAL-URL:https://www.patriotguard.org
X-WR-CALDESC:Events for Patriot Guard Riders
BEGIN:VTIMEZONE
TZID:America/New_York
BEGIN:DAYLIGHT
TZOFFSETFROM:-0500
TZOFFSETTO:-0400
TZNAME:EDT
DTSTART:20170312T070000
END:DAYLIGHT
BEGIN:STANDARD
TZOFFSETFROM:-0400
TZOFFSETTO:-0500
TZNAME:EST
DTSTART:20171105T060000
END:STANDARD
END:VTIMEZONE
BEGIN:VEVENT
DTSTART;TZID=America/New_York:20170318T090000
DTEND;TZID=America/New_York:20170318T110000
DTSTAMP:20210401T203151
CREATED:20170318T130000Z
LAST-MODIFIED:20191201T043914Z
UID:370705-1489827600-1489834800@www.patriotguard.org
SUMMARY:State Mission Request for 18 Mar 2017 from Alabama - Veterans War Memorial
DESCRIPTION:Submitted by:\nMember Name:   Lloyd Pursley\nPosition:   Ride Captain\nCity\, State:   Mobile\, Alabama\nUser Name:   lpursley46\nEmail:   lloydpursley@gmail.com\n \nEmail Subject Line Setup\n\nPrefix to Use – Dedication\nSubject Line –   Veterans War Memorial  –  Loxley\, Alabama  – 18 Mar 2017\n\n\n\n\n\n\n\n\n \n\nMod Instructions:\n\n\n++++++++ Copy the Information above this line++++++++++\n\n \nDedication Mission\n\n*** DO NOT REPLY *** \nThis is an automated message sent to you because you have subscribed to this State’s Mission thread. For current details on this mission\, please follow the link below. \nVeterans War Memorial \n\nLoxley\, Alabama – 18 Mar 2017\n \n\n\nABOUT THE MISSION:\nFellow Riders\, \nWe have been invited to attend the Dedication of the Veterans War Memorial in Silverhill\, AL that is sponsored by the Gear Jammers Club and the Town of Silverhill.  It will be our honor to stand a silent flag for this ceremony that begins at 10:00 a.m.  We shall have parking reserved for motorcycles.  We will fly BIG Flags from Raceway to Silverhill.\n\nPRIMARY STAGING DETAILS:  18 Mar 2017\n\nPrimary Staging Time:  9:00 A.M.\nRaceway Gas Station 12000 N. Hickory St.\n(intersection of I-10 and Hwy 59) South of I-10\nLoxley\, Alabama – 36551\n  \n\nRide Captain:\nDanny Thomley\ndbthonley@yahoo.com\n(251) 605-3040\n\nSpecial Instructions:\n0915 – Safety Briefing for all riders @ Raceway\n0930 – KSU to Silverhill \nMobile County Staging:\n0815 – Entrance to USS Battleship Alabama Park\n0830 – KSU\nFlags:  Lloyd Pursley\, DRC lloydpursley@gmail.com  (251) 422-0696\n\nFlags & Water:\nFlags Will Be Provided\nIf you have large bike flags\, please bring them.\nWater will be provided. \nSubmitted By:  Lloyd Pursley\nPosition:  Ride Captain \n\nNote:\nYou do not have to own/ride a motorcycle or be a Veteran to join and membership is Free. The only requirement is RESPECT! To join\, simply go to Patriot Guard website and click on Register. Membership is Free. \nTo subscribe to receive mission notices\, log into the National Site and click on the Mission Tab at the top. Select Upcoming Missions by State. Scroll to the state(s) you would like to receive notices for and click on the green check mark. Detailed instructions are also located in the FAQs on the site by clicking on the Quick Links Tab and selecting FAQs.
URL:https://www.patriotguard.org/mission/state-mission-request-for-18-mar-2017-from-alabama-veterans-war-memorial/
CATEGORIES:Archive
END:VEVENT
END:VCALENDAR