BEGIN:VCALENDAR
VERSION:2.0
PRODID:-//Patriot Guard Riders - ECPv5.3.2.1//NONSGML v1.0//EN
CALSCALE:GREGORIAN
METHOD:PUBLISH
X-WR-CALNAME:Patriot Guard Riders
X-ORIGINAL-URL:https://www.patriotguard.org
X-WR-CALDESC:Events for Patriot Guard Riders
BEGIN:VTIMEZONE
TZID:America/New_York
BEGIN:DAYLIGHT
TZOFFSETFROM:-0500
TZOFFSETTO:-0400
TZNAME:EDT
DTSTART:20170312T070000
END:DAYLIGHT
BEGIN:STANDARD
TZOFFSETFROM:-0400
TZOFFSETTO:-0500
TZNAME:EST
DTSTART:20171105T060000
END:STANDARD
END:VTIMEZONE
BEGIN:VEVENT
DTSTART;TZID=America/New_York:20170418T090000
DTEND;TZID=America/New_York:20170418T110000
DTSTAMP:20210403T110646
CREATED:20170418T130000Z
LAST-MODIFIED:20191201T043536Z
UID:368911-1492506000-1492513200@www.patriotguard.org
SUMMARY:State Mission Request for 18 Apr 2017 from New Mexico - Raymundo Gallegos
DESCRIPTION:Submitted by:\nMember Name:   Jim Ernst\nPosition:   State Captain\nCity\, State:   Alamogordo\, New Mexico\nUser Name:   Deacon Jim\nEmail:   jimernst@q.com\n \nEmail Subject Line Setup\n\nPrefix to Use – Honor\nSubject Line –   Raymundo Gallegos \, Veteran\, USA – WWII\,  Alamogordo\, New Mexico  – 18 Apr 2017\n\n\n\nSTATEWIDE REQUIRED!\n\n\n\n\n \n\nMod Instructions:\nPlease Post\n\n++++++++ Copy the Information above this line++++++++++\n\n \nHonor Mission\n\n*** DO NOT REPLY *** \nThis is an automated message sent to you because you have subscribed to this State’s Mission thread. For current details on this mission\, please follow the link below. \nRaymundo Gallegos\, Veteran \nUSA  – WWII\nAlamogordo\, New Mexico – 18 Apr 2017\n \n\n\nABOUT THE MISSION:\n96 year old Raymundo Gallegos passed away on 10 April 2017.  He is a WWII Veteran who earned a purple heart.  After leaving the Army he worked for 20 years in Civil Service as a Heavy Equipment Operator. \nThe Patriot Guard has been requested to provide a flag line at the Immaculate Conception Catholic Church prior to the rosary start\, followed by an escort to Immaculate Conception Catholic Cemetery\, and a flag line during Military Honors by the Army at the Cemetery.\n\nPRIMARY STAGING DETAILS:  18 Apr 2017\n\nPrimary Staging Time:  9:00 A.M.\nLowes GROCERY Store\n675 10th Street\nAlamogordo\, New Mexico – 88310\n  \n\nRide Captain:\nJim “Deacon Jim” Ernst\nNMPGR State Captain\njimernst@q.com\n575-430-3904\n\nSpecial Instructions:\nThe Rosary will begin at 0930 at Immaculate Conception Church\, 705 Delaware Avenue (corner of 8th Street) in Alamogordo\, NM.  Funeral Mass is at 1000. \nWe will rally at the Lowes GROCERY Store\, 675 10th Street at 0900 hours\, mission & safety briefing @ 0910 and KSU @ 0920.  I’d like to have the Flag line up by 0930 at the church. \nPlease be prepared for a long initial flag line in the morning heat and direct sunlight.  Water and flags will be provided. \nPlease do not reply if you can’t make it\, I know it’s a work day and I know you will all be there in spirit. It is strongly encouraged that everyone go to the mission thread and post a brief message of condolence/sympathy to the family on the loss of their loved one.  It is traditional that a copy of all the condolences be printed\, bound\, and given to the family as a remembrance to honor their loss.  It’s been mentioned more than once that those kind words brought great comfort to a Spouse\, Mother\, Father\, and family.   You simply don’t know how much these posts mean to the families.  I will forward the link as soon as I receive it.  Thank you! \nAll who are part of other groups\, please forward this Email as appropriate.  Please contact me with any questions.  Thank you all.\n\nFlags & Water:\nFlags Will Be Provided\nIf you have large bike flags\, please bring them.\nWater will be provided. \nSubmitted By:  Jim Ernst\nPosition:  State Captain \n\nNote:\nYou do not have to own/ride a motorcycle or be a Veteran to join and membership is Free. The only requirement is RESPECT! To join\, simply go to www.PatriotGuard.org and click on Register. Membership is Free. \nTo subscribe to receive mission notices\, log into the National Site and click on the Mission Tab at the top. Select Upcoming Missions by State. Scroll to the state(s) you would like to receive notices for and click on the green check mark. Detailed instructions are also located in the FAQs on the site by clicking on the Quick Links Tab and selecting FAQs.
URL:https://www.patriotguard.org/mission/state-mission-request-for-18-apr-2017-from-new-mexico-raymundo-gallegos/
CATEGORIES:Archive
END:VEVENT
END:VCALENDAR