BEGIN:VCALENDAR
VERSION:2.0
PRODID:-//Patriot Guard Riders - ECPv5.3.2.1//NONSGML v1.0//EN
CALSCALE:GREGORIAN
METHOD:PUBLISH
X-WR-CALNAME:Patriot Guard Riders
X-ORIGINAL-URL:https://www.patriotguard.org
X-WR-CALDESC:Events for Patriot Guard Riders
BEGIN:VTIMEZONE
TZID:America/New_York
BEGIN:DAYLIGHT
TZOFFSETFROM:-0500
TZOFFSETTO:-0400
TZNAME:EDT
DTSTART:20170312T070000
END:DAYLIGHT
BEGIN:STANDARD
TZOFFSETFROM:-0400
TZOFFSETTO:-0500
TZNAME:EST
DTSTART:20171105T060000
END:STANDARD
END:VTIMEZONE
BEGIN:VEVENT
DTSTART;TZID=America/New_York:20170917T064500
DTEND;TZID=America/New_York:20170917T084500
DTSTAMP:20210404T184000
CREATED:20170917T104500Z
LAST-MODIFIED:20191201T041559Z
UID:359082-1505630700-1505637900@www.patriotguard.org
SUMMARY:State Mission Request for 17 Sep 2017 from Florida - Project Miller 22+1 Ride
DESCRIPTION:Submitted by: \n\nMember Name: Ray Doyle\nPosition: Assistant State Captain\nCity\, State: Crestview\, Florida\nUser Name: Talon Chief\nEmail: retonaharley@gmail.com\n\nEmail Subject Line Setup\n[HR][/HR]Prefix to Use – HOTH\nSubject Line –  Project Miller 22+1 Ride  –  Fort Walton Beach\, Florida  – 17 Sep 2017\n[HR][/HR] \n\n\nMod Instructions: \n\n\n++++++++ Copy the Information above this line++++++++++ \n\nHOTH Mission\n*** DO NOT REPLY ***  \nProject Miller 22+1 Ride\n\nFort Walton Beach\, Florida – 17 Sep 2017\n\n\n[HR][/HR]\nABOUT THE MISSION: \n\nThe Patriot Guard Riders have been requested to participate in an awareness ride seeking to prevent veteran and active duty suicide.  The ride is called Project 22+1.  It represents the 22 Veterans and 1 active duty\, that commit suicide every single day. See attachment for more information about the project and the ride.\nThe ride started in Yuma Arizona\, September 1st and ends in Islip. New York on September 23rd.  It will be at Emerald Coast Harley Davidson\, Fort Walton Beach\, FL from 0900 till 1200\, 17 Sep. 2017 before departing for Jacksonville\, FL.\nThe Patriot Guard Riders will stand a flag line at Emerald Coast Harley Davidson for the arrival of the ride. Riders who would like to ride a leg (or more) of their mission with them would be welcomed but that would not be a PGR mission.\nNote: It is suggested that you wear long sleeve shirts\, long fingered gloves\, long trousers\, DOT approved helmets\, leather footwear covering the ankles\, and appropriate eye wear while operating a motorcycle as part of the PGR.\n\n\nPRIMARY STAGING DETAILS:  17 Sep 2017\nPrimary Staging Time: 0745 A.M. \n\nHardee’s\, 822 Beal Pkwy NW\nFort Walton Beach\, Florida –\n\n\nRide Captain: \n\nRay Doyle\, CMSgt (Ret) USAF\n850 902 0123\nretonaharley@gmail.com\n\n\nSpecial Instructions: \n\nNote: It is suggested that you wear long sleeve shirts\, long fingered gloves\, long trousers\, DOT approved helmets\, leather footwear covering the ankles\, and appropriate eye wear while operating a motorcycle as part of the PGR. \n0815 – Briefing all riders\n0830 – KSU to Emerald Coast Harley Davidson\, 788 Beal Pkwy NW\, Fort Walton Beach\, FL\n0845 – Set Flag Line\n\n\nFlags & Water: \n\nFlags Will Be Provided\nLarge Bike Flags will NOT be needed.\nWater WILL NOT be provided\, please bring your own.\n\nSubmitted By: Ray Doyle\nPosition: Assistant State Captain\n[HR][/HR]Note:\nYou do not have to own/ride a motorcycle or be a Veteran to join and membership is Free. The only requirement is RESPECT! To join\, simply go to www.PatriotGuard.org and click on Register. Membership is Free. \nTo subscribe to receive mission notices\, log into the National Site and click on the Mission Tab at the top. Select the Subscribe to Missions option.
URL:https://www.patriotguard.org/mission/state-mission-request-for-17-sep-2017-from-florida-project-miller-221-ride/
CATEGORIES:Archive
END:VEVENT
END:VCALENDAR