BEGIN:VCALENDAR
VERSION:2.0
PRODID:-//Patriot Guard Riders - ECPv5.3.2.1//NONSGML v1.0//EN
CALSCALE:GREGORIAN
METHOD:PUBLISH
X-WR-CALNAME:Patriot Guard Riders
X-ORIGINAL-URL:https://www.patriotguard.org
X-WR-CALDESC:Events for Patriot Guard Riders
BEGIN:VTIMEZONE
TZID:America/New_York
BEGIN:DAYLIGHT
TZOFFSETFROM:-0500
TZOFFSETTO:-0400
TZNAME:EDT
DTSTART:20170312T070000
END:DAYLIGHT
BEGIN:STANDARD
TZOFFSETFROM:-0400
TZOFFSETTO:-0500
TZNAME:EST
DTSTART:20171105T060000
END:STANDARD
END:VTIMEZONE
BEGIN:VEVENT
DTSTART;TZID=America/New_York:20171017T130000
DTEND;TZID=America/New_York:20171017T150000
DTSTAMP:20210402T030717
CREATED:20171017T170000Z
LAST-MODIFIED:20191201T040735Z
UID:354798-1508245200-1508252400@www.patriotguard.org
SUMMARY:State Mission Request for 17 Oct 2017 from Illinois - Richard A. Murray
DESCRIPTION:Submitted by: \n\nMember Name: David Gier\nPosition: Ride Captain\nCity\, State: Crestwood\, Illinois\nUser Name: Bike Dave\nEmail: davidbgier@sbcglobal.net\n\nEmail Subject Line Setup\n[HR][/HR]Prefix to Use – Honor\nSubject Line –  Richard A. Murray \, Veteran\, USN – Korea\,  Danville\, Illinois  – 17 Oct 2017\n[HR][/HR] \n\n\nMod Instructions: \n\n\n++++++++ Copy the Information above this line++++++++++ \n\nHonor Mission\n*** DO NOT REPLY ***  \nRichard A. Murray\, Veteran\nUSN  – Korea\nDanville\, Illinois – 17 Oct 2017\n\n\n[HR][/HR]\nABOUT THE MISSION: \n\nThe family of Richard Murray has asked the Patriot Guard to provide a flag line during his graveside services. Mr. Murray served in the U.S. Navy during the Korean War. Mr. Murray earned the United Nations Medal\, Korean War Medal\, National Defense Medal and the Naval Occupational Medal\n.\n\n\nPRIMARY STAGING DETAILS:  17 Oct 2017\nPrimary Staging Time: 1:00 P.M. \n\nDanville National Cemetery\,\n1900 East Main St.\nDanville\, Illinois –\n\n\nRide Captain: \n\nRide Captain: Pete Powell (217) 304- 1967\nSupport: Mike Longfellow (217) 260-4794\n\n\nSpecial Instructions: \n\nGraveside Services:\n17 Nov. 2017 1400 Hrs. (2:00 PM) \nStaging:\n\, Il. \nStaging Time:\n1300 Hrs. (1:00 PM) \nBriefing:\n1315 Hrs. (1:15 PM) \nFlag Line In Place:\nT.B.A.\n\n\nFlags & Water: \n\nFlags Will Be Provided\nLarge Bike Flags will NOT be needed.\nWater WILL NOT be provided\, please bring your own.\n\nSubmitted By: David Gier\nPosition: Ride Captain\n[HR][/HR]Note:\nYou do not have to own/ride a motorcycle or be a Veteran to join and membership is Free. The only requirement is RESPECT! To join\, simply go to www.PatriotGuard.org and click on Register. Membership is Free. \nTo subscribe to receive mission notices\, log into the National Site and click on the Mission Tab at the top. Select the Subscribe to Missions option.
URL:https://www.patriotguard.org/mission/state-mission-request-for-17-oct-2017-from-illinois-richard-a-murray/
LOCATION:Oak Ridge Thanksgiving parade
END:VEVENT
END:VCALENDAR