BEGIN:VCALENDAR
VERSION:2.0
PRODID:-//Patriot Guard Riders - ECPv5.3.2.1//NONSGML v1.0//EN
CALSCALE:GREGORIAN
METHOD:PUBLISH
X-WR-CALNAME:Patriot Guard Riders
X-ORIGINAL-URL:https://www.patriotguard.org
X-WR-CALDESC:Events for Patriot Guard Riders
BEGIN:VTIMEZONE
TZID:America/New_York
BEGIN:DAYLIGHT
TZOFFSETFROM:-0500
TZOFFSETTO:-0400
TZNAME:EDT
DTSTART:20170312T070000
END:DAYLIGHT
BEGIN:STANDARD
TZOFFSETFROM:-0400
TZOFFSETTO:-0500
TZNAME:EST
DTSTART:20171105T060000
END:STANDARD
END:VTIMEZONE
BEGIN:VEVENT
DTSTART;TZID=America/New_York:20170417T123000
DTEND;TZID=America/New_York:20170417T143000
DTSTAMP:20210402T031956
CREATED:20170417T163000Z
LAST-MODIFIED:20191201T043511Z
UID:368727-1492432200-1492439400@www.patriotguard.org
SUMMARY:State Mission Request for 17 Apr 2017 from Michigan - SP5 JOSEPH EDMOND FRIDAY SR\, 71
DESCRIPTION:Submitted by:\nMember Name:   Terrence Laurencelle\nPosition:   Ride Captain\nCity\, State:   Sterling Heights\, Michigan\nUser Name:   Vito4343\nEmail:   shpd146@comcast.net\n \nEmail Subject Line Setup\n\nPrefix to Use – Honor\nSubject Line – SHORT NOTICE –  SP5 JOSEPH EDMOND FRIDAY SR\, 71 \, Veteran\, USA \, USAR  –  Holly\, Michigan  – 17 Apr 2017\n\n\nSHORT NOTICE!\nSTATEWIDE REQUIRED!\n\n\n\n\n \n\nMod Instructions:\n\n\n++++++++ Copy the Information above this line++++++++++\n\n \nHonor Mission\n\n*** DO NOT REPLY *** \nThis is an automated message sent to you because you have subscribed to this State’s Mission thread. For current details on this mission\, please follow the link below. \nSP5 JOSEPH EDMOND FRIDAY SR\, 71\, Veteran \nUSA USAR \nHolly\, Michigan – 17 Apr 2017\n \n\n\nABOUT THE MISSION:\nThe Family of Joseph E. Friday Sr. has invited the Patriot Guard Riders to stand in Honor of his Service to our Country. Mr. Friday served three years and four months in the US Army during the Vietnam Era\, and was stationed in Korea. He was the recipient of the National Defense Service Medal\, a Good Conduct Medal\, and a Rifle Sharpshooter Badge. \nOBITUARY:  http://www.steuernolmclaren.com/obituaries/Joseph-Edmond-Friday-Sr?obId=1684140#/obituaryInfo\n\nPRIMARY STAGING DETAILS:  17 Apr 2017\n\nPrimary Staging Time:  12:30 P.M.\nMcDonald’s\n15187 N. Holly Rd.\nHolly\, Michigan – 48442\nhttps://goo.gl/maps/foYvHuLxAUD2  \n\nRide Captain:\nRC:	VITO (586) 909-6901\nshpd146@comcast.net\n\nSpecial Instructions:\nStaging:	12:30 PM\nBriefing:	1:20 PM\nKSU:	1:35 PM\n\nFlags & Water:\nFlags Will NOT Be Provided\, Please Bring Your Own.\nLarge Bike Flags will NOT be needed.\nWater WILL NOT be provided\, please bring your own. \nSubmitted By:  Terrence Laurencelle\nPosition:  Ride Captain \n\nNote:\nYou do not have to own/ride a motorcycle or be a Veteran to join and membership is Free. The only requirement is RESPECT! To join\, simply go to www.PatriotGuard.org and click on Register. Membership is Free. \nTo subscribe to receive mission notices\, log into the National Site and click on the Mission Tab at the top. Select Upcoming Missions by State. Scroll to the state(s) you would like to receive notices for and click on the green check mark. Detailed instructions are also located in the FAQs on the site by clicking on the Quick Links Tab and selecting FAQs.
URL:https://www.patriotguard.org/mission/state-mission-request-for-17-apr-2017-from-michigan-sp5-joseph-edmond-friday-sr-71/
CATEGORIES:Archive
END:VEVENT
END:VCALENDAR