BEGIN:VCALENDAR
VERSION:2.0
PRODID:-//Patriot Guard Riders - ECPv5.3.2.1//NONSGML v1.0//EN
CALSCALE:GREGORIAN
METHOD:PUBLISH
X-WR-CALNAME:Patriot Guard Riders
X-ORIGINAL-URL:https://www.patriotguard.org
X-WR-CALDESC:Events for Patriot Guard Riders
BEGIN:VTIMEZONE
TZID:America/New_York
BEGIN:DAYLIGHT
TZOFFSETFROM:-0500
TZOFFSETTO:-0400
TZNAME:EDT
DTSTART:20170312T070000
END:DAYLIGHT
BEGIN:STANDARD
TZOFFSETFROM:-0400
TZOFFSETTO:-0500
TZNAME:EST
DTSTART:20171105T060000
END:STANDARD
END:VTIMEZONE
BEGIN:VEVENT
DTSTART;TZID=America/New_York:20170516T080000
DTEND;TZID=America/New_York:20170516T100000
DTSTAMP:20210403T114834
CREATED:20170516T120000Z
LAST-MODIFIED:20191201T043122Z
UID:366897-1494921600-1494928800@www.patriotguard.org
SUMMARY:State Mission Request for 16 May 2017 from West Virginia - Cpl Cory Michael Starliper - Inwood\, WV
DESCRIPTION:Submitted by:\nMember Name:   Joe Cumblidge\nPosition:   State Captain\nCity\, State:   Parkersburg\, West Virginia\nUser Name:   ultraclassic\nEmail:   wvugo2001@suddenlink.net\n \nEmail Subject Line Setup\n\nPrefix to Use – Honor\nSubject Line –   Cpl Cory Michael Starliper – Inwood\, WV \, Veteran\, USMC \, USMCR \, Fire – WoT\,  MULTI-CITY\, West Virginia  – 16 May 2017\n\n\n\n\nMULTI-CITY! See Mod Instructions for Details\n\n\n\n \n\nMod Instructions:\nPlease post in WV\, PA and MD forums\n\n++++++++ Copy the Information above this line++++++++++\n\n \nHonor Mission\n\n*** DO NOT REPLY *** \nThis is an automated message sent to you because you have subscribed to this State’s Mission thread. For current details on this mission\, please follow the link below. \nCpl Cory Michael Starliper – Inwood\, WV\, Veteran \nUSMC USMCR Fire  – WoT\nMULTI-CITY\, West Virginia – 16 May 2017\n \n\n\nABOUT THE MISSION:\nThe Patriot Guard Riders have been invited to stand in silent Honor and Respect for Cpl Cory M. Starliper\, USMC/USMCR/Volunteer Firefighter\, during his final services and interment on Tuesday\, 16 May 17.  Cory went to be with the Lord on 10 May 17. \nHe served honorably with the U.S. Marines in the Global War on Terror\, being honorably discharged in August 2016 but remaining a part of the inactive Reserves.  He was also an active member of the Middleway\, WV VFD. \nServices will be held at Brown’s Funeral Home South Berkley Chapel\, 287 Arden Nollville Road\, Inwood\, WV on Tuesday\, 16 May\, beginning at 1030. \nEscort will be provided to Pleasant View Memory Gardens\, 2938 Charles Town Rd.\, Kearneysville\, WV.\n\nPRIMARY STAGING DETAILS:  16 May 2017\n\nPrimary Staging Time:  0900 A.M.\nBrown’s Funeral Home South Berkley Chapel\n287 Arden Noville Rd.\nInwood\, WV\nInwood\, West Virginia – 25428\nhttp://tinyurl.com/lg5nndq  \n\nRide Captain:\nRide Captain assignment is pending.\n\nSpecial Instructions:\nMission brief: 0915. \nFlag line will be in place NLT 0930 and maintained until start of services at 1030. \nAt the conclusion of services\, flag line we be set for the dignified transfer to the hearse. \nWe will be providing escort to the cemetery along with the Middleway VFD.  PGR will be in the lead. \nUpon arrival at the cemetery\, flag line will be set and maintained during graveside services. \nWeather forecast for Tuesday is calling for sunny skies and temperatures around 80.  Please dress and travel accordingly.\n\nFlags & Water:\nFlags Will NOT Be Provided\, Please Bring Your Own.\nIf you have large bike flags\, please bring them.\nWater WILL NOT be provided\, please bring your own. \nSubmitted By:  Joe Cumblidge\nPosition:  State Captain \n\nNote:\nYou do not have to own/ride a motorcycle or be a Veteran to join and membership is Free. The only requirement is RESPECT! To join\, simply go to www.PatriotGuard.org and click on Register. Membership is Free. \nTo subscribe to receive mission notices\, log into the National Site and click on the Mission Tab at the top. Select Upcoming Missions by State. Scroll to the state(s) you would like to receive notices for and click on the green check mark. Detailed instructions are also located in the FAQs on the site by clicking on the Quick Links Tab and selecting FAQs.
URL:https://www.patriotguard.org/mission/state-mission-request-for-16-may-2017-from-west-virginia-cpl-cory-michael-starliper-inwood-wv/
CATEGORIES:Archive
END:VEVENT
END:VCALENDAR