BEGIN:VCALENDAR
VERSION:2.0
PRODID:-//Patriot Guard Riders - ECPv5.3.2.1//NONSGML v1.0//EN
CALSCALE:GREGORIAN
METHOD:PUBLISH
X-WR-CALNAME:Patriot Guard Riders
X-ORIGINAL-URL:https://www.patriotguard.org
X-WR-CALDESC:Events for Patriot Guard Riders
BEGIN:VTIMEZONE
TZID:America/New_York
BEGIN:DAYLIGHT
TZOFFSETFROM:-0500
TZOFFSETTO:-0400
TZNAME:EDT
DTSTART:20170312T070000
END:DAYLIGHT
BEGIN:STANDARD
TZOFFSETFROM:-0400
TZOFFSETTO:-0500
TZNAME:EST
DTSTART:20171105T060000
END:STANDARD
END:VTIMEZONE
BEGIN:VEVENT
DTSTART;TZID=America/New_York:20170516T081500
DTEND;TZID=America/New_York:20170516T101500
DTSTAMP:20210404T193343
CREATED:20170516T121500Z
LAST-MODIFIED:20191201T043113Z
UID:366823-1494922500-1494929700@www.patriotguard.org
SUMMARY:State Mission Request for 16 May 2017 from Texas - Bob Jackson Vogels
DESCRIPTION:Submitted by:\nMember Name:   M. B. Ingersoll\nPosition:   Ride Captain\nCity\, State:   Waxahachie\, Texas\nUser Name:   BluHog\nEmail:   bluhog@gmail.com\n \nEmail Subject Line Setup\n\nPrefix to Use – Honor\nSubject Line –   Bob Jackson Vogels \, Veteran\, USA  –  Dallas\, Texas  – 16 May 2017\n\n\n\n\n\n\n\n\n \n\nMod Instructions:\n\n\n++++++++ Copy the Information above this line++++++++++\n\n \nHonor Mission\n\n*** DO NOT REPLY *** \nThis is an automated message sent to you because you have subscribed to this State’s Mission thread. For current details on this mission\, please follow the link below. \nBob Jackson Vogels\, Veteran \nUSA \nDallas\, Texas – 16 May 2017\n \n\n\nABOUT THE MISSION:\nUS Army from March 1962 until July 1964. \nThe family of Bob Jackson Vogels has asked the Patriot Guard Riders to stand a flag line at the inurnment service at DFW National Cemetery.\n\nPRIMARY STAGING DETAILS:  16 May 2017\n\nPrimary Staging Time:  0915 A.M.\nDallas-Fort Worth National Cemetery\n2000 Mountain Creek Parkway\nDallas\, Texas – 75211\n  \n\nRide Captain:\nTed Waldron\nted43@flash.net\n(817) 689-3321\n\nSpecial Instructions:\nRiders will stage at the Information Center at DFW National Cemetery. Honor bikes will be selected\, a briefing conducted and then riders will move to the appropriate shelter to set flags and await the arrival of Mr. Vogels\, family and friends. After the service\, flags will be furled and stowed\, a debriefing held and riders will be dismissed.\n\nFlags & Water:\nFlags Will Be Provided\nIf you have large bike flags\, please bring them.\nWater will be provided. \nSubmitted By:  M. B. Ingersoll\nPosition:  Ride Captain \n\nNote:\nYou do not have to own/ride a motorcycle or be a Veteran to join and membership is Free. The only requirement is RESPECT! To join\, simply go to www.PatriotGuard.org and click on Register. Membership is Free. \nTo subscribe to receive mission notices\, log into the National Site and click on the Mission Tab at the top. Select Upcoming Missions by State. Scroll to the state(s) you would like to receive notices for and click on the green check mark. Detailed instructions are also located in the FAQs on the site by clicking on the Quick Links Tab and selecting FAQs.
URL:https://www.patriotguard.org/mission/state-mission-request-for-16-may-2017-from-texas-bob-jackson-vogels/
LOCATION:Robert Thomas “Bob” Copling
CATEGORIES:Archive
END:VEVENT
END:VCALENDAR