BEGIN:VCALENDAR
VERSION:2.0
PRODID:-//Patriot Guard Riders - ECPv5.3.2.1//NONSGML v1.0//EN
CALSCALE:GREGORIAN
METHOD:PUBLISH
X-WR-CALNAME:Patriot Guard Riders
X-ORIGINAL-URL:https://www.patriotguard.org
X-WR-CALDESC:Events for Patriot Guard Riders
BEGIN:VTIMEZONE
TZID:America/New_York
BEGIN:DAYLIGHT
TZOFFSETFROM:-0500
TZOFFSETTO:-0400
TZNAME:EDT
DTSTART:20170312T070000
END:DAYLIGHT
BEGIN:STANDARD
TZOFFSETFROM:-0400
TZOFFSETTO:-0500
TZNAME:EST
DTSTART:20171105T060000
END:STANDARD
END:VTIMEZONE
BEGIN:VEVENT
DTSTART;TZID=America/New_York:20170516T130000
DTEND;TZID=America/New_York:20170516T150000
DTSTAMP:20210404T143021
CREATED:20170516T170000Z
LAST-MODIFIED:20191201T043052Z
UID:366679-1494939600-1494946800@www.patriotguard.org
SUMMARY:State Mission Request for 16 May 2017 from Oregon - Donald Ray Daugherty
DESCRIPTION:Submitted by:\nMember Name:   John Hanan II\nPosition:   State Captain\nCity\, State:   Lake Oswego\, Oregon\nUser Name:   USAF6367\nEmail:   John@JH2design.com\n \nEmail Subject Line Setup\n\nPrefix to Use – Honor\nSubject Line – SHORT NOTICE –  Donald Ray Daugherty \, Veteran\, USN – Vietnam\,  Portland\, Oregon  – 16 May 2017\n\n\nSHORT NOTICE!\n\n\n\n\n\n \n\nMod Instructions:\n\n\n++++++++ Copy the Information above this line++++++++++\n\n \nHonor Mission\n\n*** DO NOT REPLY *** \nThis is an automated message sent to you because you have subscribed to this State’s Mission thread. For current details on this mission\, please follow the link below. \nDonald Ray Daugherty\, Veteran \nUSN  – Vietnam\nPortland\, Oregon – 16 May 2017\n \n\n\nABOUT THE MISSION:\nLadies and Gentlemen of the Patriot Guard Riders\, we have been requested to stand for Donald Ray Daugherty\, age 78.  Donald was based in Japan as an AE6. Officially\, he was assigned to an A-26 squadron doing reconnaissance. He served in the Navy in Special Forces as a “frogman” (pre-SEALs). Twelve years ago his missions were declassified. He served mainly in North Vietnam frustrating the supply lines to South Vietnam from China. He overcame many harrowing missions including several airdrops over enemy territory. Shortly after his term of service ended\, he found a relationship with Jesus Christ and gave his life over to gospel ministry. He was a pastor for 38 years. During that time he started or pastored 4 different churches in OR and WA. Please join us as we help support his family\, pay our respects\, and honor his service to our nation.\n\nPRIMARY STAGING DETAILS:  16 May 2017\n\nPrimary Staging Time:  1:00 P.M.\nWillamette National Cemetery\n11800 SE Mt Scott Blvd\nPortland\, Oregon – 97086\n  \n\nRide Captain:\nBlue Bickford\ndrbluepsu@gmail.com\n\nSpecial Instructions:\nMeet up top at the Rostrum by the flagpole. Please enter the cemetery through Gate 2 – across from Lincoln Memorial. \nBriefing: 1:20 pm\nKSU: 1:30 pm\nFlagline Set: 1:45 pm\nService Begins: 2:00 pm \n*** There will be a RHG from the cortege to the shelter.\n\nFlags & Water:\nFlags Will NOT Be Provided\, Please Bring Your Own.\nIf you have large bike flags\, please bring them.\nWater WILL NOT be provided\, please bring your own. \nSubmitted By:  John Hanan II\nPosition:  State Captain \n\nNote:\nYou do not have to own/ride a motorcycle or be a Veteran to join and membership is Free. The only requirement is RESPECT! To join\, simply go to www.PatriotGuard.org and click on Register. Membership is Free. \nTo subscribe to receive mission notices\, log into the National Site and click on the Mission Tab at the top. Select Upcoming Missions by State. Scroll to the state(s) you would like to receive notices for and click on the green check mark. Detailed instructions are also located in the FAQs on the site by clicking on the Quick Links Tab and selecting FAQs.
URL:https://www.patriotguard.org/mission/state-mission-request-for-16-may-2017-from-oregon-donald-ray-daugherty/
LOCATION:John Raymond Jones
CATEGORIES:Archive
END:VEVENT
END:VCALENDAR