BEGIN:VCALENDAR
VERSION:2.0
PRODID:-//Patriot Guard Riders - ECPv5.3.2.1//NONSGML v1.0//EN
CALSCALE:GREGORIAN
METHOD:PUBLISH
X-WR-CALNAME:Patriot Guard Riders
X-ORIGINAL-URL:https://www.patriotguard.org
X-WR-CALDESC:Events for Patriot Guard Riders
BEGIN:VTIMEZONE
TZID:America/New_York
BEGIN:DAYLIGHT
TZOFFSETFROM:-0500
TZOFFSETTO:-0400
TZNAME:EDT
DTSTART:20170312T070000
END:DAYLIGHT
BEGIN:STANDARD
TZOFFSETFROM:-0400
TZOFFSETTO:-0500
TZNAME:EST
DTSTART:20171105T060000
END:STANDARD
END:VTIMEZONE
BEGIN:VEVENT
DTSTART;TZID=America/New_York:20170516T124500
DTEND;TZID=America/New_York:20170516T144500
DTSTAMP:20210405T233149
CREATED:20170516T164500Z
LAST-MODIFIED:20191201T043107Z
UID:366784-1494938700-1494945900@www.patriotguard.org
SUMMARY:State Mission Request for 16 May 2017 from Oklahoma - Kenneth Johnson
DESCRIPTION:Submitted by:\nMember Name:   Ronnie Smith\nPosition:   Ride Captain\nCity\, State:   Durant\, Oklahoma\nUser Name:   Chief49\nEmail:   r_ssmith@yahoo.com\n \nEmail Subject Line Setup\n\nPrefix to Use – Honor\nSubject Line – SHORT NOTICE –  Kenneth Johnson \, Veteran\, ANG  –  MULTI-CITY\, Oklahoma  – 16 May 2017\n\n\nSHORT NOTICE!\n\nMULTI-CITY! See Mod Instructions for Details\n\n\n\n \n\nMod Instructions:\n\n\n++++++++ Copy the Information above this line++++++++++\n\n \nHonor Mission\n\n*** DO NOT REPLY *** \nThis is an automated message sent to you because you have subscribed to this State’s Mission thread. For current details on this mission\, please follow the link below. \nKenneth Johnson\, Veteran \nANG \nMULTI-CITY\, Oklahoma – 16 May 2017\n \n\n\nABOUT THE MISSION:\nThe family of Kenneth Johnson OKANG Veteran has asked the Patriot Guard Riders to stand a Flag Line at his Funeral Service to be held on Tuesday 16 May 2017 in Durant\, OK. Services will be held at the Brown’s Funeral Home Chapel 4900 W. Hwy 70 Durant\, OK at 2:00pm. We will escort the hero to Achille Cemetery for interment. The Patriot Guard Riders has been requested to conduct Military Honors.\n\nPRIMARY STAGING DETAILS:  16 May 2017\n\nPrimary Staging Time:  12:45 P.M.\nBrown’s Funeral Service\n4900 W. US Hwy 70\nDurant\, Oklahoma – 74701\n  \n\nRide Captain:\nRonnie ”Chief” Smith\nr_ssmith@yahoo.com\n580-380-7004\n\nSpecial Instructions:\nMANDATORY BRIEFING: 1:15pm \nYOU MUST ATTEND THE BRIEFING TO RIDE IN THE ESCORT. \nFLAG LINE: 1:30pm \nWEATHER: Temp Low 64 High 82 Sunny Please dress accordingly Hydrate\n\nFlags & Water:\nFlags Will Be Provided\nIf you have large bike flags\, please bring them.\nWater will be provided. \nSubmitted By:  Ronnie Smith\nPosition:  Ride Captain \n\nNote:\nYou do not have to own/ride a motorcycle or be a Veteran to join and membership is Free. The only requirement is RESPECT! To join\, simply go to www.PatriotGuard.org and click on Register. Membership is Free. \nTo subscribe to receive mission notices\, log into the National Site and click on the Mission Tab at the top. Select Upcoming Missions by State. Scroll to the state(s) you would like to receive notices for and click on the green check mark. Detailed instructions are also located in the FAQs on the site by clicking on the Quick Links Tab and selecting FAQs.
URL:https://www.patriotguard.org/mission/state-mission-request-for-16-may-2017-from-oklahoma-kenneth-johnson/
CATEGORIES:Archive
END:VEVENT
END:VCALENDAR